BEGIN:VCALENDAR
VERSION:2.0
PRODID:-//Interfaith Council of Greater Sacramento - ECPv6.15.20//NONSGML v1.0//EN
CALSCALE:GREGORIAN
METHOD:PUBLISH
X-WR-CALNAME:Interfaith Council of Greater Sacramento
X-ORIGINAL-URL:https://sacramentointerfaith.org
X-WR-CALDESC:Events for Interfaith Council of Greater Sacramento
REFRESH-INTERVAL;VALUE=DURATION:PT1H
X-Robots-Tag:noindex
X-PUBLISHED-TTL:PT1H
BEGIN:VTIMEZONE
TZID:America/Los_Angeles
BEGIN:DAYLIGHT
TZOFFSETFROM:-0800
TZOFFSETTO:-0700
TZNAME:PDT
DTSTART:20220313T100000
END:DAYLIGHT
BEGIN:STANDARD
TZOFFSETFROM:-0700
TZOFFSETTO:-0800
TZNAME:PST
DTSTART:20221106T090000
END:STANDARD
BEGIN:DAYLIGHT
TZOFFSETFROM:-0800
TZOFFSETTO:-0700
TZNAME:PDT
DTSTART:20230312T100000
END:DAYLIGHT
BEGIN:STANDARD
TZOFFSETFROM:-0700
TZOFFSETTO:-0800
TZNAME:PST
DTSTART:20231105T090000
END:STANDARD
BEGIN:DAYLIGHT
TZOFFSETFROM:-0800
TZOFFSETTO:-0700
TZNAME:PDT
DTSTART:20240310T100000
END:DAYLIGHT
BEGIN:STANDARD
TZOFFSETFROM:-0700
TZOFFSETTO:-0800
TZNAME:PST
DTSTART:20241103T090000
END:STANDARD
END:VTIMEZONE
BEGIN:VEVENT
DTSTART;VALUE=DATE:20230430
DTEND;VALUE=DATE:20230501
DTSTAMP:20260425T200353
CREATED:20230104T171135Z
LAST-MODIFIED:20230104T171135Z
UID:4540-1682812800-1682899199@sacramentointerfaith.org
SUMMARY:St. James the Great Day - Orthodox Christian
DESCRIPTION:
URL:https://sacramentointerfaith.org/event/st-james-the-great-day-orthodox-christian-2/
CATEGORIES:Interfaith Calendar
END:VEVENT
BEGIN:VEVENT
DTSTART;VALUE=DATE:20230429
DTEND;VALUE=DATE:20230430
DTSTAMP:20260425T200353
CREATED:20230104T171110Z
LAST-MODIFIED:20230104T171110Z
UID:4538-1682726400-1682812799@sacramentointerfaith.org
SUMMARY:Ninth Day of Ridvan * - Baha'i
DESCRIPTION:
URL:https://sacramentointerfaith.org/event/ninth-day-of-ridvan-bahai-2/
CATEGORIES:Interfaith Calendar
END:VEVENT
BEGIN:VEVENT
DTSTART;TZID=America/Los_Angeles:20230425T173000
DTEND;TZID=America/Los_Angeles:20230425T183000
DTSTAMP:20260425T200353
CREATED:20230102T172353Z
LAST-MODIFIED:20230102T172353Z
UID:4424-1682443800-1682447400@sacramentointerfaith.org
SUMMARY:Board Meeting
DESCRIPTION:Email Secretary@sacramentointerfaith.org for further information
URL:https://sacramentointerfaith.org/event/board-meeting-22/
CATEGORIES:Event
END:VEVENT
BEGIN:VEVENT
DTSTART;VALUE=DATE:20230425
DTEND;VALUE=DATE:20230426
DTSTAMP:20260425T200353
CREATED:20230104T171043Z
LAST-MODIFIED:20230104T171043Z
UID:4536-1682380800-1682467199@sacramentointerfaith.org
SUMMARY:Saint Mark\, Apostle and Evangelist - Christian
DESCRIPTION:
URL:https://sacramentointerfaith.org/event/saint-mark-apostle-and-evangelist-christian/
CATEGORIES:Interfaith Calendar
END:VEVENT
BEGIN:VEVENT
DTSTART;VALUE=DATE:20230423
DTEND;VALUE=DATE:20230424
DTSTAMP:20260425T200353
CREATED:20230104T171020Z
LAST-MODIFIED:20230104T171020Z
UID:4534-1682208000-1682294399@sacramentointerfaith.org
SUMMARY:St. George's Day - Christian
DESCRIPTION:
URL:https://sacramentointerfaith.org/event/st-georges-day-christian-2/
CATEGORIES:Interfaith Calendar
END:VEVENT
BEGIN:VEVENT
DTSTART;VALUE=DATE:20230421
DTEND;VALUE=DATE:20230422
DTSTAMP:20260425T200353
CREATED:20230104T170957Z
LAST-MODIFIED:20230104T170957Z
UID:4532-1682035200-1682121599@sacramentointerfaith.org
SUMMARY:First Day of Ridvan * - Baha'i
DESCRIPTION:
URL:https://sacramentointerfaith.org/event/first-day-of-ridvan-bahai-2/
CATEGORIES:Interfaith Calendar
END:VEVENT
BEGIN:VEVENT
DTSTART;VALUE=DATE:20230421
DTEND;VALUE=DATE:20230422
DTSTAMP:20260425T200353
CREATED:20230104T164827Z
LAST-MODIFIED:20230104T164827Z
UID:4521-1682035200-1682121599@sacramentointerfaith.org
SUMMARY:Eid-ul-Fitr 1444 AH - Islam
DESCRIPTION:
URL:https://sacramentointerfaith.org/event/eid-ul-fitr-1444-ah-islam/
CATEGORIES:Interfaith Calendar
END:VEVENT
BEGIN:VEVENT
DTSTART;VALUE=DATE:20230416
DTEND;VALUE=DATE:20230417
DTSTAMP:20260425T200353
CREATED:20230104T170935Z
LAST-MODIFIED:20230104T170935Z
UID:4529-1681603200-1681689599@sacramentointerfaith.org
SUMMARY:Theravadin New Year 3 days ** - Buddhism
DESCRIPTION:
URL:https://sacramentointerfaith.org/event/theravadin-new-year-3-days-buddhism-2/
CATEGORIES:Interfaith Calendar
END:VEVENT
BEGIN:VEVENT
DTSTART;VALUE=DATE:20230414
DTEND;VALUE=DATE:20230415
DTSTAMP:20260425T200353
CREATED:20230104T170914Z
LAST-MODIFIED:20230104T170914Z
UID:4527-1681430400-1681516799@sacramentointerfaith.org
SUMMARY:Baisakhi (Vaisakhi) - Sikh
DESCRIPTION:
URL:https://sacramentointerfaith.org/event/baisakhi-vaisakhi-sikh-2/
CATEGORIES:Interfaith Calendar
END:VEVENT
BEGIN:VEVENT
DTSTART;VALUE=DATE:20230409
DTEND;VALUE=DATE:20230410
DTSTAMP:20260425T200353
CREATED:20230104T170843Z
LAST-MODIFIED:20230104T170843Z
UID:4525-1680998400-1681084799@sacramentointerfaith.org
SUMMARY:Easter - Christian
DESCRIPTION:
URL:https://sacramentointerfaith.org/event/easter-christian/
CATEGORIES:Interfaith Calendar
END:VEVENT
BEGIN:VEVENT
DTSTART;TZID=America/Los_Angeles:20230328T173000
DTEND;TZID=America/Los_Angeles:20230328T183000
DTSTAMP:20260425T200353
CREATED:20230102T172323Z
LAST-MODIFIED:20230102T172704Z
UID:4422-1680024600-1680028200@sacramentointerfaith.org
SUMMARY:Board Meeting
DESCRIPTION:Email Secretary@sacramentointerfaith.org for further information
URL:https://sacramentointerfaith.org/event/board-meeting-21/
CATEGORIES:Event
END:VEVENT
BEGIN:VEVENT
DTSTART;VALUE=DATE:20230326
DTEND;VALUE=DATE:20230327
DTSTAMP:20260425T200353
CREATED:20230104T164635Z
LAST-MODIFIED:20230104T164635Z
UID:4515-1679788800-1679875199@sacramentointerfaith.org
SUMMARY:Khordad Sal (Birth of Prophet Zaranthushtra) Zoroastrian
DESCRIPTION:
URL:https://sacramentointerfaith.org/event/khordad-sal-birth-of-prophet-zaranthushtra-zoroastrian-2/
CATEGORIES:Interfaith Calendar
END:VEVENT
BEGIN:VEVENT
DTSTART;VALUE=DATE:20230325
DTEND;VALUE=DATE:20230326
DTSTAMP:20260425T200353
CREATED:20230104T164613Z
LAST-MODIFIED:20230104T164613Z
UID:4513-1679702400-1679788799@sacramentointerfaith.org
SUMMARY:Annunciation of the Blessed Virgin Mary - Christian
DESCRIPTION:
URL:https://sacramentointerfaith.org/event/annunciation-of-the-blessed-virgin-mary-christian/
CATEGORIES:Interfaith Calendar
END:VEVENT
BEGIN:VEVENT
DTSTART;VALUE=DATE:20230323
DTEND;VALUE=DATE:20230324
DTSTAMP:20260425T200353
CREATED:20230104T164746Z
LAST-MODIFIED:20230104T164746Z
UID:4519-1679529600-1679615999@sacramentointerfaith.org
SUMMARY:Ramadan 1444 AH - Islam
DESCRIPTION:
URL:https://sacramentointerfaith.org/event/ramadan-1444-ah-islam/
CATEGORIES:Interfaith Calendar
END:VEVENT
BEGIN:VEVENT
DTSTART;TZID=America/Los_Angeles:20230322T190000
DTEND;TZID=America/Los_Angeles:20230322T203000
DTSTAMP:20260425T200353
CREATED:20230215T151949Z
LAST-MODIFIED:20230215T151949Z
UID:4737-1679511600-1679517000@sacramentointerfaith.org
SUMMARY:Exploring The Sacred | A Life of Purpose
DESCRIPTION:Join us on Wednesday\, March 22nd\, 2023\, for another evening of general listening with Akram Keval\, Rev. Magie Buck\, Manal Keval\, and Rev. Dr. Portia Hopkins. \nJoin The Zoom Meeting\nhttps://zoom.us/j/94740768320 \n  \nSpeakers\nAkram Keval \nFormer Board member of The Interfaith Council of Sacramento-2015- 2023\nFormer Faith Committee Chair at Habitat for Humanity – Sacramento Chapter-2016-2022\nFormer Social Activities Director at Muslim Community Youth Center( MCYC) – Elk Grove\nNeighborhood Watch program Captain\nCitizen Academy graduate from Elk Grove Police Department and FBI Sacramento\nFounder and Current Vice President of The Interfaith Council of Elk Grove\nAn active member of the SALAM Islamic Center and MCYC Mosque in Elk Grove \nRev\, Magie Buck \nSenior Minister\, Foothill Center for Spiritual Living\, Auburn\, CA\nOrdained in 2000 and became Senior Minister in Auburn and served to the current time. \nManal Keval \nI am 25. I graduated from CSU East Bay in 2020 with a Bachelor’s in Liberal Studies. After completing my Bachelor’s\, I earned my teaching credential at UC Davis in 2022 and began teaching 3rd grade at Samuel Kennedy in the Elk Grove Unified School District. I am currently a first-year teacher and am on track to earn my Master’s in Education at UC Davis in March of 2023. Aside from education\, I appreciate spending endless amounts of time surrounded by my family. I enjoy playing cards and being outdoors with them. I love animals\, especially my 10 yr. old Belgian Malinois\, Roo. I also love experimenting in the kitchen and inviting my loved ones over to share meals. A fun fact about me: I share a birthday with my dad\, December 24th! \nRev. Dr. Portia Hopkins  \nWannabe writer. Lapsed academic. Bemused priest.\nThe Rev. Dr. Portia Hopkins is Chaplain at The Belfry. She left a longtime career as an academic to embark on a new journey of discovery\, not just of herself but discovery of what a space like The Belfry might become for others. Portia comes to The Belfry after many years as a university English professor and administrator. Her call to priesthood in the Episcopal Church came as something of a surprise to her. She brings many years of experience not only as an administrator and teacher but as an informal pastor and spiritual companion to university students and faculty and is excited to exercise those gifts at The Belfry.\nPortia is a family to three adult sons and their partners\, one perfect grandson\, and a dog-mom to Belfry Dog Scout. She loves to read\, write\, think\, take long walks and hikes\, and hang out with old friends\, or friends-she-hasn’t-met-yet. Her natural habitats are anywhere outside\, especially the beach or under big trees\, bookstores and libraries\, and local coffee shops and breweries.
URL:https://sacramentointerfaith.org/event/exploring-the-sacred-a-life-of-purpose/
CATEGORIES:Event
END:VEVENT
BEGIN:VEVENT
DTSTART;VALUE=DATE:20230321
DTEND;VALUE=DATE:20230322
DTSTAMP:20260425T200353
CREATED:20230104T164542Z
LAST-MODIFIED:20230104T164542Z
UID:4511-1679356800-1679443199@sacramentointerfaith.org
SUMMARY:Ostara * - Wicca/Neo Pagan
DESCRIPTION:
URL:https://sacramentointerfaith.org/event/ostara-wicca-neo-pagan-2/
CATEGORIES:Interfaith Calendar
END:VEVENT
BEGIN:VEVENT
DTSTART;VALUE=DATE:20230321
DTEND;VALUE=DATE:20230322
DTSTAMP:20260425T200353
CREATED:20230104T164428Z
LAST-MODIFIED:20230104T164428Z
UID:4507-1679356800-1679443199@sacramentointerfaith.org
SUMMARY:Norooz (New Year) - Persian/Zoroastrian
DESCRIPTION:
URL:https://sacramentointerfaith.org/event/norooz-new-year-persian-zoroastrian-2/
CATEGORIES:Interfaith Calendar
END:VEVENT
BEGIN:VEVENT
DTSTART;VALUE=DATE:20230319
DTEND;VALUE=DATE:20230320
DTSTAMP:20260425T200353
CREATED:20230104T164401Z
LAST-MODIFIED:20230104T164401Z
UID:4505-1679184000-1679270399@sacramentointerfaith.org
SUMMARY:St. Joseph's Day - Christian
DESCRIPTION:
URL:https://sacramentointerfaith.org/event/st-josephs-day-christian-2/
CATEGORIES:Interfaith Calendar
END:VEVENT
BEGIN:VEVENT
DTSTART;VALUE=DATE:20230317
DTEND;VALUE=DATE:20230318
DTSTAMP:20260425T200353
CREATED:20230104T164339Z
LAST-MODIFIED:20230104T164339Z
UID:4503-1679011200-1679097599@sacramentointerfaith.org
SUMMARY:St. Patrick's Day - Christian
DESCRIPTION:
URL:https://sacramentointerfaith.org/event/st-patricks-day-christian-2/
CATEGORIES:Interfaith Calendar
END:VEVENT
BEGIN:VEVENT
DTSTART;VALUE=DATE:20230301
DTEND;VALUE=DATE:20230302
DTSTAMP:20260425T200353
CREATED:20230104T164310Z
LAST-MODIFIED:20230104T164310Z
UID:4501-1677628800-1677715199@sacramentointerfaith.org
SUMMARY:St. David of Wales - Christian
DESCRIPTION:
URL:https://sacramentointerfaith.org/event/st-david-of-wales-christian-2/
CATEGORIES:Interfaith Calendar
END:VEVENT
BEGIN:VEVENT
DTSTART;TZID=America/Los_Angeles:20230228T173000
DTEND;TZID=America/Los_Angeles:20230228T183000
DTSTAMP:20260425T200353
CREATED:20230102T172303Z
LAST-MODIFIED:20230102T172648Z
UID:4420-1677605400-1677609000@sacramentointerfaith.org
SUMMARY:Board Meeting
DESCRIPTION:Email Secretary@sacramentointerfaith.org for further information
URL:https://sacramentointerfaith.org/event/board-meeting-20/
CATEGORIES:Event
END:VEVENT
BEGIN:VEVENT
DTSTART;VALUE=DATE:20230224
DTEND;VALUE=DATE:20230225
DTSTAMP:20260425T200353
CREATED:20230104T164208Z
LAST-MODIFIED:20230104T164208Z
UID:4499-1677196800-1677283199@sacramentointerfaith.org
SUMMARY:Saint Matthew\, Apostle and Evangelist - Christian
DESCRIPTION:
URL:https://sacramentointerfaith.org/event/saint-matthew-apostle-and-evangelist-christian/
CATEGORIES:Interfaith Calendar
END:VEVENT
BEGIN:VEVENT
DTSTART;VALUE=DATE:20230215
DTEND;VALUE=DATE:20230216
DTSTAMP:20260425T200353
CREATED:20230104T164147Z
LAST-MODIFIED:20230104T164147Z
UID:4497-1676419200-1676505599@sacramentointerfaith.org
SUMMARY:Nirvana Day ** - Buddhist
DESCRIPTION:
URL:https://sacramentointerfaith.org/event/nirvana-day-buddhist-2/
CATEGORIES:Interfaith Calendar
END:VEVENT
BEGIN:VEVENT
DTSTART;VALUE=DATE:20230214
DTEND;VALUE=DATE:20230215
DTSTAMP:20260425T200353
CREATED:20230104T164123Z
LAST-MODIFIED:20230104T164123Z
UID:4495-1676332800-1676419199@sacramentointerfaith.org
SUMMARY:St. Valentine's Day - Christian
DESCRIPTION:
URL:https://sacramentointerfaith.org/event/st-valentines-day-christian-2/
CATEGORIES:Interfaith Calendar
END:VEVENT
BEGIN:VEVENT
DTSTART;VALUE=DATE:20230203
DTEND;VALUE=DATE:20230204
DTSTAMP:20260425T200353
CREATED:20230104T164100Z
LAST-MODIFIED:20230104T164100Z
UID:4493-1675382400-1675468799@sacramentointerfaith.org
SUMMARY:Setsebun (beginning of spring) - Shinto
DESCRIPTION:
URL:https://sacramentointerfaith.org/event/setsebun-beginning-of-spring-shinto-2/
CATEGORIES:Interfaith Calendar
END:VEVENT
BEGIN:VEVENT
DTSTART;VALUE=DATE:20230203
DTEND;VALUE=DATE:20230204
DTSTAMP:20260425T200353
CREATED:20230104T164034Z
LAST-MODIFIED:20230104T164034Z
UID:4491-1675382400-1675468799@sacramentointerfaith.org
SUMMARY:St. Blaze Day - Christian
DESCRIPTION:
URL:https://sacramentointerfaith.org/event/st-blaze-day-christian-2/
CATEGORIES:Interfaith Calendar
END:VEVENT
BEGIN:VEVENT
DTSTART;VALUE=DATE:20230202
DTEND;VALUE=DATE:20230203
DTSTAMP:20260425T200353
CREATED:20230104T164005Z
LAST-MODIFIED:20230104T164005Z
UID:4489-1675296000-1675382399@sacramentointerfaith.org
SUMMARY:Saint Brighid of Kildare - Christian
DESCRIPTION:
URL:https://sacramentointerfaith.org/event/saint-brighid-of-kildare-christian-2/
CATEGORIES:Interfaith Calendar
END:VEVENT
BEGIN:VEVENT
DTSTART;VALUE=DATE:20230202
DTEND;VALUE=DATE:20230203
DTSTAMP:20260425T200353
CREATED:20230104T163942Z
LAST-MODIFIED:20230104T163942Z
UID:4487-1675296000-1675382399@sacramentointerfaith.org
SUMMARY:Imbolc (Candlemas) * - Wicca/Neo Pagan
DESCRIPTION:
URL:https://sacramentointerfaith.org/event/imbolc-candlemas-wicca-neo-pagan-2/
CATEGORIES:Interfaith Calendar
END:VEVENT
BEGIN:VEVENT
DTSTART;VALUE=DATE:20230202
DTEND;VALUE=DATE:20230203
DTSTAMP:20260425T200353
CREATED:20230104T163922Z
LAST-MODIFIED:20230104T163922Z
UID:4485-1675296000-1675382399@sacramentointerfaith.org
SUMMARY:Candlemas - Presentation of Christ in the Temple - Christian
DESCRIPTION:
URL:https://sacramentointerfaith.org/event/candlemas-presentation-of-christ-in-the-temple-christian-2/
CATEGORIES:Interfaith Calendar
END:VEVENT
BEGIN:VEVENT
DTSTART;TZID=America/Los_Angeles:20230131T173000
DTEND;TZID=America/Los_Angeles:20230131T183000
DTSTAMP:20260425T200353
CREATED:20230102T172242Z
LAST-MODIFIED:20230102T172631Z
UID:4418-1675186200-1675189800@sacramentointerfaith.org
SUMMARY:Board Meeting
DESCRIPTION:Email Secretary@sacramentointerfaith.org for further information
URL:https://sacramentointerfaith.org/event/board-meeting-19/
CATEGORIES:Event
END:VEVENT
END:VCALENDAR