BEGIN:VCALENDAR
VERSION:2.0
PRODID:-//Interfaith Council of Greater Sacramento - ECPv6.15.20//NONSGML v1.0//EN
CALSCALE:GREGORIAN
METHOD:PUBLISH
X-WR-CALNAME:Interfaith Council of Greater Sacramento
X-ORIGINAL-URL:https://sacramentointerfaith.org
X-WR-CALDESC:Events for Interfaith Council of Greater Sacramento
REFRESH-INTERVAL;VALUE=DURATION:PT1H
X-Robots-Tag:noindex
X-PUBLISHED-TTL:PT1H
BEGIN:VTIMEZONE
TZID:America/Los_Angeles
BEGIN:DAYLIGHT
TZOFFSETFROM:-0800
TZOFFSETTO:-0700
TZNAME:PDT
DTSTART:20220313T100000
END:DAYLIGHT
BEGIN:STANDARD
TZOFFSETFROM:-0700
TZOFFSETTO:-0800
TZNAME:PST
DTSTART:20221106T090000
END:STANDARD
BEGIN:DAYLIGHT
TZOFFSETFROM:-0800
TZOFFSETTO:-0700
TZNAME:PDT
DTSTART:20230312T100000
END:DAYLIGHT
BEGIN:STANDARD
TZOFFSETFROM:-0700
TZOFFSETTO:-0800
TZNAME:PST
DTSTART:20231105T090000
END:STANDARD
BEGIN:DAYLIGHT
TZOFFSETFROM:-0800
TZOFFSETTO:-0700
TZNAME:PDT
DTSTART:20240310T100000
END:DAYLIGHT
BEGIN:STANDARD
TZOFFSETFROM:-0700
TZOFFSETTO:-0800
TZNAME:PST
DTSTART:20241103T090000
END:STANDARD
BEGIN:DAYLIGHT
TZOFFSETFROM:-0800
TZOFFSETTO:-0700
TZNAME:PDT
DTSTART:20250309T100000
END:DAYLIGHT
BEGIN:STANDARD
TZOFFSETFROM:-0700
TZOFFSETTO:-0800
TZNAME:PST
DTSTART:20251102T090000
END:STANDARD
END:VTIMEZONE
BEGIN:VEVENT
DTSTART;TZID=America/Los_Angeles:20240326T173000
DTEND;TZID=America/Los_Angeles:20240326T183000
DTSTAMP:20260425T084458
CREATED:20240312T183918Z
LAST-MODIFIED:20240312T183949Z
UID:5107-1711474200-1711477800@sacramentointerfaith.org
SUMMARY:March ICGS Board Meeting - Open to all
DESCRIPTION:March ICGS Board Meeting \nOpen to all\, email secretary@sacramentointerfaith.org for further information.
URL:https://sacramentointerfaith.org/event/icgs-board-meeting-open-to-all/
CATEGORIES:Interfaith Calendar
END:VEVENT
BEGIN:VEVENT
DTSTART;VALUE=DATE:20240325
DTEND;VALUE=DATE:20240328
DTSTAMP:20260425T084458
CREATED:20240307T224911Z
LAST-MODIFIED:20240307T224911Z
UID:4925-1711324800-1711583999@sacramentointerfaith.org
SUMMARY:Hola Mohalla – Sikh
DESCRIPTION:Hola Mohalla – Sikh \nA three-day festival following Holi; the tenth Sikh Guru\, Guru Gobind Singh Ji\, started it as a time for military preparedness exercises. Today\, mock battles are followed by music competitions and festivities.
URL:https://sacramentointerfaith.org/event/hola-mohalla-sikh/
CATEGORIES:Interfaith Calendar
END:VEVENT
BEGIN:VEVENT
DTSTART;VALUE=DATE:20240325
DTEND;VALUE=DATE:20240326
DTSTAMP:20260425T084458
CREATED:20240307T224955Z
LAST-MODIFIED:20240307T225014Z
UID:4927-1711324800-1711411199@sacramentointerfaith.org
SUMMARY:Holi – Hindu
DESCRIPTION:Holi – Hindu \nA colorful and joyous festival that welcomes Spring. Referred to as the Festival of Colors\, it is celebrated with people throwing colorful powder and colored water. Generally celebrated over two days.
URL:https://sacramentointerfaith.org/event/holi-hindu-2/
CATEGORIES:Interfaith Calendar
END:VEVENT
BEGIN:VEVENT
DTSTART;VALUE=DATE:20240324
DTEND;VALUE=DATE:20240325
DTSTAMP:20260425T084458
CREATED:20240307T224831Z
LAST-MODIFIED:20240307T224831Z
UID:4923-1711238400-1711324799@sacramentointerfaith.org
SUMMARY:Lord’s Evening Meal – Jehovah’s Witness Christians
DESCRIPTION:Lord’s Evening Meal – Jehovah’s Witness Christians \nThis was first observed by Jesus Christ on Jewish Passover in 33 C.E. It is observed only once per year.  Celebrants partake of bread and wine which are symbols of Christ’s body and blood
URL:https://sacramentointerfaith.org/event/lords-evening-meal-jehovahs-witness-christians/
CATEGORIES:Interfaith Calendar
END:VEVENT
BEGIN:VEVENT
DTSTART;VALUE=DATE:20240320
DTEND;VALUE=DATE:20240321
DTSTAMP:20260425T084458
CREATED:20240307T224704Z
LAST-MODIFIED:20240307T224704Z
UID:4919-1710892800-1710979199@sacramentointerfaith.org
SUMMARY:Nowruz (New Year) – Zoroastrian
DESCRIPTION:Nowruz (New Year) – Zoroastrian \nCelebrates the renewal of the world and the creation of fire. Zarathustra received his revelation on this day.
URL:https://sacramentointerfaith.org/event/nowruz-new-year-zoroastrian/
CATEGORIES:Interfaith Calendar
END:VEVENT
BEGIN:VEVENT
DTSTART;VALUE=DATE:20240320
DTEND;VALUE=DATE:20240321
DTSTAMP:20260425T084458
CREATED:20240307T224632Z
LAST-MODIFIED:20240307T224632Z
UID:4917-1710892800-1710979199@sacramentointerfaith.org
SUMMARY:Equinox-Ostara-Wiccan/Pagan
DESCRIPTION:Equinox-Ostara-Wiccan/Pagan \nCelebration of new life; a time of renewal and rebirth.
URL:https://sacramentointerfaith.org/event/equinox-ostara-wiccan-pagan/
CATEGORIES:Interfaith Calendar
END:VEVENT
BEGIN:VEVENT
DTSTART;VALUE=DATE:20240310
DTEND;VALUE=DATE:20240409
DTSTAMP:20260425T084458
CREATED:20240307T224343Z
LAST-MODIFIED:20240307T224343Z
UID:4913-1710028800-1712620799@sacramentointerfaith.org
SUMMARY:Ramadan Begins – Islam
DESCRIPTION:Ramadan Begins – Islam \nHoliest period of the Islamic Year. Commemoration of Muhammad’s reception of the divine revelation recorded in the Qur’an. Authorities in Saudi Arabia sight the new moon of the 9th month of the Islamic calendar.
URL:https://sacramentointerfaith.org/event/ramadan-begins-islam-2/
CATEGORIES:Interfaith Calendar
END:VEVENT
BEGIN:VEVENT
DTSTART;VALUE=DATE:20240308
DTEND;VALUE=DATE:20240309
DTSTAMP:20260425T084458
CREATED:20240307T224217Z
LAST-MODIFIED:20240307T224217Z
UID:4911-1709856000-1709942399@sacramentointerfaith.org
SUMMARY:Maha Shivaratri – Hindu
DESCRIPTION:Maha Shivaratri – Hindu \nA Hindu festival in honor of Lord Shiva and his marriage to Goddess Parvati. Ceremonies involving prayers and hymns take place mostly at night. Special foods are not used.
URL:https://sacramentointerfaith.org/event/maha-shivaratri-hindu-2/
CATEGORIES:Interfaith Calendar
END:VEVENT
BEGIN:VEVENT
DTSTART;VALUE=DATE:20231231
DTEND;VALUE=DATE:20240101
DTSTAMP:20260425T084458
CREATED:20230118T165205Z
LAST-MODIFIED:20230118T165205Z
UID:4700-1703980800-1704067199@sacramentointerfaith.org
SUMMARY:Watch Night - Christian
DESCRIPTION:
URL:https://sacramentointerfaith.org/event/watch-night-christian/
CATEGORIES:Interfaith Calendar
END:VEVENT
BEGIN:VEVENT
DTSTART;VALUE=DATE:20231230
DTEND;VALUE=DATE:20231231
DTSTAMP:20260425T084458
CREATED:20230118T165143Z
LAST-MODIFIED:20230118T165143Z
UID:4698-1703894400-1703980799@sacramentointerfaith.org
SUMMARY:Holy Family - Catholic Christian
DESCRIPTION:
URL:https://sacramentointerfaith.org/event/holy-family-catholic-christian-2/
CATEGORIES:Interfaith Calendar
END:VEVENT
BEGIN:VEVENT
DTSTART;VALUE=DATE:20231228
DTEND;VALUE=DATE:20231229
DTSTAMP:20260425T084458
CREATED:20230118T165114Z
LAST-MODIFIED:20230118T165114Z
UID:4696-1703721600-1703807999@sacramentointerfaith.org
SUMMARY:Holy Innocents - Christian
DESCRIPTION:
URL:https://sacramentointerfaith.org/event/holy-innocents-christian-2/
CATEGORIES:Interfaith Calendar
END:VEVENT
BEGIN:VEVENT
DTSTART;VALUE=DATE:20231226
DTEND;VALUE=DATE:20231227
DTSTAMP:20260425T084458
CREATED:20230118T165039Z
LAST-MODIFIED:20230118T165039Z
UID:4694-1703548800-1703635199@sacramentointerfaith.org
SUMMARY:St Stephen's Day - Christian
DESCRIPTION:
URL:https://sacramentointerfaith.org/event/st-stephens-day-christian-2/
CATEGORIES:Interfaith Calendar
END:VEVENT
BEGIN:VEVENT
DTSTART;VALUE=DATE:20231226
DTEND;VALUE=DATE:20231227
DTSTAMP:20260425T084458
CREATED:20230118T165014Z
LAST-MODIFIED:20230118T165014Z
UID:4692-1703548800-1703635199@sacramentointerfaith.org
SUMMARY:Zarathosht Diso (Death of Prophet Zarathushtra)  Zoroastrian
DESCRIPTION:
URL:https://sacramentointerfaith.org/event/zarathosht-diso-death-of-prophet-zarathushtra-zoroastrian-2/
CATEGORIES:Interfaith Calendar
END:VEVENT
BEGIN:VEVENT
DTSTART;VALUE=DATE:20231225
DTEND;VALUE=DATE:20231226
DTSTAMP:20260425T084458
CREATED:20230118T164947Z
LAST-MODIFIED:20230118T164947Z
UID:4690-1703462400-1703548799@sacramentointerfaith.org
SUMMARY:Feast of the Nativity ** - Orthodox Christian
DESCRIPTION:
URL:https://sacramentointerfaith.org/event/feast-of-the-nativity-orthodox-christian-4/
CATEGORIES:Interfaith Calendar
END:VEVENT
BEGIN:VEVENT
DTSTART;VALUE=DATE:20231225
DTEND;VALUE=DATE:20231226
DTSTAMP:20260425T084458
CREATED:20230118T164925Z
LAST-MODIFIED:20230118T164925Z
UID:4688-1703462400-1703548799@sacramentointerfaith.org
SUMMARY:Christmas * - Christian
DESCRIPTION:
URL:https://sacramentointerfaith.org/event/christmas-christian-2/
CATEGORIES:Interfaith Calendar
END:VEVENT
BEGIN:VEVENT
DTSTART;VALUE=DATE:20231224
DTEND;VALUE=DATE:20231225
DTSTAMP:20260425T084458
CREATED:20230118T164900Z
LAST-MODIFIED:20230118T164900Z
UID:4686-1703376000-1703462399@sacramentointerfaith.org
SUMMARY:Christmas Eve - Christian
DESCRIPTION:
URL:https://sacramentointerfaith.org/event/christmas-eve-christian-2/
CATEGORIES:Interfaith Calendar
END:VEVENT
BEGIN:VEVENT
DTSTART;VALUE=DATE:20231221
DTEND;VALUE=DATE:20231222
DTSTAMP:20260425T084458
CREATED:20230118T164747Z
LAST-MODIFIED:20230118T164747Z
UID:4681-1703116800-1703203199@sacramentointerfaith.org
SUMMARY:Saint Thomas the Apostle - Christian
DESCRIPTION:
URL:https://sacramentointerfaith.org/event/saint-thomas-the-apostle-christian/
CATEGORIES:Interfaith Calendar
END:VEVENT
BEGIN:VEVENT
DTSTART;VALUE=DATE:20231221
DTEND;VALUE=DATE:20231222
DTSTAMP:20260425T084458
CREATED:20230118T164721Z
LAST-MODIFIED:20230118T164721Z
UID:4679-1703116800-1703203199@sacramentointerfaith.org
SUMMARY:Yule - Christian
DESCRIPTION:
URL:https://sacramentointerfaith.org/event/yule-christian-2/
CATEGORIES:Interfaith Calendar
END:VEVENT
BEGIN:VEVENT
DTSTART;VALUE=DATE:20231216
DTEND;VALUE=DATE:20231226
DTSTAMP:20260425T084458
CREATED:20230118T164651Z
LAST-MODIFIED:20230118T164651Z
UID:4677-1702684800-1703548799@sacramentointerfaith.org
SUMMARY:Posadas Navidenas - Hispanic Christian
DESCRIPTION:
URL:https://sacramentointerfaith.org/event/posadas-navidenas-hispanic-christian-2/
CATEGORIES:Interfaith Calendar
END:VEVENT
BEGIN:VEVENT
DTSTART;VALUE=DATE:20231212
DTEND;VALUE=DATE:20231213
DTSTAMP:20260425T084458
CREATED:20230118T164623Z
LAST-MODIFIED:20230118T164623Z
UID:4675-1702339200-1702425599@sacramentointerfaith.org
SUMMARY:Feast day - Our Lady of Guadalupe - Catholic Christian
DESCRIPTION:
URL:https://sacramentointerfaith.org/event/feast-day-our-lady-of-guadalupe-catholic-christian-2/
CATEGORIES:Interfaith Calendar
END:VEVENT
BEGIN:VEVENT
DTSTART;VALUE=DATE:20231208
DTEND;VALUE=DATE:20231209
DTSTAMP:20260425T084458
CREATED:20230118T164555Z
LAST-MODIFIED:20230118T164555Z
UID:4673-1701993600-1702079999@sacramentointerfaith.org
SUMMARY:Immaculate Conception of Mary - Catholic Christian
DESCRIPTION:
URL:https://sacramentointerfaith.org/event/immaculate-conception-of-mary-catholic-christian-2/
CATEGORIES:Interfaith Calendar
END:VEVENT
BEGIN:VEVENT
DTSTART;VALUE=DATE:20231208
DTEND;VALUE=DATE:20231209
DTSTAMP:20260425T084458
CREATED:20230118T164532Z
LAST-MODIFIED:20230118T164532Z
UID:4671-1701993600-1702079999@sacramentointerfaith.org
SUMMARY:Bodhi Day  (Rohatsu) ** - Buddhism
DESCRIPTION:
URL:https://sacramentointerfaith.org/event/bodhi-day-rohatsu-buddhism-2/
CATEGORIES:Interfaith Calendar
END:VEVENT
BEGIN:VEVENT
DTSTART;VALUE=DATE:20231206
DTEND;VALUE=DATE:20231207
DTSTAMP:20260425T084458
CREATED:20230118T164504Z
LAST-MODIFIED:20230118T164504Z
UID:4669-1701820800-1701907199@sacramentointerfaith.org
SUMMARY:Saint Nicholas Day - Christian
DESCRIPTION:
URL:https://sacramentointerfaith.org/event/saint-nicholas-day-christian/
CATEGORIES:Interfaith Calendar
END:VEVENT
BEGIN:VEVENT
DTSTART;VALUE=DATE:20231130
DTEND;VALUE=DATE:20231201
DTSTAMP:20260425T084458
CREATED:20230118T164436Z
LAST-MODIFIED:20230118T164436Z
UID:4667-1701302400-1701388799@sacramentointerfaith.org
SUMMARY:St. Andrew's Day - Christian
DESCRIPTION:
URL:https://sacramentointerfaith.org/event/st-andrews-day-christian-2/
CATEGORIES:Interfaith Calendar
END:VEVENT
BEGIN:VEVENT
DTSTART;TZID=America/Los_Angeles:20231128T173000
DTEND;TZID=America/Los_Angeles:20231128T183000
DTSTAMP:20260425T084458
CREATED:20230102T172806Z
LAST-MODIFIED:20230102T172806Z
UID:4441-1701192600-1701196200@sacramentointerfaith.org
SUMMARY:Board Meeting
DESCRIPTION:Email Secretary@sacramentointerfaith.org for further information
URL:https://sacramentointerfaith.org/event/board-meeting-29/
CATEGORIES:Event
END:VEVENT
BEGIN:VEVENT
DTSTART;VALUE=DATE:20231128
DTEND;VALUE=DATE:20231129
DTSTAMP:20260425T084458
CREATED:20230118T164407Z
LAST-MODIFIED:20230118T164407Z
UID:4665-1701129600-1701215999@sacramentointerfaith.org
SUMMARY:Ascension of  'Abdu'l-Baha * - Baha'i
DESCRIPTION:
URL:https://sacramentointerfaith.org/event/ascension-of-abdul-baha-bahai-2/
CATEGORIES:Interfaith Calendar
END:VEVENT
BEGIN:VEVENT
DTSTART;VALUE=DATE:20231126
DTEND;VALUE=DATE:20231127
DTSTAMP:20260425T084458
CREATED:20230118T164326Z
LAST-MODIFIED:20230118T164326Z
UID:4662-1700956800-1701043199@sacramentointerfaith.org
SUMMARY:Day of the Covenant * - Baha'i
DESCRIPTION:
URL:https://sacramentointerfaith.org/event/day-of-the-covenant-bahai-2/
CATEGORIES:Interfaith Calendar
END:VEVENT
BEGIN:VEVENT
DTSTART;VALUE=DATE:20231124
DTEND;VALUE=DATE:20231125
DTSTAMP:20260425T084458
CREATED:20230118T164301Z
LAST-MODIFIED:20230118T164301Z
UID:4660-1700784000-1700870399@sacramentointerfaith.org
SUMMARY:Martyrdom of Guru Tegh Bahdur - Sikh
DESCRIPTION:
URL:https://sacramentointerfaith.org/event/martyrdom-of-guru-tegh-bahdur-sikh-2/
CATEGORIES:Interfaith Calendar
END:VEVENT
BEGIN:VEVENT
DTSTART;VALUE=DATE:20231112
DTEND;VALUE=DATE:20231113
DTSTAMP:20260425T084458
CREATED:20230118T164141Z
LAST-MODIFIED:20230118T164141Z
UID:4656-1699747200-1699833599@sacramentointerfaith.org
SUMMARY:Birth of Baha'u'llah * - Baha'i
DESCRIPTION:
URL:https://sacramentointerfaith.org/event/birth-of-bahaullah-bahai-4/
CATEGORIES:Interfaith Calendar
END:VEVENT
BEGIN:VEVENT
DTSTART;VALUE=DATE:20231102
DTEND;VALUE=DATE:20231103
DTSTAMP:20260425T084458
CREATED:20230118T164108Z
LAST-MODIFIED:20230118T164108Z
UID:4654-1698883200-1698969599@sacramentointerfaith.org
SUMMARY:All Souls Day - Catholic Christian
DESCRIPTION:
URL:https://sacramentointerfaith.org/event/all-souls-day-catholic-christian-2/
CATEGORIES:Interfaith Calendar
END:VEVENT
END:VCALENDAR