BEGIN:VCALENDAR
VERSION:2.0
PRODID:-//Interfaith Council of Greater Sacramento - ECPv6.15.20//NONSGML v1.0//EN
CALSCALE:GREGORIAN
METHOD:PUBLISH
X-WR-CALNAME:Interfaith Council of Greater Sacramento
X-ORIGINAL-URL:https://sacramentointerfaith.org
X-WR-CALDESC:Events for Interfaith Council of Greater Sacramento
REFRESH-INTERVAL;VALUE=DURATION:PT1H
X-Robots-Tag:noindex
X-PUBLISHED-TTL:PT1H
BEGIN:VTIMEZONE
TZID:America/Los_Angeles
BEGIN:DAYLIGHT
TZOFFSETFROM:-0800
TZOFFSETTO:-0700
TZNAME:PDT
DTSTART:20230312T100000
END:DAYLIGHT
BEGIN:STANDARD
TZOFFSETFROM:-0700
TZOFFSETTO:-0800
TZNAME:PST
DTSTART:20231105T090000
END:STANDARD
BEGIN:DAYLIGHT
TZOFFSETFROM:-0800
TZOFFSETTO:-0700
TZNAME:PDT
DTSTART:20240310T100000
END:DAYLIGHT
BEGIN:STANDARD
TZOFFSETFROM:-0700
TZOFFSETTO:-0800
TZNAME:PST
DTSTART:20241103T090000
END:STANDARD
BEGIN:DAYLIGHT
TZOFFSETFROM:-0800
TZOFFSETTO:-0700
TZNAME:PDT
DTSTART:20250309T100000
END:DAYLIGHT
BEGIN:STANDARD
TZOFFSETFROM:-0700
TZOFFSETTO:-0800
TZNAME:PST
DTSTART:20251102T090000
END:STANDARD
END:VTIMEZONE
BEGIN:VEVENT
DTSTART;VALUE=DATE:20240927
DTEND;VALUE=DATE:20240928
DTSTAMP:20260425T031958
CREATED:20240307T232919Z
LAST-MODIFIED:20240307T232919Z
UID:5034-1727395200-1727481599@sacramentointerfaith.org
SUMMARY:Meskel – Ethiopian Orthodox Christian
DESCRIPTION:Meskel – Ethiopian Orthodox Christian \nEthiopian and Eritrean Orthodox Christian commemoration of the discovery of the True Cross by Queen Eleni (St. Helenea) in the 4th-century a.d.
URL:https://sacramentointerfaith.org/event/meskel-ethiopian-orthodox-christian/
CATEGORIES:Interfaith Calendar
END:VEVENT
BEGIN:VEVENT
DTSTART;TZID=America/Los_Angeles:20240924T173000
DTEND;TZID=America/Los_Angeles:20240924T183000
DTSTAMP:20260425T031958
CREATED:20240312T184651Z
LAST-MODIFIED:20240312T184651Z
UID:5120-1727199000-1727202600@sacramentointerfaith.org
SUMMARY:September ICGS Board Meeting  Open to all
DESCRIPTION:September ICGS Board Meeting \nOpen to all\, email secretary@sacramentointerfaith.org for further information.
URL:https://sacramentointerfaith.org/event/september-icgs-board-meeting-open-to-all/
CATEGORIES:Interfaith Calendar
END:VEVENT
BEGIN:VEVENT
DTSTART;TZID=America/Los_Angeles:20240921T180000
DTEND;TZID=America/Los_Angeles:20240921T203000
DTSTAMP:20260425T031958
CREATED:20240618T174339Z
LAST-MODIFIED:20240625T180846Z
UID:5146-1726941600-1726950600@sacramentointerfaith.org
SUMMARY:EMPTY BOWLS
DESCRIPTION:[vc_row type=”in_container” full_screen_row_position=”middle” column_margin=”default” column_direction=”default” column_direction_tablet=”default” column_direction_phone=”default” scene_position=”center” text_color=”dark” text_align=”left” row_border_radius=”none” row_border_radius_applies=”bg” overflow=”visible” overlay_strength=”0.3″ gradient_direction=”left_to_right” shape_divider_position=”bottom” bg_image_animation=”none”][vc_column column_padding=”no-extra-padding” column_padding_tablet=”inherit” column_padding_phone=”inherit” column_padding_position=”all” column_element_direction_desktop=”default” column_element_spacing=”default” desktop_text_alignment=”default” tablet_text_alignment=”default” phone_text_alignment=”default” background_color_opacity=”1″ background_hover_color_opacity=”1″ column_backdrop_filter=”none” column_shadow=”none” column_border_radius=”none” column_link_target=”_self” column_position=”default” gradient_direction=”left_to_right” overlay_strength=”0.3″ width=”1/1″ tablet_width_inherit=”default” animation_type=”default” bg_image_animation=”none” border_type=”simple” column_border_width=”none” column_border_style=”solid”][image_with_animation image_url=”5147″ image_size=”full” animation_type=”entrance” animation=”None” animation_movement_type=”transform_y” hover_animation=”none” alignment=”center” border_radius=”none” box_shadow=”none” image_loading=”default” max_width=”100%” max_width_mobile=”default”][vc_column_text]\n$30 IS YOUR TICKET! SELECT A HAND-CRAFTED EMPTY BOWL COURTESY OF THE CREATIVE CERAMIC TALENTS OF ELK GROVE UNIFIED “HIGH SCHOOL ARTISTS!”  FILL IT AGAIN AND AGAIN!  WITH THE AMAZING CULINARY CREATIONS OF PARTICIPATING AREA RESTAURANTS.  ALL YOU CAN EAT PLUS DESSERT!  BENEFITING AL MISBAAH FOOD BANK\, ELK GROVE FOOD BANK SERVICES AND GOOD SHEPHERD CATHOLIC CHARITIES! \n[/vc_column_text][divider line_type=”Full Width Line” line_thickness=”3″ divider_color=”default” custom_height=”10″][vc_column_text]\nCLICK ON THE IMAGE BELOW OR THE BUTTON TO GET YOUT TICKETS!\n[/vc_column_text][/vc_column][/vc_row][vc_row type=”in_container” full_screen_row_position=”middle” column_margin=”default” column_direction=”default” column_direction_tablet=”default” column_direction_phone=”default” scene_position=”center” text_color=”dark” text_align=”left” row_border_radius=”none” row_border_radius_applies=”bg” overflow=”visible” overlay_strength=”0.3″ gradient_direction=”left_to_right” shape_divider_position=”bottom” bg_image_animation=”none”][vc_column column_padding=”no-extra-padding” column_padding_tablet=”inherit” column_padding_phone=”inherit” column_padding_position=”all” column_element_direction_desktop=”default” column_element_spacing=”default” desktop_text_alignment=”default” tablet_text_alignment=”default” phone_text_alignment=”default” background_color_opacity=”1″ background_hover_color_opacity=”1″ column_backdrop_filter=”none” column_shadow=”none” column_border_radius=”none” column_link_target=”_self” column_position=”default” gradient_direction=”left_to_right” overlay_strength=”0.3″ width=”1/1″ tablet_width_inherit=”default” animation_type=”default” bg_image_animation=”none” border_type=”simple” column_border_width=”none” column_border_style=”solid”][image_with_animation image_url=”5155″ image_size=”large” animation_type=”entrance” animation=”None” animation_movement_type=”transform_y” hover_animation=”none” alignment=”center” img_link_target=”_blank” border_radius=”none” box_shadow=”none” image_loading=”default” max_width=”100%” max_width_mobile=”default” img_link=”https://www.zeffy.com/en-US/ticketing/8e240e1a-842f-4aa7-b2d5-00b1281c4601″][divider line_type=”Full Width Line” line_thickness=”3″ divider_color=”default” custom_height=”10″][nectar_btn size=”jumbo” open_new_tab=”true” button_style=”regular” button_color_2=”Extra-Color-3″ color_override=”#429e7a” solid_text_color_override=”#ffffff” icon_family=”none” url=”https://www.zeffy.com/en-US/ticketing/8e240e1a-842f-4aa7-b2d5-00b1281c4601″ text=”CLICK HERE TO BUY YOUR TICKETS” margin_left=”400″ margin_right=”400″][vc_column_text]\nPROMOTING COOPERATION AMONG ALL RELIGIONS AND AMONGST ALL CULTURES TO BLESS THE LIVES OF SENIORS\, CHILDREN\, FAMILIES AND THE HOMELESS.  YOUR DONATION RENDERS COMPASSION AND CHARITY  IN THIS LAND OF ABUNDANCE AND FREEDOM! \n[/vc_column_text][/vc_column][/vc_row]
URL:https://sacramentointerfaith.org/event/empty-bowls/
LOCATION:Good Sherpard Catholic Church\, 9539 Racquet Court\, Elk Grove\, CA\, 95758\, United States
ATTACH;FMTTYPE=image/png:https://sacramentointerfaith.org/wp-content/uploads/2024/06/image.png
END:VEVENT
BEGIN:VEVENT
DTSTART;VALUE=DATE:20240915
DTEND;VALUE=DATE:20240917
DTSTAMP:20260425T031958
CREATED:20240307T232808Z
LAST-MODIFIED:20240307T232808Z
UID:5030-1726358400-1726531199@sacramentointerfaith.org
SUMMARY:Mawlid an-Nabi – Islam
DESCRIPTION:Mawlid an-Nabi – Islam \nIslamic commemoration of the birthday of the prophet Muhammad\, founder of Islam\, in about 570 c.e. The prophet’s teachings are read and religious meetings are held.
URL:https://sacramentointerfaith.org/event/mawlid-an-nabi-islam/
CATEGORIES:Interfaith Calendar
END:VEVENT
BEGIN:VEVENT
DTSTART;VALUE=DATE:20240914
DTEND;VALUE=DATE:20240915
DTSTAMP:20260425T031958
CREATED:20240307T232728Z
LAST-MODIFIED:20240307T232728Z
UID:5028-1726272000-1726358399@sacramentointerfaith.org
SUMMARY:Holy Cross Day – Christian
DESCRIPTION:Holy Cross Day – Christian \nA Christian day of recognition for the cross on which Jesus was crucified as a central symbol of the Christian religion.
URL:https://sacramentointerfaith.org/event/holy-cross-day-christian/
CATEGORIES:Interfaith Calendar
END:VEVENT
BEGIN:VEVENT
DTSTART;VALUE=DATE:20240908
DTEND;VALUE=DATE:20240909
DTSTAMP:20260425T031958
CREATED:20240307T232643Z
LAST-MODIFIED:20240307T232643Z
UID:5026-1725753600-1725839999@sacramentointerfaith.org
SUMMARY:Nativity of Mary – Christian
DESCRIPTION:Nativity of Mary – Christian \nThis holiday\, celebrated in the Roman Catholic and Anglican churches\, celebrates the birth date of Mary\, mother of Jesus.
URL:https://sacramentointerfaith.org/event/nativity-of-mary-christian/
CATEGORIES:Interfaith Calendar
END:VEVENT
BEGIN:VEVENT
DTSTART;VALUE=DATE:20240907
DTEND;VALUE=DATE:20240908
DTSTAMP:20260425T031958
CREATED:20240307T232610Z
LAST-MODIFIED:20240307T232610Z
UID:5024-1725667200-1725753599@sacramentointerfaith.org
SUMMARY:Ganesh Chaturthi – Hindu
DESCRIPTION:Ganesh Chaturthi – Hindu \nA Hindu festival honoring the god of prosperity\, prudence\, and success (Lord Ganesha).
URL:https://sacramentointerfaith.org/event/ganesh-chaturthi-hindu-2/
CATEGORIES:Interfaith Calendar
END:VEVENT
BEGIN:VEVENT
DTSTART;VALUE=DATE:20240902
DTEND;VALUE=DATE:20240903
DTSTAMP:20260425T031958
CREATED:20240307T232537Z
LAST-MODIFIED:20240307T232537Z
UID:5022-1725235200-1725321599@sacramentointerfaith.org
SUMMARY:Labor Day – National Observance
DESCRIPTION:Labor Day – National Observance \nRosh Hashanah marks the beginning of the Jewish New Year. Rosh Hashana is the first of the High Holydays or Days of Awe; it is a time of prayer\, reflection\, and services.
URL:https://sacramentointerfaith.org/event/labor-day-national-observance/
CATEGORIES:Interfaith Calendar
END:VEVENT
BEGIN:VEVENT
DTSTART;VALUE=DATE:20240831
DTEND;VALUE=DATE:20240908
DTSTAMP:20260425T031958
CREATED:20240307T232452Z
LAST-MODIFIED:20240307T232452Z
UID:5020-1725062400-1725753599@sacramentointerfaith.org
SUMMARY:Paryushan Parv – Jain
DESCRIPTION:Paryushan Parv – Jain \n8-day festival for forgiveness and compassion.
URL:https://sacramentointerfaith.org/event/paryushan-parv-jain/
CATEGORIES:Interfaith Calendar
END:VEVENT
BEGIN:VEVENT
DTSTART;TZID=America/Los_Angeles:20240827T173000
DTEND;TZID=America/Los_Angeles:20240827T183000
DTSTAMP:20260425T031958
CREATED:20240312T184604Z
LAST-MODIFIED:20240312T184604Z
UID:5118-1724779800-1724783400@sacramentointerfaith.org
SUMMARY:August ICGS Board Meeting  Open to all
DESCRIPTION:August ICGS Board Meeting \nOpen to all\, email secretary@sacramentointerfaith.org for further information.
URL:https://sacramentointerfaith.org/event/august-icgs-board-meeting-open-to-all/
CATEGORIES:Interfaith Calendar
END:VEVENT
BEGIN:VEVENT
DTSTART;VALUE=DATE:20240819
DTEND;VALUE=DATE:20240820
DTSTAMP:20260425T031958
CREATED:20240307T232330Z
LAST-MODIFIED:20240307T232330Z
UID:5016-1724025600-1724111999@sacramentointerfaith.org
SUMMARY:Raksha Bandhan – Hindu
DESCRIPTION:Raksha Bandhan – Hindu \nHindu festival honoring the loving ties between brothers and sisters in a family.
URL:https://sacramentointerfaith.org/event/raksha-bandhan-hindu-2/
CATEGORIES:Interfaith Calendar
END:VEVENT
BEGIN:VEVENT
DTSTART;VALUE=DATE:20240815
DTEND;VALUE=DATE:20240816
DTSTAMP:20260425T031958
CREATED:20240307T232214Z
LAST-MODIFIED:20240307T232214Z
UID:5011-1723680000-1723766399@sacramentointerfaith.org
SUMMARY:Dormition of the Mother of God – Orthodox Christian
DESCRIPTION:Dormition of the Mother of God – Orthodox Christian \nBegins the Orthodox Christian 14 day fasting period in preparation for the celebration of the Great Feast of the Dormition of the Virgin Mary.
URL:https://sacramentointerfaith.org/event/dormition-of-the-mother-of-god-orthodox-christian/
CATEGORIES:Interfaith Calendar
END:VEVENT
BEGIN:VEVENT
DTSTART;VALUE=DATE:20240814
DTEND;VALUE=DATE:20240816
DTSTAMP:20260425T031958
CREATED:20240307T232137Z
LAST-MODIFIED:20240307T232137Z
UID:5009-1723593600-1723766399@sacramentointerfaith.org
SUMMARY:Obon – Shinto
DESCRIPTION:Obon – Shinto \nJapanese Buddhist festival to honor deceased ancestors. Involves lighting of bonfires\, traditional meals\, paper lanterns\, and folk dances.
URL:https://sacramentointerfaith.org/event/obon-shinto/
CATEGORIES:Interfaith Calendar
END:VEVENT
BEGIN:VEVENT
DTSTART;VALUE=DATE:20240812
DTEND;VALUE=DATE:20240813
DTSTAMP:20260425T031958
CREATED:20240307T231824Z
LAST-MODIFIED:20240307T231824Z
UID:5007-1723420800-1723507199@sacramentointerfaith.org
SUMMARY:Tisha B’Av – Jewish
DESCRIPTION:Tisha B’Av – Jewish \nA day commemorating the destruction of the First and Second Temples in Jerusalem in ancient times.
URL:https://sacramentointerfaith.org/event/tisha-bav-jewish/
CATEGORIES:Interfaith Calendar
END:VEVENT
BEGIN:VEVENT
DTSTART;VALUE=DATE:20240801
DTEND;VALUE=DATE:20240803
DTSTAMP:20260425T031958
CREATED:20240307T231709Z
LAST-MODIFIED:20240307T231709Z
UID:5003-1722470400-1722643199@sacramentointerfaith.org
SUMMARY:Lughnassad (Imbolc) – Wiccan/Pagan
DESCRIPTION:Lughnassad (Imbolc) – Wiccan/Pagan \nWicca observance of the first harvest of the year involving agricultural festivals and prosperity magic. The Christian name of Lammas is sometimes used.
URL:https://sacramentointerfaith.org/event/lughnassad-imbolc-wiccan-pagan/
CATEGORIES:Interfaith Calendar
END:VEVENT
BEGIN:VEVENT
DTSTART;VALUE=DATE:20240801
DTEND;VALUE=DATE:20240802
DTSTAMP:20260425T031958
CREATED:20240307T231636Z
LAST-MODIFIED:20240307T231636Z
UID:5001-1722470400-1722556799@sacramentointerfaith.org
SUMMARY:Lammas – Christian
DESCRIPTION:Lammas – Christian \nChristian first fruits celebration observed by placing bread baked from the first harvest on the altar. From the Celtic Christian tradition. Note: The Southern Hemisphere observes this holiday on February 1st.
URL:https://sacramentointerfaith.org/event/lammas-christian-3/
CATEGORIES:Interfaith Calendar
END:VEVENT
BEGIN:VEVENT
DTSTART;TZID=America/Los_Angeles:20240730T173000
DTEND;TZID=America/Los_Angeles:20240730T183000
DTSTAMP:20260425T031958
CREATED:20240312T184504Z
LAST-MODIFIED:20240312T184504Z
UID:5116-1722360600-1722364200@sacramentointerfaith.org
SUMMARY:July ICGS Board Meeting  Open to all
DESCRIPTION:July ICGS Board Meeting \nOpen to all\, email secretary@sacramentointerfaith.org for further information.
URL:https://sacramentointerfaith.org/event/july-icgs-board-meeting-open-to-all/
CATEGORIES:Interfaith Calendar
END:VEVENT
BEGIN:VEVENT
DTSTART;VALUE=DATE:20240720
DTEND;VALUE=DATE:20240721
DTSTAMP:20260425T031958
CREATED:20240307T231551Z
LAST-MODIFIED:20240307T231551Z
UID:4999-1721433600-1721519999@sacramentointerfaith.org
SUMMARY:Asalha Puja Day – Buddhist
DESCRIPTION:Asalha Puja Day – Buddhist \nObservance of the day when Gautama Buddha made his first public proclamation to five ascetics at Deer Park\, Banares. He taught the noble eight-fold path and the four noble truths.
URL:https://sacramentointerfaith.org/event/asalha-puja-day-buddhist/
CATEGORIES:Interfaith Calendar
END:VEVENT
BEGIN:VEVENT
DTSTART;VALUE=DATE:20240716
DTEND;VALUE=DATE:20240817
DTSTAMP:20260425T031958
CREATED:20240307T231500Z
LAST-MODIFIED:20240307T231519Z
UID:4996-1721088000-1723852799@sacramentointerfaith.org
SUMMARY:Ramayana – Hindu
DESCRIPTION:Ramayana – Hindu \nRamayana week begins nine days before Ramanavami\, the birthday of Lord Rama. The reading of this epic is done in such a way that the reading ends on the last day of the Karkidakam Month. Fasting during this period is considered highly auspicious.
URL:https://sacramentointerfaith.org/event/ramayana-hindu/
CATEGORIES:Interfaith Calendar
END:VEVENT
BEGIN:VEVENT
DTSTART;VALUE=DATE:20240707
DTEND;VALUE=DATE:20240709
DTSTAMP:20260425T031958
CREATED:20240307T231346Z
LAST-MODIFIED:20240307T231346Z
UID:4992-1720310400-1720483199@sacramentointerfaith.org
SUMMARY:Hijra (New Year) – Islam
DESCRIPTION:Hijra (New Year) – Islam \nThis is the first day of the month of Muharram which marks the time in 622 C.E. when Prophet Muhammad moved from Mecca to Medina.
URL:https://sacramentointerfaith.org/event/hijra-new-year-islam/
CATEGORIES:Interfaith Calendar
END:VEVENT
BEGIN:VEVENT
DTSTART;VALUE=DATE:20240704
DTEND;VALUE=DATE:20240705
DTSTAMP:20260425T031958
CREATED:20240307T231257Z
LAST-MODIFIED:20240307T231257Z
UID:4990-1720051200-1720137599@sacramentointerfaith.org
SUMMARY:Independence Day – National Observance
DESCRIPTION:Independence Day – National Observance \nCommemorates the Declaration of Independence on July 4\, 1776.
URL:https://sacramentointerfaith.org/event/independence-day-national-observance/
CATEGORIES:Interfaith Calendar
END:VEVENT
BEGIN:VEVENT
DTSTART;TZID=America/Los_Angeles:20240625T173000
DTEND;TZID=America/Los_Angeles:20240625T183000
DTSTAMP:20260425T031958
CREATED:20240312T184403Z
LAST-MODIFIED:20240312T184403Z
UID:5114-1719336600-1719340200@sacramentointerfaith.org
SUMMARY:June ICGS Board Meeting  Open to all
DESCRIPTION:June ICGS Board Meeting \nOpen to all\, email secretary@sacramentointerfaith.org for further information.
URL:https://sacramentointerfaith.org/event/june-icgs-board-meeting-open-to-all/
CATEGORIES:Interfaith Calendar
END:VEVENT
BEGIN:VEVENT
DTSTART;TZID=America/Los_Angeles:20240528T173000
DTEND;TZID=America/Los_Angeles:20240528T183000
DTSTAMP:20260425T031958
CREATED:20240312T184310Z
LAST-MODIFIED:20240312T184310Z
UID:5112-1716917400-1716921000@sacramentointerfaith.org
SUMMARY:May ICGS Board Meeting  Open to all
DESCRIPTION:May ICGS Board Meeting \nOpen to all\, email secretary@sacramentointerfaith.org for further information.
URL:https://sacramentointerfaith.org/event/may-icgs-board-meeting-open-to-all/
CATEGORIES:Interfaith Calendar
END:VEVENT
BEGIN:VEVENT
DTSTART;VALUE=DATE:20240526
DTEND;VALUE=DATE:20240527
DTSTAMP:20260425T031958
CREATED:20240307T230607Z
LAST-MODIFIED:20240307T230607Z
UID:4974-1716681600-1716767999@sacramentointerfaith.org
SUMMARY:Trinity Sunday – Christians (Western Church)
DESCRIPTION:Trinity Sunday – Christians (Western Church) \nChristians honor the belief in one God with a threefold nature.
URL:https://sacramentointerfaith.org/event/trinity-sunday-christians-western-church/
CATEGORIES:Interfaith Calendar
END:VEVENT
BEGIN:VEVENT
DTSTART;VALUE=DATE:20240522
DTEND;VALUE=DATE:20240524
DTSTAMP:20260425T031958
CREATED:20240307T230428Z
LAST-MODIFIED:20240307T230826Z
UID:4970-1716336000-1716508799@sacramentointerfaith.org
SUMMARY:Visakha Puja – Buddhist￼
DESCRIPTION:Visakha Puja – Buddhist￼ \nThis festival celebrates the birth\, enlightenment\, and death of Buddha. The day includes the preparation of sweets for the monks\, sermons\, and a candle-lighting ceremony
URL:https://sacramentointerfaith.org/event/visakha-puja-buddhist/
CATEGORIES:Interfaith Calendar
END:VEVENT
BEGIN:VEVENT
DTSTART;VALUE=DATE:20240506
DTEND;VALUE=DATE:20240507
DTSTAMP:20260425T031958
CREATED:20240307T230215Z
LAST-MODIFIED:20240307T230215Z
UID:4962-1714953600-1715039999@sacramentointerfaith.org
SUMMARY:Easter/Pascha – Orthodox Christian
DESCRIPTION:Easter/Pascha – Orthodox Christian \nThe resurrection of Jesus Christ is celebrated with a feast in the Orthodox Christian church. Recognizes Christ’s power over death and the gift of restoration\, transformation\, and life everlasting.
URL:https://sacramentointerfaith.org/event/easter-pascha-orthodox-christian-2/
CATEGORIES:Interfaith Calendar
END:VEVENT
BEGIN:VEVENT
DTSTART;VALUE=DATE:20240505
DTEND;VALUE=DATE:20240507
DTSTAMP:20260425T031958
CREATED:20240307T230143Z
LAST-MODIFIED:20240307T230143Z
UID:4960-1714867200-1715039999@sacramentointerfaith.org
SUMMARY:Yom HaShoah – Jewish
DESCRIPTION:Yom HaShoah – Jewish \nAlso known as Holocaust Remembrance Day\, this day offers remembrance for persons who died in the Shoah\, actions against the Jewish people during World War II.
URL:https://sacramentointerfaith.org/event/yom-hashoah-jewish/
CATEGORIES:Interfaith Calendar
END:VEVENT
BEGIN:VEVENT
DTSTART;VALUE=DATE:20240502
DTEND;VALUE=DATE:20240503
DTSTAMP:20260425T031958
CREATED:20240307T230108Z
LAST-MODIFIED:20240307T230108Z
UID:4958-1714608000-1714694399@sacramentointerfaith.org
SUMMARY:National Day of Prayer – USA – Interfaith
DESCRIPTION:National Day of Prayer – USA – Interfaith \nDay of observance established by the United States Congress to encourage Americans to pray on this day.
URL:https://sacramentointerfaith.org/event/national-day-of-prayer-usa-interfaith-3/
CATEGORIES:Interfaith Calendar
END:VEVENT
BEGIN:VEVENT
DTSTART;VALUE=DATE:20240502
DTEND;VALUE=DATE:20240503
DTSTAMP:20260425T031958
CREATED:20240307T230025Z
LAST-MODIFIED:20240307T230025Z
UID:4956-1714608000-1714694399@sacramentointerfaith.org
SUMMARY:Tweflth Day of Ridvan – Baha’i
DESCRIPTION:Tweflth Day of Ridvan – Baha’i \nBaha’i commemoration of the twelve-day period in 1863 when Baha’u’llah declared that he was God’s messenger for this age. Note: Work is to be suspended on days 1\, 9\, and 12 of the festival.
URL:https://sacramentointerfaith.org/event/tweflth-day-of-ridvan-bahai/
CATEGORIES:Interfaith Calendar
END:VEVENT
BEGIN:VEVENT
DTSTART;VALUE=DATE:20240501
DTEND;VALUE=DATE:20240502
DTSTAMP:20260425T031958
CREATED:20240307T225951Z
LAST-MODIFIED:20240307T225951Z
UID:4954-1714521600-1714607999@sacramentointerfaith.org
SUMMARY:Beltane – Wiccan/Pagan
DESCRIPTION:Beltane – Wiccan/Pagan \nBeltane celebrates the fertility and abundance of the earth.
URL:https://sacramentointerfaith.org/event/beltane-wiccan-pagan/
CATEGORIES:Interfaith Calendar
END:VEVENT
END:VCALENDAR