BEGIN:VCALENDAR
VERSION:2.0
PRODID:-//Interfaith Council of Greater Sacramento - ECPv6.15.20//NONSGML v1.0//EN
CALSCALE:GREGORIAN
METHOD:PUBLISH
X-WR-CALNAME:Interfaith Council of Greater Sacramento
X-ORIGINAL-URL:https://sacramentointerfaith.org
X-WR-CALDESC:Events for Interfaith Council of Greater Sacramento
REFRESH-INTERVAL;VALUE=DURATION:PT1H
X-Robots-Tag:noindex
X-PUBLISHED-TTL:PT1H
BEGIN:VTIMEZONE
TZID:America/Los_Angeles
BEGIN:DAYLIGHT
TZOFFSETFROM:-0800
TZOFFSETTO:-0700
TZNAME:PDT
DTSTART:20190310T100000
END:DAYLIGHT
BEGIN:STANDARD
TZOFFSETFROM:-0700
TZOFFSETTO:-0800
TZNAME:PST
DTSTART:20191103T090000
END:STANDARD
BEGIN:DAYLIGHT
TZOFFSETFROM:-0800
TZOFFSETTO:-0700
TZNAME:PDT
DTSTART:20200308T100000
END:DAYLIGHT
BEGIN:STANDARD
TZOFFSETFROM:-0700
TZOFFSETTO:-0800
TZNAME:PST
DTSTART:20201101T090000
END:STANDARD
BEGIN:DAYLIGHT
TZOFFSETFROM:-0800
TZOFFSETTO:-0700
TZNAME:PDT
DTSTART:20210314T100000
END:DAYLIGHT
BEGIN:STANDARD
TZOFFSETFROM:-0700
TZOFFSETTO:-0800
TZNAME:PST
DTSTART:20211107T090000
END:STANDARD
END:VTIMEZONE
BEGIN:VEVENT
DTSTART;VALUE=DATE:20201116
DTEND;VALUE=DATE:20201122
DTSTAMP:20260424T033047
CREATED:20201111T133335Z
LAST-MODIFIED:20201111T133335Z
UID:3162-1605484800-1606003199@sacramentointerfaith.org
SUMMARY:BK Meditation Center Events
DESCRIPTION:
URL:https://sacramentointerfaith.org/event/bk-meditation-center-events/
CATEGORIES:Event,Zoom
END:VEVENT
BEGIN:VEVENT
DTSTART;VALUE=DATE:20201109
DTEND;VALUE=DATE:20201122
DTSTAMP:20260424T033047
CREATED:20201111T131300Z
LAST-MODIFIED:20201111T131300Z
UID:3154-1604880000-1606003199@sacramentointerfaith.org
SUMMARY:A Series of Skills-Based Workshops
DESCRIPTION:
URL:https://sacramentointerfaith.org/event/a-series-of-skills-based-workshops/
LOCATION:Online Event
CATEGORIES:Workshop,Zoom
END:VEVENT
BEGIN:VEVENT
DTSTART;TZID=America/Los_Angeles:20201107T140000
DTEND;TZID=America/Los_Angeles:20201107T160000
DTSTAMP:20260424T033047
CREATED:20201028T142412Z
LAST-MODIFIED:20201028T142412Z
UID:3122-1604757600-1604764800@sacramentointerfaith.org
SUMMARY:Diwali\, The Festival of Lights
DESCRIPTION:
URL:https://sacramentointerfaith.org/event/diwali-the-festival-of-lights/
LOCATION:Online Event
CATEGORIES:Virtual,Zoom
END:VEVENT
BEGIN:VEVENT
DTSTART;TZID=America/Los_Angeles:20201029T183000
DTEND;TZID=America/Los_Angeles:20201029T200000
DTSTAMP:20260424T033047
CREATED:20201028T142757Z
LAST-MODIFIED:20201028T143728Z
UID:3125-1603996200-1604001600@sacramentointerfaith.org
SUMMARY:Sinner or Saint
DESCRIPTION:Please join Exploring the Sacred for an interactive webinar entitled “Saint or Sinner: A Discussion on Human Nature”. The event will take place on Zoom on Thursday\, October 29th at 6:30 pm. Leaders from the Christain\, Buddhist\, Islamic\, Jewish traditions\, as well as A Course In Miracles\, will be exploring their views on the nature of humanity and how that perspective informs our world. Visit www.exploringthesacred.org for more details and a link to the webinar. This event is free and open to all.
URL:https://sacramentointerfaith.org/event/sinner-or-saint/
LOCATION:Online Event
CATEGORIES:Virtual,Zoom
END:VEVENT
BEGIN:VEVENT
DTSTART;TZID=America/Los_Angeles:20201015T183000
DTEND;TZID=America/Los_Angeles:20201030T190000
DTSTAMP:20260424T033047
CREATED:20201028T135941Z
LAST-MODIFIED:20201028T135941Z
UID:3110-1602786600-1604084400@sacramentointerfaith.org
SUMMARY:Evening Meditation Series
DESCRIPTION:Please kindly join the Brahma Kumaris Sacramento Meditation Center for a beautiful evening meditation program that will be offered by phone through Zoom. We welcome you to forward this announcement to all Meetup\, Facebook\, and other social media friends and family. This is a very soothing and gently transformative program.
URL:https://sacramentointerfaith.org/event/evening-meditation-series/
LOCATION:Online Event
CATEGORIES:Meditation,Virtual,Zoom
END:VEVENT
BEGIN:VEVENT
DTSTART;TZID=America/Los_Angeles:20200829T150000
DTEND;TZID=America/Los_Angeles:20200829T170000
DTSTAMP:20260424T033047
CREATED:20200819T153401Z
LAST-MODIFIED:20200819T153401Z
UID:3066-1598713200-1598720400@sacramentointerfaith.org
SUMMARY:Let Your Vision Be World Embracing
DESCRIPTION:Throughout the month of August\, the Elk Grove Diversity and Inclusion Commission and the City of Elk Grove will offer virtual opportunities to explore the many cultures and faith groups that make up our community. \nThe Baha’is of Elk Grove will be participating in the celebration of the city of Elk Grove’s Diversity Month on Saturday\, August 29th at 3:00 pm via Zoom. \nIn the attachment\, you will find the Baha’i community of Elk Grove’s flyer on the presentation of the Baha’i Faith. \nWe encourage you to invite the wider community\, your faith group\, your family\, and friends to attend. \nWe have included the Zoom link and the city Elk Grove’s website for Diversity Month in August. \nTopic: “Let your vision be world embracing…” The Baha’i Faith and Its World View\nTime: Aug 29\, 2020\, 03:00 PM Pacific Time (US and Canada) \nJoin Zoom Meeting\nhttps://us02web.zoom.us/j/81754475727\nMeeting ID: 817 5447 5727 \nDiversity Month – City Of Elk Grove Website \n \nhttps://www.elkgrovecity.org/visitors/things_to_do/special_events/elk_grove_multicultural_festival\n\n \nIf you have any questions or concerns\, please don’t hesitate to contact the Elk Grove Local Spiritual Assembly of Elk Grove.\nSPIRITUAL ASSEMBLY OF THE BAHÁ’ÍS OF ELK GROVE\,\nKedi Eshetu-Davidson\, Corresponding Secretary\nlsaelkgrove@gmail.com\n(916) 790-6263
URL:https://sacramentointerfaith.org/event/let-your-vision-be-world-embracing/
CATEGORIES:Event,Virtual,Zoom
END:VEVENT
BEGIN:VEVENT
DTSTART;TZID=America/Los_Angeles:20200630T173000
DTEND;TZID=America/Los_Angeles:20200630T183000
DTSTAMP:20260424T033047
CREATED:20200617T153658Z
LAST-MODIFIED:20200624T160438Z
UID:2855-1593538200-1593541800@sacramentointerfaith.org
SUMMARY:ICGS Public General Meeting
DESCRIPTION:This is the month of the year when the Interfaith Council of Greater Sacramento calls a general meeting every year\, to bring awareness to the public and also vote on the new board members and officers of the corporation.   We do share our existence and visibility in the community at large through different modes of communication.\n\nNormally we would celebrate this general meeting with a shared meal. However\, under the circumstances of COVID-19\, we are unable to present this meeting in person to the public.  We hope you understand the situation and conditions under which we are operating in.  Please invite your colleagues and friends for information purposes on a zoom provided in the agenda below.\nTuesday\, June 30th | 5:30 PM\nAgenda\n\n\nReflection on the vision:\n\nPresident:                    Edrine Ddungu \nPhase l              Changes \nPhase ll             Sustainability and Continuity \nPhase lll            Expansion of ICGS visibility \n\nThe state of financial stability\, flexibility\, and Growth.\n\nTreasurer:                    Serene Erby \n\nApproval of new officers on the Executive Board Secretary\, Charles de Wateville from Sacramento Valley Family Federation for World Peace and Unification.\nExecutive Committee At Large Member\, Akram Keval Muslim Community and Youth Center Elk Grove in charge of the website and social media.\nApproval of Nominated Board members for fiscal year 2020/2021 and beyond\n\nSecretary:                     Charles de Wateville \n\nState of Interfaith Council of Greater Sacramento as a formidable organization\n\n1st Vice President:         Scot Sorensen \n\nRevised By-Law\nNewsletter\, website and social media improvement\nSac faith TV\nCommittees\n\nJoin Zoom Meeting \nhttps://us02web.zoom.us/j/81160066836?pwd=Zjc3aUtlUjdmLzkzOFFYTDY2R1RPdz09 \nMeeting ID: 811 6006 6836 \nPassword: 300483
URL:https://sacramentointerfaith.org/event/icgs-public-general-meeting/
LOCATION:Online Event
CATEGORIES:Meeting,Zoom
END:VEVENT
BEGIN:VEVENT
DTSTART;TZID=America/Los_Angeles:20200628T150000
DTEND;TZID=America/Los_Angeles:20200628T160000
DTSTAMP:20260424T033047
CREATED:20200624T154721Z
LAST-MODIFIED:20200624T154721Z
UID:2875-1593356400-1593360000@sacramentointerfaith.org
SUMMARY:And Still\, I Rise
DESCRIPTION:
URL:https://sacramentointerfaith.org/event/and-still-i-rise/
LOCATION:Online Event
CATEGORIES:Zoom
END:VEVENT
BEGIN:VEVENT
DTSTART;TZID=America/Los_Angeles:20200504T180000
DTEND;TZID=America/Los_Angeles:20200521T184500
DTSTAMP:20260424T033047
CREATED:20200429T152257Z
LAST-MODIFIED:20200429T152257Z
UID:2810-1588615200-1590086700@sacramentointerfaith.org
SUMMARY:Let's Meditate
DESCRIPTION:
URL:https://sacramentointerfaith.org/event/lets-meditate/
CATEGORIES:Event,Zoom
END:VEVENT
BEGIN:VEVENT
DTSTART;TZID=America/Los_Angeles:20200503T150000
DTEND;TZID=America/Los_Angeles:20200503T160000
DTSTAMP:20260424T033047
CREATED:20200429T152115Z
LAST-MODIFIED:20200429T152115Z
UID:2806-1588518000-1588521600@sacramentointerfaith.org
SUMMARY:Discovering Happiness
DESCRIPTION:
URL:https://sacramentointerfaith.org/event/discovering-happiness/
CATEGORIES:Event,Zoom
END:VEVENT
BEGIN:VEVENT
DTSTART;TZID=America/Los_Angeles:20200419T150000
DTEND;TZID=America/Los_Angeles:20200419T170000
DTSTAMP:20260424T033047
CREATED:20200408T143539Z
LAST-MODIFIED:20200415T153857Z
UID:2790-1587308400-1587315600@sacramentointerfaith.org
SUMMARY:An Interfaith\, Intercultural Speakers Event
DESCRIPTION:[vc_row type=”in_container” full_screen_row_position=”middle” column_margin=”default” scene_position=”center” text_color=”dark” text_align=”left” overlay_strength=”0.3″ shape_divider_position=”bottom” bg_image_animation=”none”][vc_column column_padding=”no-extra-padding” column_padding_position=”all” background_color_opacity=”1″ background_hover_color_opacity=”1″ column_link_target=”_self” column_shadow=”none” column_border_radius=”none” width=”1/2″ tablet_width_inherit=”default” tablet_text_alignment=”default” phone_text_alignment=”default” overlay_strength=”0.3″ column_border_width=”none” column_border_style=”solid” bg_image_animation=”none”][image_with_animation image_url=”2800″ alignment=”” animation=”Fade In” img_link_large=”yes” hover_animation=”none” border_radius=”none” box_shadow=”none” image_loading=”default” max_width=”100%” max_width_mobile=”default”][/vc_column][vc_column column_padding=”no-extra-padding” column_padding_position=”all” background_color_opacity=”1″ background_hover_color_opacity=”1″ column_link_target=”_self” column_shadow=”none” column_border_radius=”none” width=”1/2″ tablet_width_inherit=”default” tablet_text_alignment=”default” phone_text_alignment=”default” overlay_strength=”0.3″ column_border_width=”none” column_border_style=”solid” bg_image_animation=”none”][vc_column_text]Dear Leader\, \nThere has been tremendous fear regarding the Corona virus\, and we would like to turn that around and inspire our community with hope and positive reinforcement. On behalf of the Interfaith Council of Greater Sacramento\, I would like to invite you to be a participant/presenter on zoom to provide our community and your email list words of hope and encouragement to keep the faith regardless of appearances\, which we know is only temporary. \nWe invite you to participate by sharing some inspiring words and igniting the lamp of faith and hope with positive energy by infusing God’s love and presence into your message. Our first priority would be to create peace and remembrance that God is our creator\, protector\, and sustainer. Our attendees should be assured that all humankind is being provided and taken care of in this challenging and\nstressful time of quarantine and crisis. You can express this either by prayer\, meditation\, message\, spiritual song or poem. We must keep the faith that all will be well and that this will lead to unforeseen good in our future. Your 4 minutes may be presented by you or someone of your choosing. Together we can create healing\, acceptance\, and hope for the future even when there is painful loss\, knowing\nthat there is a divine purpose we are yet to see — but knowing with certainty that good will prevail in God’s Divine plan and love. \nPlease RSVP your acceptance to participate in this session before April 14. \nAlso\, it is crucial to announce to your followers\, friends and family on Facebook page\, website\, mailing list\, Instagram\, Twitter\, online services\, etc. Let’s generate quantum spiritual energy!!! \nWe appreciate your cooperation\, openness\, and spiritual support. Please RSVP before April 14 and we will send you instructions and the link. Looking forward to hearing from you soon. \nBlessings\,\nEdrine Ddungu\, President\nInterfaith Council of Greater Sacramento[/vc_column_text][/vc_column][/vc_row]
URL:https://sacramentointerfaith.org/event/an-interfaith-intercultural-speakers-event/
CATEGORIES:Event,Zoom
END:VEVENT
END:VCALENDAR