BEGIN:VCALENDAR
VERSION:2.0
PRODID:-//Interfaith Council of Greater Sacramento - ECPv6.15.20//NONSGML v1.0//EN
CALSCALE:GREGORIAN
METHOD:PUBLISH
X-ORIGINAL-URL:https://sacramentointerfaith.org
X-WR-CALDESC:Events for Interfaith Council of Greater Sacramento
REFRESH-INTERVAL;VALUE=DURATION:PT1H
X-Robots-Tag:noindex
X-PUBLISHED-TTL:PT1H
BEGIN:VTIMEZONE
TZID:America/Los_Angeles
BEGIN:DAYLIGHT
TZOFFSETFROM:-0800
TZOFFSETTO:-0700
TZNAME:PDT
DTSTART:20250309T100000
END:DAYLIGHT
BEGIN:STANDARD
TZOFFSETFROM:-0700
TZOFFSETTO:-0800
TZNAME:PST
DTSTART:20251102T090000
END:STANDARD
BEGIN:DAYLIGHT
TZOFFSETFROM:-0800
TZOFFSETTO:-0700
TZNAME:PDT
DTSTART:20260308T100000
END:DAYLIGHT
BEGIN:STANDARD
TZOFFSETFROM:-0700
TZOFFSETTO:-0800
TZNAME:PST
DTSTART:20261101T090000
END:STANDARD
BEGIN:DAYLIGHT
TZOFFSETFROM:-0800
TZOFFSETTO:-0700
TZNAME:PDT
DTSTART:20270314T100000
END:DAYLIGHT
BEGIN:STANDARD
TZOFFSETFROM:-0700
TZOFFSETTO:-0800
TZNAME:PST
DTSTART:20271107T090000
END:STANDARD
BEGIN:DAYLIGHT
TZOFFSETFROM:-0800
TZOFFSETTO:-0700
TZNAME:PDT
DTSTART:20280312T100000
END:DAYLIGHT
BEGIN:STANDARD
TZOFFSETFROM:-0700
TZOFFSETTO:-0800
TZNAME:PST
DTSTART:20281105T090000
END:STANDARD
END:VTIMEZONE
BEGIN:VEVENT
DTSTART;VALUE=DATE:20260927
DTEND;VALUE=DATE:20260928
DTSTAMP:20260423T135604
CREATED:20230118T163211Z
LAST-MODIFIED:20260412T173553Z
UID:4622-1790467200-1790553599@sacramentointerfaith.org
SUMMARY:Elevation of the Life Giving Cross (Holy Cross) - Christian
DESCRIPTION:
URL:https://sacramentointerfaith.org/event/elevation-of-the-life-giving-cross-holy-cross-christian-2/
CATEGORIES:Interfaith Calendar
END:VEVENT
BEGIN:VEVENT
DTSTART;VALUE=DATE:20261003
DTEND;VALUE=DATE:20261004
DTSTAMP:20260423T135604
CREATED:20240307T233427Z
LAST-MODIFIED:20260412T173738Z
UID:5050-1790985600-1791071999@sacramentointerfaith.org
SUMMARY:Shemini Atzeret – Judaism/Jewish
DESCRIPTION:Shemini Atzeret – Jewish \nJudaism/Jewish completion of the annual cycle of the reading of the Torah. \nDates are based on a lunar calendar and may not coincide with the Julian/solar calendar dates listed by +/- 1 day. Religious observances begin the evening prior and into the day listed.
URL:https://sacramentointerfaith.org/event/shemini-atzeret-jewish/
CATEGORIES:Interfaith Calendar
END:VEVENT
BEGIN:VEVENT
DTSTART;VALUE=DATE:20261004
DTEND;VALUE=DATE:20261005
DTSTAMP:20260423T135604
CREATED:20240307T233515Z
LAST-MODIFIED:20260412T173857Z
UID:5052-1791072000-1791158399@sacramentointerfaith.org
SUMMARY:Simchat Tora – Jewish/Judaism
DESCRIPTION:Simchat Tora – Jewish \nJewish/Judaism day to celebrate the reading of the Law. Celebrates the conclusion of the annual cycle of Torah readings. \nDates are based on a lunar calendar and may not coincide with the Julian/solar calendar dates listed by +/- 1 day. Religious observances begin the evening prior and into the day listed.
URL:https://sacramentointerfaith.org/event/simchat-tora-jewish/
CATEGORIES:Interfaith Calendar
END:VEVENT
BEGIN:VEVENT
DTSTART;VALUE=DATE:20261007
DTEND;VALUE=DATE:20261008
DTSTAMP:20260423T135604
CREATED:20260412T173933Z
LAST-MODIFIED:20260412T173933Z
UID:5322-1791331200-1791417599@sacramentointerfaith.org
SUMMARY:Our Lady of the Rosary - Roman Catholic
DESCRIPTION:Our Lady of the Rosary – Roman Catholic
URL:https://sacramentointerfaith.org/event/our-lady-of-the-rosary-roman-catholic/
CATEGORIES:Interfaith Calendar
END:VEVENT
BEGIN:VEVENT
DTSTART;VALUE=DATE:20261020
DTEND;VALUE=DATE:20261021
DTSTAMP:20260423T135604
CREATED:20260412T174016Z
LAST-MODIFIED:20260412T174016Z
UID:5324-1792454400-1792540799@sacramentointerfaith.org
SUMMARY:Installation of the Guru Granth Sahib - Sikh
DESCRIPTION:Installation of the Guru Granth Sahib – Sikh
URL:https://sacramentointerfaith.org/event/installation-of-the-guru-granth-sahib-sikh/
CATEGORIES:Interfaith Calendar
END:VEVENT
BEGIN:VEVENT
DTSTART;VALUE=DATE:20261031
DTEND;VALUE=DATE:20261101
DTSTAMP:20260423T135604
CREATED:20240307T233808Z
LAST-MODIFIED:20260412T174054Z
UID:5060-1793404800-1793491199@sacramentointerfaith.org
SUMMARY:Samhain – Wiccan/Pagan
DESCRIPTION:Samhain – Wiccan/Pagan \nSamhain marks the end of the harvest season and the beginning of the winter half of the year.
URL:https://sacramentointerfaith.org/event/samhain-wiccan-pagan/
CATEGORIES:Interfaith Calendar
END:VEVENT
BEGIN:VEVENT
DTSTART;VALUE=DATE:20261101
DTEND;VALUE=DATE:20261102
DTSTAMP:20260423T135604
CREATED:20260412T174238Z
LAST-MODIFIED:20260412T174238Z
UID:5326-1793491200-1793577599@sacramentointerfaith.org
SUMMARY:Solemnity of All Saints - Roman Catholic
DESCRIPTION:Solemnity of All Saints – Roman Catholic
URL:https://sacramentointerfaith.org/event/solemnity-of-all-saints-roman-catholic/
CATEGORIES:Interfaith Calendar
END:VEVENT
BEGIN:VEVENT
DTSTART;VALUE=DATE:20261101
DTEND;VALUE=DATE:20261102
DTSTAMP:20260423T135604
CREATED:20260412T174317Z
LAST-MODIFIED:20260412T174317Z
UID:5328-1793491200-1793577599@sacramentointerfaith.org
SUMMARY:Day of Buddha’s Descent - Buddhism
DESCRIPTION:Day of Buddha’s Descent – Buddhism
URL:https://sacramentointerfaith.org/event/day-of-buddhas-descent-buddhism/
CATEGORIES:Interfaith Calendar
END:VEVENT
BEGIN:VEVENT
DTSTART;VALUE=DATE:20261102
DTEND;VALUE=DATE:20261103
DTSTAMP:20260423T135604
CREATED:20240307T234007Z
LAST-MODIFIED:20260412T174405Z
UID:5064-1793577600-1793663999@sacramentointerfaith.org
SUMMARY:All Soul’s Day (Day of the Dead) – Catholic Christian
DESCRIPTION:All Soul’s Day (Day of the Dead) – Catholic Christian \nChristian day of prayers\, remembrance\, and intercession for the dead. Prayers of the faithful are seen as helping to cleanse the souls for the beatific vision of God in heaven.
URL:https://sacramentointerfaith.org/event/all-souls-day-day-of-the-dead-catholic-christian/
CATEGORIES:Interfaith Calendar
END:VEVENT
BEGIN:VEVENT
DTSTART;VALUE=DATE:20261108
DTEND;VALUE=DATE:20261109
DTSTAMP:20260423T135604
CREATED:20240307T234119Z
LAST-MODIFIED:20260412T174432Z
UID:5068-1794096000-1794182399@sacramentointerfaith.org
SUMMARY:Diwali – Hindu – Jain – Sikh
DESCRIPTION:Diwali – Hindu – Jain – Sikh \nThe Festival of Lights commemorates the triumph of the Good over the Evil and Light over Darkness. *Note: Different branches of this religion celebrate on different days.
URL:https://sacramentointerfaith.org/event/diwali-hindu-jain-sikh/
CATEGORIES:Interfaith Calendar
END:VEVENT
BEGIN:VEVENT
DTSTART;VALUE=DATE:20261110
DTEND;VALUE=DATE:20261111
DTSTAMP:20260423T135604
CREATED:20240307T233357Z
LAST-MODIFIED:20260412T174457Z
UID:5048-1794268800-1794355199@sacramentointerfaith.org
SUMMARY:Birth of the Bab – Baha’i
DESCRIPTION:Birth of the Bab – Baha’i \nBaha’i honoring the founder of the Babi religion\, the forerunner to Baha’u’llah and the Baha’i faith.
URL:https://sacramentointerfaith.org/event/birth-of-the-bab-bahai-3/
CATEGORIES:Interfaith Calendar
END:VEVENT
BEGIN:VEVENT
DTSTART;VALUE=DATE:20261110
DTEND;VALUE=DATE:20261111
DTSTAMP:20260423T135604
CREATED:20260412T174536Z
LAST-MODIFIED:20260412T174536Z
UID:5330-1794268800-1794355199@sacramentointerfaith.org
SUMMARY:Birth of Bahaullah - Bahá’í
DESCRIPTION:Birth of Bahaullah – Bahá’í
URL:https://sacramentointerfaith.org/event/birth-of-bahaullah-bahai-6/
CATEGORIES:Interfaith Calendar
END:VEVENT
BEGIN:VEVENT
DTSTART;VALUE=DATE:20261114
DTEND;VALUE=DATE:20261225
DTSTAMP:20260423T135604
CREATED:20230118T164227Z
LAST-MODIFIED:20260412T174617Z
UID:4658-1794614400-1798156799@sacramentointerfaith.org
SUMMARY:Nativity Fast begins - ends Dec. 24 - Orthodox Christian
DESCRIPTION:
URL:https://sacramentointerfaith.org/event/nativity-fast-begins-ends-dec-24-orthodox-christian-2/
CATEGORIES:Interfaith Calendar
END:VEVENT
BEGIN:VEVENT
DTSTART;VALUE=DATE:20261121
DTEND;VALUE=DATE:20261122
DTSTAMP:20260423T135604
CREATED:20260412T174656Z
LAST-MODIFIED:20260412T174656Z
UID:5332-1795219200-1795305599@sacramentointerfaith.org
SUMMARY:Entrance of the Theotokos into the Temple - Orthodox
DESCRIPTION:Entrance of the Theotokos into the Temple – Orthodox
URL:https://sacramentointerfaith.org/event/entrance-of-the-theotokos-into-the-temple-orthodox/
CATEGORIES:Interfaith Calendar
END:VEVENT
BEGIN:VEVENT
DTSTART;VALUE=DATE:20261122
DTEND;VALUE=DATE:20261123
DTSTAMP:20260423T135604
CREATED:20260412T174740Z
LAST-MODIFIED:20260412T174740Z
UID:5334-1795305600-1795391999@sacramentointerfaith.org
SUMMARY:Feast of Christ the King - Roman Catholic
DESCRIPTION:Feast of Christ the King – Roman Catholic
URL:https://sacramentointerfaith.org/event/feast-of-christ-the-king-roman-catholic/
CATEGORIES:Interfaith Calendar
END:VEVENT
BEGIN:VEVENT
DTSTART;VALUE=DATE:20261124
DTEND;VALUE=DATE:20261125
DTSTAMP:20260423T135604
CREATED:20260412T174817Z
LAST-MODIFIED:20260412T174817Z
UID:5336-1795478400-1795564799@sacramentointerfaith.org
SUMMARY:Guru Nanak Dev Ji Jayanti - Sikh
DESCRIPTION:Guru Nanak Dev Ji Jayanti – Sikh
URL:https://sacramentointerfaith.org/event/guru-nanak-dev-ji-jayanti-sikh/
CATEGORIES:Interfaith Calendar
END:VEVENT
BEGIN:VEVENT
DTSTART;VALUE=DATE:20261124
DTEND;VALUE=DATE:20261125
DTSTAMP:20260423T135604
CREATED:20260412T174910Z
LAST-MODIFIED:20260412T174910Z
UID:5338-1795478400-1795564799@sacramentointerfaith.org
SUMMARY:Martyrdom of Guru Tegh Bahadur Sahib - Sikh
DESCRIPTION:Martyrdom of Guru Tegh Bahadur Sahib – Sikh
URL:https://sacramentointerfaith.org/event/martyrdom-of-guru-tegh-bahadur-sahib-sikh/
CATEGORIES:Interfaith Calendar
END:VEVENT
BEGIN:VEVENT
DTSTART;VALUE=DATE:20261128
DTEND;VALUE=DATE:20261129
DTSTAMP:20260423T135604
CREATED:20260412T174957Z
LAST-MODIFIED:20260412T174957Z
UID:5341-1795824000-1795910399@sacramentointerfaith.org
SUMMARY:Ascension of ‘Abdu’l-Baha - Bahá’í
DESCRIPTION:Ascension of ‘Abdu’l-Baha – Bahá’í
URL:https://sacramentointerfaith.org/event/ascension-of-abdul-baha-bahai-3/
CATEGORIES:Interfaith Calendar
END:VEVENT
BEGIN:VEVENT
DTSTART;VALUE=DATE:20261129
DTEND;VALUE=DATE:20261130
DTSTAMP:20260423T135604
CREATED:20260412T175047Z
LAST-MODIFIED:20260412T175047Z
UID:5343-1795910400-1795996799@sacramentointerfaith.org
SUMMARY:Advent Season - Christianity
DESCRIPTION:Advent Season – Christianity
URL:https://sacramentointerfaith.org/event/advent-season-christianity/
CATEGORIES:Interfaith Calendar
END:VEVENT
BEGIN:VEVENT
DTSTART;VALUE=DATE:20261203
DTEND;VALUE=DATE:20261204
DTSTAMP:20260423T135604
CREATED:20260412T175202Z
LAST-MODIFIED:20260412T175202Z
UID:5345-1796256000-1796342399@sacramentointerfaith.org
SUMMARY:Feast of St. Francis Xavier - Roman Catholic
DESCRIPTION:Feast of St. Francis Xavier – Roman Catholic
URL:https://sacramentointerfaith.org/event/feast-of-st-francis-xavier-roman-catholic/
CATEGORIES:Interfaith Calendar
END:VEVENT
BEGIN:VEVENT
DTSTART;VALUE=DATE:20261204
DTEND;VALUE=DATE:20261213
DTSTAMP:20260423T135604
CREATED:20260412T175336Z
LAST-MODIFIED:20260412T175336Z
UID:5348-1796342400-1797119999@sacramentointerfaith.org
SUMMARY:Chanukah - Judaism
DESCRIPTION:Chanukah – Judaism
URL:https://sacramentointerfaith.org/event/chanukah-judaism/
CATEGORIES:Interfaith Calendar
END:VEVENT
BEGIN:VEVENT
DTSTART;VALUE=DATE:20261206
DTEND;VALUE=DATE:20261207
DTSTAMP:20260423T135604
CREATED:20240307T234625Z
LAST-MODIFIED:20260412T175248Z
UID:5085-1796515200-1796601599@sacramentointerfaith.org
SUMMARY:Saint Nicholas Day – Christian/Roman Catholic/Orthodox
DESCRIPTION:Saint Nicholas Day – Christian \nCelebration of the birth of Saint Nicholas\, patron saint of children\, and role model for gift giving. Many churches named for this saint\, who is also the Dutch version of Santa Claus.
URL:https://sacramentointerfaith.org/event/saint-nicholas-day-christian-2/
CATEGORIES:Interfaith Calendar
END:VEVENT
BEGIN:VEVENT
DTSTART;VALUE=DATE:20261208
DTEND;VALUE=DATE:20261209
DTSTAMP:20260423T135604
CREATED:20260412T175416Z
LAST-MODIFIED:20260412T175416Z
UID:5350-1796688000-1796774399@sacramentointerfaith.org
SUMMARY:Solemnity of the Immaculate Conception - Roman Catholic
DESCRIPTION:Solemnity of the Immaculate Conception – Roman Catholic
URL:https://sacramentointerfaith.org/event/solemnity-of-the-immaculate-conception-roman-catholic/
CATEGORIES:Interfaith Calendar
END:VEVENT
BEGIN:VEVENT
DTSTART;VALUE=DATE:20261212
DTEND;VALUE=DATE:20261213
DTSTAMP:20260423T135604
CREATED:20240307T234733Z
LAST-MODIFIED:20260412T175441Z
UID:5089-1797033600-1797119999@sacramentointerfaith.org
SUMMARY:Feast Day of Our Lady of Guadalupe – Catholic Christian
DESCRIPTION:Feast Day of Our Lady of Guadalupe – Catholic Christian \nCatholic Christian honoring of the legendary appearance of the Virgin Mary near Mexico City in 1531 c.e.
URL:https://sacramentointerfaith.org/event/feast-day-of-our-lady-of-guadalupe-catholic-christian/
CATEGORIES:Interfaith Calendar
END:VEVENT
BEGIN:VEVENT
DTSTART;VALUE=DATE:20261220
DTEND;VALUE=DATE:20261221
DTSTAMP:20260423T135604
CREATED:20260412T175520Z
LAST-MODIFIED:20260412T175520Z
UID:5352-1797724800-1797811199@sacramentointerfaith.org
SUMMARY:Fast of the 10th of Tevet - Judaism
DESCRIPTION:Fast of the 10th of Tevet – Judaism
URL:https://sacramentointerfaith.org/event/fast-of-the-10th-of-tevet-judaism/
CATEGORIES:Interfaith Calendar
END:VEVENT
BEGIN:VEVENT
DTSTART;VALUE=DATE:20261221
DTEND;VALUE=DATE:20261222
DTSTAMP:20260423T135604
CREATED:20230118T164819Z
LAST-MODIFIED:20260412T175541Z
UID:4684-1797811200-1797897599@sacramentointerfaith.org
SUMMARY:Yule/Winter Solstice * - Wicca/Neo Pagan
DESCRIPTION:
URL:https://sacramentointerfaith.org/event/yule-winter-solstice-wicca-neo-pagan-3/
CATEGORIES:Interfaith Calendar
END:VEVENT
BEGIN:VEVENT
DTSTART;VALUE=DATE:20261224
DTEND;VALUE=DATE:20261225
DTSTAMP:20260423T135604
CREATED:20240307T234928Z
LAST-MODIFIED:20260412T175638Z
UID:5095-1798070400-1798156799@sacramentointerfaith.org
SUMMARY:Christmas Eve – Christian
DESCRIPTION:Christmas Eve – Christian \nChristian celebration of the arrival of Mary and Joseph in Bethlehem for the birth of Jesus. It is observed with worship\, candle lighting\, manger scenes\, and festive meals.
URL:https://sacramentointerfaith.org/event/christmas-eve-christian-3/
CATEGORIES:Interfaith Calendar
END:VEVENT
BEGIN:VEVENT
DTSTART;VALUE=DATE:20261225
DTEND;VALUE=DATE:20261226
DTSTAMP:20260423T135604
CREATED:20211122T205117Z
LAST-MODIFIED:20260412T175724Z
UID:3698-1798156800-1798243199@sacramentointerfaith.org
SUMMARY:Nativity of Christ - Orthodox Christian
DESCRIPTION:
URL:https://sacramentointerfaith.org/event/nativity-of-christ-orthodox-christian/
CATEGORIES:Interfaith Calendar
END:VEVENT
BEGIN:VEVENT
DTSTART;VALUE=DATE:20261225
DTEND;VALUE=DATE:20261226
DTSTAMP:20260423T135604
CREATED:20240307T235002Z
LAST-MODIFIED:20260412T175611Z
UID:5097-1798156800-1798243199@sacramentointerfaith.org
SUMMARY:Christmas – Christian
DESCRIPTION:Christmas – Christian \nChristmas is both a sacred religious holiday and a worldwide cultural and commercial phenomenon. Christians celebrate Christmas Day as the anniversary of the birth of Jesus Christ. Note: Churches from different parts of the world celebrate it during January.
URL:https://sacramentointerfaith.org/event/christmas-christian-3/
CATEGORIES:Interfaith Calendar
END:VEVENT
BEGIN:VEVENT
DTSTART;VALUE=DATE:20261226
DTEND;VALUE=DATE:20270102
DTSTAMP:20260423T135604
CREATED:20240307T235207Z
LAST-MODIFIED:20260412T175754Z
UID:5103-1798243200-1798847999@sacramentointerfaith.org
SUMMARY:Kwanzaa – African American
DESCRIPTION:Kwanzaa – African American \nA celebration of family\, community\, and culture.
URL:https://sacramentointerfaith.org/event/kwanzaa-african-american/
CATEGORIES:Interfaith Calendar
END:VEVENT
END:VCALENDAR