BEGIN:VCALENDAR
VERSION:2.0
PRODID:-//Interfaith Council of Greater Sacramento - ECPv6.15.20//NONSGML v1.0//EN
CALSCALE:GREGORIAN
METHOD:PUBLISH
X-WR-CALNAME:Interfaith Council of Greater Sacramento
X-ORIGINAL-URL:https://sacramentointerfaith.org
X-WR-CALDESC:Events for Interfaith Council of Greater Sacramento
REFRESH-INTERVAL;VALUE=DURATION:PT1H
X-Robots-Tag:noindex
X-PUBLISHED-TTL:PT1H
BEGIN:VTIMEZONE
TZID:America/Los_Angeles
BEGIN:DAYLIGHT
TZOFFSETFROM:-0800
TZOFFSETTO:-0700
TZNAME:PDT
DTSTART:20230312T100000
END:DAYLIGHT
BEGIN:STANDARD
TZOFFSETFROM:-0700
TZOFFSETTO:-0800
TZNAME:PST
DTSTART:20231105T090000
END:STANDARD
BEGIN:DAYLIGHT
TZOFFSETFROM:-0800
TZOFFSETTO:-0700
TZNAME:PDT
DTSTART:20240310T100000
END:DAYLIGHT
BEGIN:STANDARD
TZOFFSETFROM:-0700
TZOFFSETTO:-0800
TZNAME:PST
DTSTART:20241103T090000
END:STANDARD
BEGIN:DAYLIGHT
TZOFFSETFROM:-0800
TZOFFSETTO:-0700
TZNAME:PDT
DTSTART:20250309T100000
END:DAYLIGHT
BEGIN:STANDARD
TZOFFSETFROM:-0700
TZOFFSETTO:-0800
TZNAME:PST
DTSTART:20251102T090000
END:STANDARD
BEGIN:DAYLIGHT
TZOFFSETFROM:-0800
TZOFFSETTO:-0700
TZNAME:PDT
DTSTART:20260308T100000
END:DAYLIGHT
BEGIN:STANDARD
TZOFFSETFROM:-0700
TZOFFSETTO:-0800
TZNAME:PST
DTSTART:20261101T090000
END:STANDARD
BEGIN:DAYLIGHT
TZOFFSETFROM:-0800
TZOFFSETTO:-0700
TZNAME:PDT
DTSTART:20270314T100000
END:DAYLIGHT
BEGIN:STANDARD
TZOFFSETFROM:-0700
TZOFFSETTO:-0800
TZNAME:PST
DTSTART:20271107T090000
END:STANDARD
END:VTIMEZONE
BEGIN:VEVENT
DTSTART;VALUE=DATE:20260317
DTEND;VALUE=DATE:20260318
DTSTAMP:20260423T135522
CREATED:20240307T224503Z
LAST-MODIFIED:20260322T155727Z
UID:4915-1773705600-1773791999@sacramentointerfaith.org
SUMMARY:St. Patrick’s Day – Christian
DESCRIPTION:St. Patrick’s Day – Christian \nA day to celebrate the life of Saint Patrick (cultural and religious Holy Day).
URL:https://sacramentointerfaith.org/event/st-patricks-day-christian-3/
CATEGORIES:Interfaith Calendar
END:VEVENT
BEGIN:VEVENT
DTSTART;VALUE=DATE:20260316
DTEND;VALUE=DATE:20260321
DTSTAMP:20260423T135522
CREATED:20260322T155808Z
LAST-MODIFIED:20260322T155808Z
UID:5236-1773619200-1774051199@sacramentointerfaith.org
SUMMARY:Ghambar Hamaspathmaedem - Zoroastrianism
DESCRIPTION:Ghambar Hamaspathmaedem – Zoroastrianism
URL:https://sacramentointerfaith.org/event/ghambar-hamaspathmaedem-zoroastrianism/
CATEGORIES:Interfaith Calendar
END:VEVENT
BEGIN:VEVENT
DTSTART;VALUE=DATE:20260303
DTEND;VALUE=DATE:20260304
DTSTAMP:20260423T135522
CREATED:20230104T164658Z
LAST-MODIFIED:20260311T150859Z
UID:4517-1772496000-1772582399@sacramentointerfaith.org
SUMMARY:Magha Puja Day ** - Buddhism
DESCRIPTION:
URL:https://sacramentointerfaith.org/event/magha-puja-day-buddhism-2/
CATEGORIES:Interfaith Calendar
END:VEVENT
BEGIN:VEVENT
DTSTART;VALUE=DATE:20260302
DTEND;VALUE=DATE:20260304
DTSTAMP:20260423T135522
CREATED:20211122T212231Z
LAST-MODIFIED:20260311T150634Z
UID:3757-1772409600-1772582399@sacramentointerfaith.org
SUMMARY:Purim - Judaism
DESCRIPTION:
URL:https://sacramentointerfaith.org/event/purim-judaism/
CATEGORIES:Interfaith Calendar
END:VEVENT
BEGIN:VEVENT
DTSTART;VALUE=DATE:20260302
DTEND;VALUE=DATE:20260303
DTSTAMP:20260423T135522
CREATED:20260311T150326Z
LAST-MODIFIED:20260311T150513Z
UID:5209-1772409600-1772495999@sacramentointerfaith.org
SUMMARY:Fast of Esther
DESCRIPTION:The Fast of Esther (Hebrew: תַּעֲנִית אֶסְתֵּר\, romanized: Ta’anit Ester) is a fast in Judaismobserved on the eve of Purim. According to most scholars\, it commemorates the communal fast held by the Jewish people throughout the Achaemenid Empire on the 13th day of Adar.[1] According to the Book of Esther\, this was the date scheduled for the battle between the Jews and their antagonists\, and the fast followed a tradition where Jewish communities would fast during wartime to arouse “mercy from God”.[2][3] \nUnlike other fasts\, the Fast of Esther is a Jewish custom. It is not mentioned in the Talmud\, but it is mentioned in the Midrash and other later sources from the days of the Geonim. Therefore\, it is considered less severe than the other fasts.[4] – Wiki
URL:https://sacramentointerfaith.org/event/fast-of-esther/
CATEGORIES:Interfaith Calendar
END:VEVENT
BEGIN:VEVENT
DTSTART;VALUE=DATE:20260301
DTEND;VALUE=DATE:20260321
DTSTAMP:20260423T135522
CREATED:20240307T192548Z
LAST-MODIFIED:20260311T150005Z
UID:4906-1772323200-1774051199@sacramentointerfaith.org
SUMMARY:Nineteen Day Fast – Baha’i
DESCRIPTION:Nineteen Day Fast – Baha’i \nBaha’i Fast to be observed by adult Baha’is in good health from sunrise to sundown (along with mandatory prayer).
URL:https://sacramentointerfaith.org/event/nineteen-day-fast-bahai/
CATEGORIES:Interfaith Calendar
END:VEVENT
BEGIN:VEVENT
DTSTART;TZID=America/Los_Angeles:20241231T173000
DTEND;TZID=America/Los_Angeles:20241231T183000
DTSTAMP:20260423T135522
CREATED:20240312T184922Z
LAST-MODIFIED:20240312T184922Z
UID:5126-1735666200-1735669800@sacramentointerfaith.org
SUMMARY:December ICGS Board Meeting  Open to all
DESCRIPTION:December ICGS Board Meeting \nOpen to all\, email secretary@sacramentointerfaith.org for further information.
URL:https://sacramentointerfaith.org/event/december-icgs-board-meeting-open-to-all/
CATEGORIES:Interfaith Calendar
END:VEVENT
BEGIN:VEVENT
DTSTART;VALUE=DATE:20241228
DTEND;VALUE=DATE:20241229
DTSTAMP:20260423T135522
CREATED:20240307T235247Z
LAST-MODIFIED:20240307T235247Z
UID:5105-1735344000-1735430399@sacramentointerfaith.org
SUMMARY:Holy Innocents – Christian
DESCRIPTION:Holy Innocents – Christian \nChristian day of solemn memory of male children killed by King Herod in the attempt to destroy Jesus.
URL:https://sacramentointerfaith.org/event/holy-innocents-christian-3/
CATEGORIES:Interfaith Calendar
END:VEVENT
BEGIN:VEVENT
DTSTART;VALUE=DATE:20241226
DTEND;VALUE=DATE:20241227
DTSTAMP:20260423T135522
CREATED:20240307T235124Z
LAST-MODIFIED:20240307T235124Z
UID:5101-1735171200-1735257599@sacramentointerfaith.org
SUMMARY:Zarathosht Diso – Zoroastrian
DESCRIPTION:Zarathosht Diso – Zoroastrian \nAnniversary of the death of the Prophet Zarathushtra.
URL:https://sacramentointerfaith.org/event/zarathosht-diso-zoroastrian/
CATEGORIES:Interfaith Calendar
END:VEVENT
BEGIN:VEVENT
DTSTART;VALUE=DATE:20241225
DTEND;VALUE=DATE:20250103
DTSTAMP:20260423T135522
CREATED:20240307T235044Z
LAST-MODIFIED:20240307T235044Z
UID:5099-1735084800-1735862399@sacramentointerfaith.org
SUMMARY:Hanukkah – Jewish
DESCRIPTION:Hanukkah – Jewish \nHanukkah is an eight-day celebration during which Jews commemorate the victory of the Maccabees over the armies of Syria in 165 B.C.E. and the subsequent liberation and “rededication” of the Temple in Jerusalem.
URL:https://sacramentointerfaith.org/event/hanukkah-jewish/
CATEGORIES:Interfaith Calendar
END:VEVENT
BEGIN:VEVENT
DTSTART;VALUE=DATE:20241221
DTEND;VALUE=DATE:20241222
DTSTAMP:20260423T135522
CREATED:20240307T234850Z
LAST-MODIFIED:20240307T234850Z
UID:5093-1734739200-1734825599@sacramentointerfaith.org
SUMMARY:Winter Solstice – Wiccan/Pagan
DESCRIPTION:Winter Solstice – Wiccan/Pagan \nYule is the time of greatest darkness and the longest night of the year. This time is celebrated as the “return of the Sun God” when He is reborn of the Goddess.
URL:https://sacramentointerfaith.org/event/winter-solstice-wiccan-pagan/
CATEGORIES:Interfaith Calendar
END:VEVENT
BEGIN:VEVENT
DTSTART;VALUE=DATE:20241216
DTEND;VALUE=DATE:20241225
DTSTAMP:20260423T135522
CREATED:20240307T234817Z
LAST-MODIFIED:20240307T234817Z
UID:5091-1734307200-1735084799@sacramentointerfaith.org
SUMMARY:Posada Navidenas – Christian
DESCRIPTION:Posada Navidenas – Christian \nThe Hispanic Christian feast of The Lodgings commemorating the journey of Mary and Joseph to Bethlehem in preparation for the birth of Jesus.
URL:https://sacramentointerfaith.org/event/posada-navidenas-christian/
CATEGORIES:Interfaith Calendar
END:VEVENT
BEGIN:VEVENT
DTSTART;VALUE=DATE:20241208
DTEND;VALUE=DATE:20241209
DTSTAMP:20260423T135522
CREATED:20240307T234702Z
LAST-MODIFIED:20240307T234702Z
UID:5087-1733616000-1733702399@sacramentointerfaith.org
SUMMARY:Immaculate Conception of Mary – Catholic Christian
DESCRIPTION:Immaculate Conception of Mary – Catholic Christian \nThe Immaculate Conception of Mary is the conception of the Virgin Mary without\, according to the Roman Catholic Church\, any stain of original sin.
URL:https://sacramentointerfaith.org/event/immaculate-conception-of-mary-catholic-christian-3/
CATEGORIES:Interfaith Calendar
END:VEVENT
BEGIN:VEVENT
DTSTART;VALUE=DATE:20241201
DTEND;VALUE=DATE:20241225
DTSTAMP:20260423T135522
CREATED:20240307T234548Z
LAST-MODIFIED:20240307T234548Z
UID:5083-1733011200-1735084799@sacramentointerfaith.org
SUMMARY:Advent – Christian
DESCRIPTION:Advent – Christian \nTime of preparation for observing the birth of Jesus Christ. Advent is observed with the lighting of candles\, display of wreaths\, and special ceremonies. Advent anticipates the coming again to earth of Jesus Christ.
URL:https://sacramentointerfaith.org/event/advent-christian/
CATEGORIES:Interfaith Calendar
END:VEVENT
BEGIN:VEVENT
DTSTART;VALUE=DATE:20241130
DTEND;VALUE=DATE:20241201
DTSTAMP:20260423T135522
CREATED:20240307T234450Z
LAST-MODIFIED:20240307T234450Z
UID:5081-1732924800-1733011199@sacramentointerfaith.org
SUMMARY:Saint Andrew’s Day – Christian
DESCRIPTION:Saint Andrew’s Day – Christian \nChristian observance of the coming of Christianity to the area now known as Scotland. The martyrdom of St. Andrew is remembered as the season of advent is about to begin.
URL:https://sacramentointerfaith.org/event/saint-andrews-day-christian/
CATEGORIES:Interfaith Calendar
END:VEVENT
BEGIN:VEVENT
DTSTART;VALUE=DATE:20241128
DTEND;VALUE=DATE:20241129
DTSTAMP:20260423T135522
CREATED:20240307T234416Z
LAST-MODIFIED:20240307T234416Z
UID:5079-1732752000-1732838399@sacramentointerfaith.org
SUMMARY:Thanksgiving – Interfaith USA
DESCRIPTION:Thanksgiving – Interfaith USA \nInterfaith Celebration of the created earth. Celebrated in the USA.
URL:https://sacramentointerfaith.org/event/thanksgiving-interfaith-usa/
CATEGORIES:Interfaith Calendar
END:VEVENT
BEGIN:VEVENT
DTSTART;VALUE=DATE:20241127
DTEND;VALUE=DATE:20241128
DTSTAMP:20260423T135522
CREATED:20240307T234341Z
LAST-MODIFIED:20240307T234341Z
UID:5077-1732665600-1732751999@sacramentointerfaith.org
SUMMARY:Guru Nanak Dev Sahib’s Birthday – Sikh
DESCRIPTION:Guru Nanak Dev Sahib’s Birthday – Sikh \nDay honoring the birth of the first Sikh teacher who lived from 1469-1539 c.e. There are sacred readings\, prayers\, hymns\, and meals taken together.
URL:https://sacramentointerfaith.org/event/guru-nanak-dev-sahibs-birthday-sikh/
CATEGORIES:Interfaith Calendar
END:VEVENT
BEGIN:VEVENT
DTSTART;TZID=America/Los_Angeles:20241126T173000
DTEND;TZID=America/Los_Angeles:20241126T183000
DTSTAMP:20260423T135522
CREATED:20240312T184828Z
LAST-MODIFIED:20240312T184828Z
UID:5124-1732642200-1732645800@sacramentointerfaith.org
SUMMARY:November ICGS Board Meeting  Open to all
DESCRIPTION:November ICGS Board Meeting \nOpen to all\, email secretary@sacramentointerfaith.org for further information.
URL:https://sacramentointerfaith.org/event/november-icgs-board-meeting-open-to-all/
CATEGORIES:Interfaith Calendar
END:VEVENT
BEGIN:VEVENT
DTSTART;VALUE=DATE:20241126
DTEND;VALUE=DATE:20241127
DTSTAMP:20260423T135522
CREATED:20240307T234300Z
LAST-MODIFIED:20240307T234300Z
UID:5075-1732579200-1732665599@sacramentointerfaith.org
SUMMARY:Day of the Covenant – Baha’i
DESCRIPTION:Day of the Covenant – Baha’i \nBaha’i celebration of the covenant given in the last will and testament of Baha’u’llah.
URL:https://sacramentointerfaith.org/event/day-of-the-covenant-bahai-3/
CATEGORIES:Interfaith Calendar
END:VEVENT
BEGIN:VEVENT
DTSTART;VALUE=DATE:20241124
DTEND;VALUE=DATE:20241125
DTSTAMP:20260423T135522
CREATED:20240307T234222Z
LAST-MODIFIED:20240307T234222Z
UID:5072-1732406400-1732492799@sacramentointerfaith.org
SUMMARY:Guru Tegh Bahadur Martyrdom – Sikh
DESCRIPTION:Guru Tegh Bahadur Martyrdom – Sikh \nTime of remembering the execution of Teg Bahadur by the Moghul Emperor in Indi
URL:https://sacramentointerfaith.org/event/guru-tegh-bahadur-martyrdom-sikh/
CATEGORIES:Interfaith Calendar
END:VEVENT
BEGIN:VEVENT
DTSTART;VALUE=DATE:20241112
DTEND;VALUE=DATE:20241113
DTSTAMP:20260423T135522
CREATED:20240307T234150Z
LAST-MODIFIED:20240307T234150Z
UID:5070-1731369600-1731455999@sacramentointerfaith.org
SUMMARY:Birth of Baha’u’llah – Baha’i
DESCRIPTION:Birth of Baha’u’llah – Baha’i \nBaha’i celebration of the birth of their founder and teacher. Baha’u’llah is the Messenger of God. His teachings create the foundation of the Baha’i practice\, which is the unity of people of all races and backgrounds.
URL:https://sacramentointerfaith.org/event/birth-of-bahaullah-bahai-5/
CATEGORIES:Interfaith Calendar
END:VEVENT
BEGIN:VEVENT
DTSTART;VALUE=DATE:20241111
DTEND;VALUE=DATE:20241112
DTSTAMP:20260423T135522
CREATED:20240307T234037Z
LAST-MODIFIED:20240307T234037Z
UID:5066-1731283200-1731369599@sacramentointerfaith.org
SUMMARY:Veterans Day –National Observance
DESCRIPTION:Veterans Day –National Observance \nFederal Holiday celebrating military veterans.
URL:https://sacramentointerfaith.org/event/veterans-day-national-observance/
CATEGORIES:Interfaith Calendar
END:VEVENT
BEGIN:VEVENT
DTSTART;VALUE=DATE:20241101
DTEND;VALUE=DATE:20241102
DTSTAMP:20260423T135522
CREATED:20240307T233936Z
LAST-MODIFIED:20240307T233936Z
UID:5062-1730419200-1730505599@sacramentointerfaith.org
SUMMARY:All Saints Day – Christian and Eastern Orthodox
DESCRIPTION:All Saints Day – Christian and Eastern Orthodox \nThe Catholic and Protestant churches celebrate all believers\, known and unknown\, alive and dead. Note: The Eastern Church observes this holiday on a different date.
URL:https://sacramentointerfaith.org/event/all-saints-day-christian-and-eastern-orthodox/
CATEGORIES:Interfaith Calendar
END:VEVENT
BEGIN:VEVENT
DTSTART;VALUE=DATE:20241031
DTEND;VALUE=DATE:20241101
DTSTAMP:20260423T135522
CREATED:20240307T233730Z
LAST-MODIFIED:20240307T233730Z
UID:5057-1730332800-1730419199@sacramentointerfaith.org
SUMMARY:All Hallow’s Eve – Christian
DESCRIPTION:All Hallow’s Eve – Christian \nChristian celebration of mystery combining prayers and merriment involving children and families. It is a prelude to All Saint’s Day.
URL:https://sacramentointerfaith.org/event/all-hallows-eve-christian-3/
CATEGORIES:Interfaith Calendar
END:VEVENT
BEGIN:VEVENT
DTSTART;VALUE=DATE:20241031
DTEND;VALUE=DATE:20241101
DTSTAMP:20260423T135522
CREATED:20240307T233608Z
LAST-MODIFIED:20240307T233608Z
UID:5054-1730332800-1730419199@sacramentointerfaith.org
SUMMARY:Reformation Day – Protestant Christian
DESCRIPTION:Reformation Day – Protestant Christian \nAnniversary of tradition and its emphasis on the place of the Bible and religious freedom. Public observation is the Sunday before October 31.
URL:https://sacramentointerfaith.org/event/reformation-day-protestant-christian-3/
CATEGORIES:Interfaith Calendar
END:VEVENT
BEGIN:VEVENT
DTSTART;TZID=America/Los_Angeles:20241029T173000
DTEND;TZID=America/Los_Angeles:20241029T183000
DTSTAMP:20260423T135522
CREATED:20240312T184737Z
LAST-MODIFIED:20240312T184737Z
UID:5122-1730223000-1730226600@sacramentointerfaith.org
SUMMARY:October ICGS Board Meeting  Open to all
DESCRIPTION:October ICGS Board Meeting \nOpen to all\, email secretary@sacramentointerfaith.org for further information.
URL:https://sacramentointerfaith.org/event/october-icgs-board-meeting-open-to-all/
CATEGORIES:Interfaith Calendar
END:VEVENT
BEGIN:VEVENT
DTSTART;VALUE=DATE:20241012
DTEND;VALUE=DATE:20241013
DTSTAMP:20260423T135522
CREATED:20240307T233240Z
LAST-MODIFIED:20240307T233240Z
UID:5044-1728691200-1728777599@sacramentointerfaith.org
SUMMARY:Dasara – Hindu
DESCRIPTION:Dasara – Hindu \nHindu celebration of victory and valor. Lord Rama is remembered as winning a victory over evil.
URL:https://sacramentointerfaith.org/event/dasara-hindu/
CATEGORIES:Interfaith Calendar
END:VEVENT
BEGIN:VEVENT
DTSTART;VALUE=DATE:20241011
DTEND;VALUE=DATE:20241012
DTSTAMP:20260423T135522
CREATED:20240307T233210Z
LAST-MODIFIED:20240307T233210Z
UID:5042-1728604800-1728691199@sacramentointerfaith.org
SUMMARY:National Coming Out Day – LQBTQ+ national observance
DESCRIPTION:National Coming Out Day – LQBTQ+ national observance \nA national day to celebrate coming out and promote LGBTQ individuals to live openly and honestly.
URL:https://sacramentointerfaith.org/event/national-coming-out-day-lqbtq-national-observance/
CATEGORIES:Interfaith Calendar
END:VEVENT
BEGIN:VEVENT
DTSTART;VALUE=DATE:20241003
DTEND;VALUE=DATE:20241013
DTSTAMP:20260423T135522
CREATED:20240307T233038Z
LAST-MODIFIED:20240307T233038Z
UID:5038-1727913600-1728777599@sacramentointerfaith.org
SUMMARY:Navaratri – Hindu
DESCRIPTION:Navaratri – Hindu \nHindu festival of the divine mother honoring Durga\, wife of Shiva\, and seeking her blessings. Also observed as a celebration recalling the days of Lord Krishna.
URL:https://sacramentointerfaith.org/event/navaratri-hindu/
CATEGORIES:Interfaith Calendar
END:VEVENT
BEGIN:VEVENT
DTSTART;VALUE=DATE:20240927
DTEND;VALUE=DATE:20240928
DTSTAMP:20260423T135522
CREATED:20240307T232919Z
LAST-MODIFIED:20240307T232919Z
UID:5034-1727395200-1727481599@sacramentointerfaith.org
SUMMARY:Meskel – Ethiopian Orthodox Christian
DESCRIPTION:Meskel – Ethiopian Orthodox Christian \nEthiopian and Eritrean Orthodox Christian commemoration of the discovery of the True Cross by Queen Eleni (St. Helenea) in the 4th-century a.d.
URL:https://sacramentointerfaith.org/event/meskel-ethiopian-orthodox-christian/
CATEGORIES:Interfaith Calendar
END:VEVENT
END:VCALENDAR