BEGIN:VCALENDAR
VERSION:2.0
PRODID:-//Interfaith Council of Greater Sacramento - ECPv6.15.20//NONSGML v1.0//EN
CALSCALE:GREGORIAN
METHOD:PUBLISH
X-WR-CALNAME:Interfaith Council of Greater Sacramento
X-ORIGINAL-URL:https://sacramentointerfaith.org
X-WR-CALDESC:Events for Interfaith Council of Greater Sacramento
REFRESH-INTERVAL;VALUE=DURATION:PT1H
X-Robots-Tag:noindex
X-PUBLISHED-TTL:PT1H
BEGIN:VTIMEZONE
TZID:America/Los_Angeles
BEGIN:DAYLIGHT
TZOFFSETFROM:-0800
TZOFFSETTO:-0700
TZNAME:PDT
DTSTART:20210314T100000
END:DAYLIGHT
BEGIN:STANDARD
TZOFFSETFROM:-0700
TZOFFSETTO:-0800
TZNAME:PST
DTSTART:20211107T090000
END:STANDARD
BEGIN:DAYLIGHT
TZOFFSETFROM:-0800
TZOFFSETTO:-0700
TZNAME:PDT
DTSTART:20220313T100000
END:DAYLIGHT
BEGIN:STANDARD
TZOFFSETFROM:-0700
TZOFFSETTO:-0800
TZNAME:PST
DTSTART:20221106T090000
END:STANDARD
BEGIN:DAYLIGHT
TZOFFSETFROM:-0800
TZOFFSETTO:-0700
TZNAME:PDT
DTSTART:20230312T100000
END:DAYLIGHT
BEGIN:STANDARD
TZOFFSETFROM:-0700
TZOFFSETTO:-0800
TZNAME:PST
DTSTART:20231105T090000
END:STANDARD
END:VTIMEZONE
BEGIN:VEVENT
DTSTART;VALUE=DATE:20220811
DTEND;VALUE=DATE:20220812
DTSTAMP:20260425T181416
CREATED:20211124T004744Z
LAST-MODIFIED:20211124T004744Z
UID:3835-1660176000-1660262399@sacramentointerfaith.org
SUMMARY:Raksha Bandhan - Hindu
DESCRIPTION:
URL:https://sacramentointerfaith.org/event/raksha-bandhan-hindu/
CATEGORIES:Interfaith Calendar
END:VEVENT
BEGIN:VEVENT
DTSTART;VALUE=DATE:20220807
DTEND;VALUE=DATE:20220808
DTSTAMP:20260425T181416
CREATED:20211124T004744Z
LAST-MODIFIED:20211124T004744Z
UID:3834-1659830400-1659916799@sacramentointerfaith.org
SUMMARY:Tish'a B'av - Judaism
DESCRIPTION:
URL:https://sacramentointerfaith.org/event/tisha-bav-judaism/
CATEGORIES:Interfaith Calendar
END:VEVENT
BEGIN:VEVENT
DTSTART;VALUE=DATE:20220806
DTEND;VALUE=DATE:20220807
DTSTAMP:20260425T181416
CREATED:20211124T004743Z
LAST-MODIFIED:20211124T004743Z
UID:3833-1659744000-1659830399@sacramentointerfaith.org
SUMMARY:Transfiguration of the Lord - Orthodox Christian
DESCRIPTION:
URL:https://sacramentointerfaith.org/event/transfiguration-of-the-lord-orthodox-christian/
CATEGORIES:Interfaith Calendar
END:VEVENT
BEGIN:VEVENT
DTSTART;VALUE=DATE:20220801
DTEND;VALUE=DATE:20220802
DTSTAMP:20260425T181416
CREATED:20211124T004743Z
LAST-MODIFIED:20211124T004743Z
UID:3832-1659312000-1659398399@sacramentointerfaith.org
SUMMARY:Fast in honor of Holy Mother of Jesus - Orthodox Christian
DESCRIPTION:
URL:https://sacramentointerfaith.org/event/fast-in-honor-of-holy-mother-of-jesus-orthodox-christian/
CATEGORIES:Interfaith Calendar
END:VEVENT
BEGIN:VEVENT
DTSTART;VALUE=DATE:20220801
DTEND;VALUE=DATE:20220802
DTSTAMP:20260425T181416
CREATED:20211124T004728Z
LAST-MODIFIED:20211124T004728Z
UID:3830-1659312000-1659398399@sacramentointerfaith.org
SUMMARY:Lammas - Christian
DESCRIPTION:
URL:https://sacramentointerfaith.org/event/lammas-christian/
CATEGORIES:Interfaith Calendar
END:VEVENT
BEGIN:VEVENT
DTSTART;VALUE=DATE:20220801
DTEND;VALUE=DATE:20220802
DTSTAMP:20260425T181416
CREATED:20211124T004728Z
LAST-MODIFIED:20211124T004728Z
UID:3831-1659312000-1659398399@sacramentointerfaith.org
SUMMARY:Lughnassad (Lammas) * - Wicca/Neo Pagan
DESCRIPTION:
URL:https://sacramentointerfaith.org/event/lughnassad-lammas-wicca-neo-pagan/
CATEGORIES:Interfaith Calendar
END:VEVENT
BEGIN:VEVENT
DTSTART;VALUE=DATE:20220726
DTEND;VALUE=DATE:20220727
DTSTAMP:20260425T181416
CREATED:20211124T004727Z
LAST-MODIFIED:20211124T004727Z
UID:3829-1658793600-1658879999@sacramentointerfaith.org
SUMMARY:Asalha Puja Day (Dhamma Day) ** - Buddhism
DESCRIPTION:
URL:https://sacramentointerfaith.org/event/asalha-puja-day-dhamma-day-buddhism/
CATEGORIES:Interfaith Calendar
END:VEVENT
BEGIN:VEVENT
DTSTART;VALUE=DATE:20220725
DTEND;VALUE=DATE:20220726
DTSTAMP:20260425T181416
CREATED:20211124T004727Z
LAST-MODIFIED:20211124T004727Z
UID:3828-1658707200-1658793599@sacramentointerfaith.org
SUMMARY:St. James the Great Day - Christian
DESCRIPTION:
URL:https://sacramentointerfaith.org/event/st-james-the-great-day-christian/
CATEGORIES:Interfaith Calendar
END:VEVENT
BEGIN:VEVENT
DTSTART;VALUE=DATE:20220724
DTEND;VALUE=DATE:20220725
DTSTAMP:20260425T181416
CREATED:20211124T004727Z
LAST-MODIFIED:20211124T004727Z
UID:3827-1658620800-1658707199@sacramentointerfaith.org
SUMMARY:Pioneer Day- Mormon Christian
DESCRIPTION:
URL:https://sacramentointerfaith.org/event/pioneer-day-mormon-christian/
CATEGORIES:Interfaith Calendar
END:VEVENT
BEGIN:VEVENT
DTSTART;VALUE=DATE:20220723
DTEND;VALUE=DATE:20220724
DTSTAMP:20260425T181416
CREATED:20211124T004601Z
LAST-MODIFIED:20211124T004601Z
UID:3826-1658534400-1658620799@sacramentointerfaith.org
SUMMARY:Emperor Haile Selassie birthday - Rastafarian
DESCRIPTION:
URL:https://sacramentointerfaith.org/event/emperor-haile-selassie-birthday-rastafarian/
CATEGORIES:Interfaith Calendar
END:VEVENT
BEGIN:VEVENT
DTSTART;VALUE=DATE:20220715
DTEND;VALUE=DATE:20220716
DTSTAMP:20260425T181416
CREATED:20211124T004601Z
LAST-MODIFIED:20211124T004601Z
UID:3825-1657843200-1657929599@sacramentointerfaith.org
SUMMARY:St. Vladimir the Great Day - Orthodox Christian
DESCRIPTION:
URL:https://sacramentointerfaith.org/event/st-vladimir-the-great-day-orthodox-christian/
CATEGORIES:Interfaith Calendar
END:VEVENT
BEGIN:VEVENT
DTSTART;VALUE=DATE:20220713
DTEND;VALUE=DATE:20220714
DTSTAMP:20260425T181416
CREATED:20211124T004601Z
LAST-MODIFIED:20211124T004601Z
UID:3824-1657670400-1657756799@sacramentointerfaith.org
SUMMARY:Obon (Ulambana) ** - Buddhist/Shinto 
DESCRIPTION:
URL:https://sacramentointerfaith.org/event/obon-ulambana-buddhist-shinto/
CATEGORIES:Interfaith Calendar
END:VEVENT
BEGIN:VEVENT
DTSTART;VALUE=DATE:20220711
DTEND;VALUE=DATE:20220712
DTSTAMP:20260425T181416
CREATED:20211124T004601Z
LAST-MODIFIED:20211124T004601Z
UID:3823-1657497600-1657583999@sacramentointerfaith.org
SUMMARY:St Benedict Day - Catholic Christian
DESCRIPTION:
URL:https://sacramentointerfaith.org/event/st-benedict-day-catholic-christian/
CATEGORIES:Interfaith Calendar
END:VEVENT
BEGIN:VEVENT
DTSTART;VALUE=DATE:20220710
DTEND;VALUE=DATE:20220711
DTSTAMP:20260425T181416
CREATED:20211124T004600Z
LAST-MODIFIED:20211124T004600Z
UID:3822-1657411200-1657497599@sacramentointerfaith.org
SUMMARY:Martyrdom of the Bab * - Baha'i
DESCRIPTION:
URL:https://sacramentointerfaith.org/event/martyrdom-of-the-bab-bahai/
CATEGORIES:Interfaith Calendar
END:VEVENT
BEGIN:VEVENT
DTSTART;VALUE=DATE:20220629
DTEND;VALUE=DATE:20220630
DTSTAMP:20260425T181416
CREATED:20211124T004401Z
LAST-MODIFIED:20211124T004401Z
UID:3821-1656460800-1656547199@sacramentointerfaith.org
SUMMARY:Feast Day of Saints Peter and Paul - Christian
DESCRIPTION:
URL:https://sacramentointerfaith.org/event/feast-day-of-saints-peter-and-paul-christian/
CATEGORIES:Interfaith Calendar
END:VEVENT
BEGIN:VEVENT
DTSTART;VALUE=DATE:20220624
DTEND;VALUE=DATE:20220625
DTSTAMP:20260425T181416
CREATED:20211124T004401Z
LAST-MODIFIED:20211124T004401Z
UID:3819-1656028800-1656115199@sacramentointerfaith.org
SUMMARY:Sacred Heart of Jesus - Catholic Christian
DESCRIPTION:
URL:https://sacramentointerfaith.org/event/sacred-heart-of-jesus-catholic-christian/
CATEGORIES:Interfaith Calendar
END:VEVENT
BEGIN:VEVENT
DTSTART;VALUE=DATE:20220624
DTEND;VALUE=DATE:20220625
DTSTAMP:20260425T181416
CREATED:20211124T004401Z
LAST-MODIFIED:20211124T004401Z
UID:3820-1656028800-1656115199@sacramentointerfaith.org
SUMMARY:Saint John the Baptist -  Christian
DESCRIPTION:
URL:https://sacramentointerfaith.org/event/saint-john-the-baptist-christian/
CATEGORIES:Interfaith Calendar
END:VEVENT
BEGIN:VEVENT
DTSTART;VALUE=DATE:20220622
DTEND;VALUE=DATE:20220623
DTSTAMP:20260425T181416
CREATED:20211124T004400Z
LAST-MODIFIED:20211124T004400Z
UID:3817-1655856000-1655942399@sacramentointerfaith.org
SUMMARY:First Nations Day - Canadian Native People
DESCRIPTION:
URL:https://sacramentointerfaith.org/event/first-nations-day-canadian-native-people/
CATEGORIES:Interfaith Calendar
END:VEVENT
BEGIN:VEVENT
DTSTART;VALUE=DATE:20220622
DTEND;VALUE=DATE:20220623
DTSTAMP:20260425T181416
CREATED:20211124T004400Z
LAST-MODIFIED:20211124T004400Z
UID:3818-1655856000-1655942399@sacramentointerfaith.org
SUMMARY:Litha Summer Solstice * - Wicca/Neo Pagan
DESCRIPTION:
URL:https://sacramentointerfaith.org/event/litha-summer-solstice-wicca-neo-pagan-2/
CATEGORIES:Interfaith Calendar
END:VEVENT
BEGIN:VEVENT
DTSTART;VALUE=DATE:20220621
DTEND;VALUE=DATE:20220622
DTSTAMP:20260425T181416
CREATED:20211124T004159Z
LAST-MODIFIED:20211124T004159Z
UID:3816-1655769600-1655855999@sacramentointerfaith.org
SUMMARY:Litha - Summer Solstice - Wicca/Neo Pagan
DESCRIPTION:
URL:https://sacramentointerfaith.org/event/litha-summer-solstice-wicca-neo-pagan/
CATEGORIES:Interfaith Calendar
END:VEVENT
BEGIN:VEVENT
DTSTART;VALUE=DATE:20220619
DTEND;VALUE=DATE:20220620
DTSTAMP:20260425T181416
CREATED:20211124T004159Z
LAST-MODIFIED:20211124T004159Z
UID:3814-1655596800-1655683199@sacramentointerfaith.org
SUMMARY:New Church Day - Swedenborgian Christian
DESCRIPTION:
URL:https://sacramentointerfaith.org/event/new-church-day-swedenborgian-christian/
CATEGORIES:Interfaith Calendar
END:VEVENT
BEGIN:VEVENT
DTSTART;VALUE=DATE:20220619
DTEND;VALUE=DATE:20220620
DTSTAMP:20260425T181416
CREATED:20211124T004159Z
LAST-MODIFIED:20211124T004159Z
UID:3815-1655596800-1655683199@sacramentointerfaith.org
SUMMARY:All Saint's Day - Orthodox
DESCRIPTION:
URL:https://sacramentointerfaith.org/event/all-saints-day-orthodox/
CATEGORIES:Interfaith Calendar
END:VEVENT
BEGIN:VEVENT
DTSTART;VALUE=DATE:20220616
DTEND;VALUE=DATE:20220617
DTSTAMP:20260425T181416
CREATED:20211124T004159Z
LAST-MODIFIED:20211124T004159Z
UID:3812-1655337600-1655423999@sacramentointerfaith.org
SUMMARY:Guru Arjan martyrdom - Sikh
DESCRIPTION:
URL:https://sacramentointerfaith.org/event/guru-arjan-martyrdom-sikh/
CATEGORIES:Interfaith Calendar
END:VEVENT
BEGIN:VEVENT
DTSTART;VALUE=DATE:20220616
DTEND;VALUE=DATE:20220617
DTSTAMP:20260425T181416
CREATED:20211124T004159Z
LAST-MODIFIED:20211124T004159Z
UID:3813-1655337600-1655423999@sacramentointerfaith.org
SUMMARY:Corpus Christi - Catholic Christian
DESCRIPTION:
URL:https://sacramentointerfaith.org/event/corpus-christi-catholic-christian/
CATEGORIES:Interfaith Calendar
END:VEVENT
BEGIN:VEVENT
DTSTART;VALUE=DATE:20220615
DTEND;VALUE=DATE:20220616
DTSTAMP:20260425T181416
CREATED:20211124T003958Z
LAST-MODIFIED:20211124T003958Z
UID:3811-1655251200-1655337599@sacramentointerfaith.org
SUMMARY:St. Vladimir - Christian
DESCRIPTION:
URL:https://sacramentointerfaith.org/event/st-vladimir-christian/
CATEGORIES:Interfaith Calendar
END:VEVENT
BEGIN:VEVENT
DTSTART;VALUE=DATE:20220612
DTEND;VALUE=DATE:20220613
DTSTAMP:20260425T181416
CREATED:20211124T003958Z
LAST-MODIFIED:20211124T003958Z
UID:3809-1654992000-1655078399@sacramentointerfaith.org
SUMMARY:Pentecost - Orthodox Christian
DESCRIPTION:
URL:https://sacramentointerfaith.org/event/pentecost-orthodox-christian/
CATEGORIES:Interfaith Calendar
END:VEVENT
BEGIN:VEVENT
DTSTART;VALUE=DATE:20220612
DTEND;VALUE=DATE:20220613
DTSTAMP:20260425T181416
CREATED:20211124T003958Z
LAST-MODIFIED:20211124T003958Z
UID:3810-1654992000-1655078399@sacramentointerfaith.org
SUMMARY:Trinity Sunday - Christian
DESCRIPTION:
URL:https://sacramentointerfaith.org/event/trinity-sunday-christian/
CATEGORIES:Interfaith Calendar
END:VEVENT
BEGIN:VEVENT
DTSTART;VALUE=DATE:20220609
DTEND;VALUE=DATE:20220610
DTSTAMP:20260425T181416
CREATED:20211124T003958Z
LAST-MODIFIED:20211124T003958Z
UID:3808-1654732800-1654819199@sacramentointerfaith.org
SUMMARY:St. Columba of Iona - Celtic Christian
DESCRIPTION:
URL:https://sacramentointerfaith.org/event/st-columba-of-iona-celtic-christian/
CATEGORIES:Interfaith Calendar
END:VEVENT
BEGIN:VEVENT
DTSTART;VALUE=DATE:20220606
DTEND;VALUE=DATE:20220607
DTSTAMP:20260425T181416
CREATED:20211124T003958Z
LAST-MODIFIED:20211124T003958Z
UID:3807-1654473600-1654559999@sacramentointerfaith.org
SUMMARY:Savuot ends - Judaism
DESCRIPTION:
URL:https://sacramentointerfaith.org/event/savuot-ends-judaism/
CATEGORIES:Interfaith Calendar
END:VEVENT
BEGIN:VEVENT
DTSTART;VALUE=DATE:20220605
DTEND;VALUE=DATE:20220606
DTSTAMP:20260425T181416
CREATED:20211124T003942Z
LAST-MODIFIED:20211124T003942Z
UID:3805-1654387200-1654473599@sacramentointerfaith.org
SUMMARY:Pentecost - Christian
DESCRIPTION:
URL:https://sacramentointerfaith.org/event/pentecost-christian/
CATEGORIES:Interfaith Calendar
END:VEVENT
END:VCALENDAR