BEGIN:VCALENDAR
VERSION:2.0
PRODID:-//Interfaith Council of Greater Sacramento - ECPv6.15.20//NONSGML v1.0//EN
CALSCALE:GREGORIAN
METHOD:PUBLISH
X-WR-CALNAME:Interfaith Council of Greater Sacramento
X-ORIGINAL-URL:https://sacramentointerfaith.org
X-WR-CALDESC:Events for Interfaith Council of Greater Sacramento
REFRESH-INTERVAL;VALUE=DURATION:PT1H
X-Robots-Tag:noindex
X-PUBLISHED-TTL:PT1H
BEGIN:VTIMEZONE
TZID:America/Los_Angeles
BEGIN:DAYLIGHT
TZOFFSETFROM:-0800
TZOFFSETTO:-0700
TZNAME:PDT
DTSTART:20210314T100000
END:DAYLIGHT
BEGIN:STANDARD
TZOFFSETFROM:-0700
TZOFFSETTO:-0800
TZNAME:PST
DTSTART:20211107T090000
END:STANDARD
BEGIN:DAYLIGHT
TZOFFSETFROM:-0800
TZOFFSETTO:-0700
TZNAME:PDT
DTSTART:20220313T100000
END:DAYLIGHT
BEGIN:STANDARD
TZOFFSETFROM:-0700
TZOFFSETTO:-0800
TZNAME:PST
DTSTART:20221106T090000
END:STANDARD
BEGIN:DAYLIGHT
TZOFFSETFROM:-0800
TZOFFSETTO:-0700
TZNAME:PDT
DTSTART:20230312T100000
END:DAYLIGHT
BEGIN:STANDARD
TZOFFSETFROM:-0700
TZOFFSETTO:-0800
TZNAME:PST
DTSTART:20231105T090000
END:STANDARD
END:VTIMEZONE
BEGIN:VEVENT
DTSTART;VALUE=DATE:20221024
DTEND;VALUE=DATE:20221025
DTSTAMP:20260425T142458
CREATED:20211124T005105Z
LAST-MODIFIED:20211124T005105Z
UID:3861-1666569600-1666655999@sacramentointerfaith.org
SUMMARY:Diwali (Deepavali) - Hindu
DESCRIPTION:
URL:https://sacramentointerfaith.org/event/diwali-deepavali-hindu/
CATEGORIES:Interfaith Calendar
END:VEVENT
BEGIN:VEVENT
DTSTART;VALUE=DATE:20221020
DTEND;VALUE=DATE:20221021
DTSTAMP:20260425T142458
CREATED:20211124T005104Z
LAST-MODIFIED:20211124T005104Z
UID:3860-1666224000-1666310399@sacramentointerfaith.org
SUMMARY:Installation of Scriptures as Guru Granth - Sikh
DESCRIPTION:
URL:https://sacramentointerfaith.org/event/installation-of-scriptures-as-guru-granth-sikh/
CATEGORIES:Interfaith Calendar
END:VEVENT
BEGIN:VEVENT
DTSTART;VALUE=DATE:20221018
DTEND;VALUE=DATE:20221019
DTSTAMP:20260425T142458
CREATED:20211124T005050Z
LAST-MODIFIED:20211124T005050Z
UID:3858-1666051200-1666137599@sacramentointerfaith.org
SUMMARY:St. Luke\, Apostle & Evangelist - Christian
DESCRIPTION:
URL:https://sacramentointerfaith.org/event/st-luke-apostle-evangelist-christian/
CATEGORIES:Interfaith Calendar
END:VEVENT
BEGIN:VEVENT
DTSTART;VALUE=DATE:20221018
DTEND;VALUE=DATE:20221019
DTSTAMP:20260425T142458
CREATED:20211124T005050Z
LAST-MODIFIED:20211124T005050Z
UID:3859-1666051200-1666137599@sacramentointerfaith.org
SUMMARY:Simchat Torah - Judaism
DESCRIPTION:
URL:https://sacramentointerfaith.org/event/simchat-torah-judaism/
CATEGORIES:Interfaith Calendar
END:VEVENT
BEGIN:VEVENT
DTSTART;VALUE=DATE:20221017
DTEND;VALUE=DATE:20221018
DTSTAMP:20260425T142458
CREATED:20211124T005050Z
LAST-MODIFIED:20211124T005050Z
UID:3857-1665964800-1666051199@sacramentointerfaith.org
SUMMARY:Shemini Atzeret - Judaism
DESCRIPTION:
URL:https://sacramentointerfaith.org/event/shemini-atzeret-judaism/
CATEGORIES:Interfaith Calendar
END:VEVENT
BEGIN:VEVENT
DTSTART;VALUE=DATE:20221016
DTEND;VALUE=DATE:20221017
DTSTAMP:20260425T142458
CREATED:20211124T005050Z
LAST-MODIFIED:20211124T005050Z
UID:3856-1665878400-1665964799@sacramentointerfaith.org
SUMMARY:Sukkot ends - Judaism
DESCRIPTION:
URL:https://sacramentointerfaith.org/event/sukkot-ends-judaism/
CATEGORIES:Interfaith Calendar
END:VEVENT
BEGIN:VEVENT
DTSTART;VALUE=DATE:20221010
DTEND;VALUE=DATE:20221011
DTSTAMP:20260425T142458
CREATED:20211124T005049Z
LAST-MODIFIED:20211124T005049Z
UID:3855-1665360000-1665446399@sacramentointerfaith.org
SUMMARY:Sukkot begins - Judaism
DESCRIPTION:
URL:https://sacramentointerfaith.org/event/sukkot-begins-judaism/
CATEGORIES:Interfaith Calendar
END:VEVENT
BEGIN:VEVENT
DTSTART;VALUE=DATE:20221006
DTEND;VALUE=DATE:20221007
DTSTAMP:20260425T142458
CREATED:20211124T005046Z
LAST-MODIFIED:20211124T005046Z
UID:3854-1665014400-1665100799@sacramentointerfaith.org
SUMMARY:St. Thomas Day - Orthodox Christian
DESCRIPTION:
URL:https://sacramentointerfaith.org/event/st-thomas-day-orthodox-christian/
CATEGORIES:Interfaith Calendar
END:VEVENT
BEGIN:VEVENT
DTSTART;VALUE=DATE:20221005
DTEND;VALUE=DATE:20221006
DTSTAMP:20260425T142458
CREATED:20211124T005046Z
LAST-MODIFIED:20211124T005046Z
UID:3853-1664928000-1665014399@sacramentointerfaith.org
SUMMARY:Yom Kippur - Judaism
DESCRIPTION:
URL:https://sacramentointerfaith.org/event/yom-kippur-judaism/
CATEGORIES:Interfaith Calendar
END:VEVENT
BEGIN:VEVENT
DTSTART;VALUE=DATE:20221004
DTEND;VALUE=DATE:20221005
DTSTAMP:20260425T142458
CREATED:20211124T005046Z
LAST-MODIFIED:20211124T005046Z
UID:3851-1664841600-1664927999@sacramentointerfaith.org
SUMMARY:Blessing of the Animals - Christian
DESCRIPTION:
URL:https://sacramentointerfaith.org/event/blessing-of-the-animals-christian/
CATEGORIES:Interfaith Calendar
END:VEVENT
BEGIN:VEVENT
DTSTART;VALUE=DATE:20221004
DTEND;VALUE=DATE:20221005
DTSTAMP:20260425T142458
CREATED:20211124T005046Z
LAST-MODIFIED:20211124T005046Z
UID:3852-1664841600-1664927999@sacramentointerfaith.org
SUMMARY:Navaratri Ends - Hindu
DESCRIPTION:
URL:https://sacramentointerfaith.org/event/navaratri-ends-hindu/
CATEGORIES:Interfaith Calendar
END:VEVENT
BEGIN:VEVENT
DTSTART;VALUE=DATE:20221004
DTEND;VALUE=DATE:20221005
DTSTAMP:20260425T142458
CREATED:20211124T005045Z
LAST-MODIFIED:20211124T005045Z
UID:3850-1664841600-1664927999@sacramentointerfaith.org
SUMMARY:St Francis Day - Catholic Christian
DESCRIPTION:
URL:https://sacramentointerfaith.org/event/st-francis-day-catholic-christian/
CATEGORIES:Interfaith Calendar
END:VEVENT
BEGIN:VEVENT
DTSTART;VALUE=DATE:20220929
DTEND;VALUE=DATE:20220930
DTSTAMP:20260425T142458
CREATED:20211124T004925Z
LAST-MODIFIED:20211124T004925Z
UID:3847-1664409600-1664495999@sacramentointerfaith.org
SUMMARY:Michael and All Angels - Christian
DESCRIPTION:
URL:https://sacramentointerfaith.org/event/michael-and-all-angels-christian/
CATEGORIES:Interfaith Calendar
END:VEVENT
BEGIN:VEVENT
DTSTART;VALUE=DATE:20220926
DTEND;VALUE=DATE:20220927
DTSTAMP:20260425T142458
CREATED:20211124T004829Z
LAST-MODIFIED:20211124T004829Z
UID:3846-1664150400-1664236799@sacramentointerfaith.org
SUMMARY:Navaratri Begins - Hindu
DESCRIPTION:
URL:https://sacramentointerfaith.org/event/navaratri-begins-hindu/
CATEGORIES:Interfaith Calendar
END:VEVENT
BEGIN:VEVENT
DTSTART;VALUE=DATE:20220923
DTEND;VALUE=DATE:20220924
DTSTAMP:20260425T142458
CREATED:20211124T004829Z
LAST-MODIFIED:20211124T004829Z
UID:3845-1663891200-1663977599@sacramentointerfaith.org
SUMMARY:Fall Equinox * - Wicca/Neo Pagan
DESCRIPTION:
URL:https://sacramentointerfaith.org/event/fall-equinox-wicca-neo-pagan/
CATEGORIES:Interfaith Calendar
END:VEVENT
BEGIN:VEVENT
DTSTART;VALUE=DATE:20220914
DTEND;VALUE=DATE:20220915
DTSTAMP:20260425T142458
CREATED:20211124T004829Z
LAST-MODIFIED:20211124T004829Z
UID:3844-1663113600-1663199999@sacramentointerfaith.org
SUMMARY:Elevation of the Life Giving Cross (Holy Cross) - Christian
DESCRIPTION:
URL:https://sacramentointerfaith.org/event/elevation-of-the-life-giving-cross-holy-cross-christian/
CATEGORIES:Interfaith Calendar
END:VEVENT
BEGIN:VEVENT
DTSTART;VALUE=DATE:20220911
DTEND;VALUE=DATE:20220912
DTSTAMP:20260425T142458
CREATED:20211124T004828Z
LAST-MODIFIED:20211124T004828Z
UID:3843-1662854400-1662940799@sacramentointerfaith.org
SUMMARY:Ethiopian New Year - Rastafarian
DESCRIPTION:
URL:https://sacramentointerfaith.org/event/ethiopian-new-year-rastafarian/
CATEGORIES:Interfaith Calendar
END:VEVENT
BEGIN:VEVENT
DTSTART;VALUE=DATE:20220908
DTEND;VALUE=DATE:20220909
DTSTAMP:20260425T142458
CREATED:20211124T004828Z
LAST-MODIFIED:20211124T004828Z
UID:3842-1662595200-1662681599@sacramentointerfaith.org
SUMMARY:Nativity of Virgin Mary - Christian
DESCRIPTION:
URL:https://sacramentointerfaith.org/event/nativity-of-virgin-mary-christian/
CATEGORIES:Interfaith Calendar
END:VEVENT
BEGIN:VEVENT
DTSTART;VALUE=DATE:20220901
DTEND;VALUE=DATE:20220902
DTSTAMP:20260425T142458
CREATED:20211124T004813Z
LAST-MODIFIED:20211124T004813Z
UID:3841-1661990400-1662076799@sacramentointerfaith.org
SUMMARY:Religious year begins - Orthodox Christian
DESCRIPTION:
URL:https://sacramentointerfaith.org/event/religious-year-begins-orthodox-christian/
CATEGORIES:Interfaith Calendar
END:VEVENT
BEGIN:VEVENT
DTSTART;VALUE=DATE:20220831
DTEND;VALUE=DATE:20220901
DTSTAMP:20260425T142458
CREATED:20211124T004813Z
LAST-MODIFIED:20211124T004813Z
UID:3840-1661904000-1661990399@sacramentointerfaith.org
SUMMARY:Ganesh Chaturthi - Hindu
DESCRIPTION:
URL:https://sacramentointerfaith.org/event/ganesh-chaturthi-hindu/
CATEGORIES:Interfaith Calendar
END:VEVENT
BEGIN:VEVENT
DTSTART;VALUE=DATE:20220829
DTEND;VALUE=DATE:20220830
DTSTAMP:20260425T142458
CREATED:20211124T004813Z
LAST-MODIFIED:20211124T004813Z
UID:3839-1661731200-1661817599@sacramentointerfaith.org
SUMMARY:Beheading of St. John the Baptist - Christian
DESCRIPTION:
URL:https://sacramentointerfaith.org/event/beheading-of-st-john-the-baptist-christian/
CATEGORIES:Interfaith Calendar
END:VEVENT
BEGIN:VEVENT
DTSTART;VALUE=DATE:20220819
DTEND;VALUE=DATE:20220820
DTSTAMP:20260425T142458
CREATED:20211124T004813Z
LAST-MODIFIED:20211124T004813Z
UID:3838-1660867200-1660953599@sacramentointerfaith.org
SUMMARY:Krishna Janmashtami - Hindu
DESCRIPTION:
URL:https://sacramentointerfaith.org/event/krishna-janmashtami-hindu/
CATEGORIES:Interfaith Calendar
END:VEVENT
BEGIN:VEVENT
DTSTART;VALUE=DATE:20220815
DTEND;VALUE=DATE:20220816
DTSTAMP:20260425T142458
CREATED:20211124T004813Z
LAST-MODIFIED:20211124T004813Z
UID:3837-1660521600-1660607999@sacramentointerfaith.org
SUMMARY:Dormition of the Theotokos - Orthodox Christian
DESCRIPTION:
URL:https://sacramentointerfaith.org/event/dormition-of-the-theotokos-orthodox-christian/
CATEGORIES:Interfaith Calendar
END:VEVENT
BEGIN:VEVENT
DTSTART;VALUE=DATE:20220815
DTEND;VALUE=DATE:20220816
DTSTAMP:20260425T142458
CREATED:20211124T004744Z
LAST-MODIFIED:20211124T004744Z
UID:3836-1660521600-1660607999@sacramentointerfaith.org
SUMMARY:Assumption of Blessed Virgin Mary - Catholic Christian
DESCRIPTION:
URL:https://sacramentointerfaith.org/event/assumption-of-blessed-virgin-mary-catholic-christian/
CATEGORIES:Interfaith Calendar
END:VEVENT
BEGIN:VEVENT
DTSTART;VALUE=DATE:20220811
DTEND;VALUE=DATE:20220812
DTSTAMP:20260425T142458
CREATED:20211124T004744Z
LAST-MODIFIED:20211124T004744Z
UID:3835-1660176000-1660262399@sacramentointerfaith.org
SUMMARY:Raksha Bandhan - Hindu
DESCRIPTION:
URL:https://sacramentointerfaith.org/event/raksha-bandhan-hindu/
CATEGORIES:Interfaith Calendar
END:VEVENT
BEGIN:VEVENT
DTSTART;VALUE=DATE:20220807
DTEND;VALUE=DATE:20220808
DTSTAMP:20260425T142458
CREATED:20211124T004744Z
LAST-MODIFIED:20211124T004744Z
UID:3834-1659830400-1659916799@sacramentointerfaith.org
SUMMARY:Tish'a B'av - Judaism
DESCRIPTION:
URL:https://sacramentointerfaith.org/event/tisha-bav-judaism/
CATEGORIES:Interfaith Calendar
END:VEVENT
BEGIN:VEVENT
DTSTART;VALUE=DATE:20220806
DTEND;VALUE=DATE:20220807
DTSTAMP:20260425T142458
CREATED:20211124T004743Z
LAST-MODIFIED:20211124T004743Z
UID:3833-1659744000-1659830399@sacramentointerfaith.org
SUMMARY:Transfiguration of the Lord - Orthodox Christian
DESCRIPTION:
URL:https://sacramentointerfaith.org/event/transfiguration-of-the-lord-orthodox-christian/
CATEGORIES:Interfaith Calendar
END:VEVENT
BEGIN:VEVENT
DTSTART;VALUE=DATE:20220801
DTEND;VALUE=DATE:20220802
DTSTAMP:20260425T142458
CREATED:20211124T004743Z
LAST-MODIFIED:20211124T004743Z
UID:3832-1659312000-1659398399@sacramentointerfaith.org
SUMMARY:Fast in honor of Holy Mother of Jesus - Orthodox Christian
DESCRIPTION:
URL:https://sacramentointerfaith.org/event/fast-in-honor-of-holy-mother-of-jesus-orthodox-christian/
CATEGORIES:Interfaith Calendar
END:VEVENT
BEGIN:VEVENT
DTSTART;VALUE=DATE:20220801
DTEND;VALUE=DATE:20220802
DTSTAMP:20260425T142458
CREATED:20211124T004728Z
LAST-MODIFIED:20211124T004728Z
UID:3830-1659312000-1659398399@sacramentointerfaith.org
SUMMARY:Lammas - Christian
DESCRIPTION:
URL:https://sacramentointerfaith.org/event/lammas-christian/
CATEGORIES:Interfaith Calendar
END:VEVENT
BEGIN:VEVENT
DTSTART;VALUE=DATE:20220801
DTEND;VALUE=DATE:20220802
DTSTAMP:20260425T142458
CREATED:20211124T004728Z
LAST-MODIFIED:20211124T004728Z
UID:3831-1659312000-1659398399@sacramentointerfaith.org
SUMMARY:Lughnassad (Lammas) * - Wicca/Neo Pagan
DESCRIPTION:
URL:https://sacramentointerfaith.org/event/lughnassad-lammas-wicca-neo-pagan/
CATEGORIES:Interfaith Calendar
END:VEVENT
END:VCALENDAR