BEGIN:VCALENDAR
VERSION:2.0
PRODID:-//Interfaith Council of Greater Sacramento - ECPv6.15.20//NONSGML v1.0//EN
CALSCALE:GREGORIAN
METHOD:PUBLISH
X-WR-CALNAME:Interfaith Council of Greater Sacramento
X-ORIGINAL-URL:https://sacramentointerfaith.org
X-WR-CALDESC:Events for Interfaith Council of Greater Sacramento
REFRESH-INTERVAL;VALUE=DURATION:PT1H
X-Robots-Tag:noindex
X-PUBLISHED-TTL:PT1H
BEGIN:VTIMEZONE
TZID:America/Los_Angeles
BEGIN:DAYLIGHT
TZOFFSETFROM:-0800
TZOFFSETTO:-0700
TZNAME:PDT
DTSTART:20250309T100000
END:DAYLIGHT
BEGIN:STANDARD
TZOFFSETFROM:-0700
TZOFFSETTO:-0800
TZNAME:PST
DTSTART:20251102T090000
END:STANDARD
BEGIN:DAYLIGHT
TZOFFSETFROM:-0800
TZOFFSETTO:-0700
TZNAME:PDT
DTSTART:20260308T100000
END:DAYLIGHT
BEGIN:STANDARD
TZOFFSETFROM:-0700
TZOFFSETTO:-0800
TZNAME:PST
DTSTART:20261101T090000
END:STANDARD
BEGIN:DAYLIGHT
TZOFFSETFROM:-0800
TZOFFSETTO:-0700
TZNAME:PDT
DTSTART:20270314T100000
END:DAYLIGHT
BEGIN:STANDARD
TZOFFSETFROM:-0700
TZOFFSETTO:-0800
TZNAME:PST
DTSTART:20271107T090000
END:STANDARD
END:VTIMEZONE
BEGIN:VEVENT
DTSTART;VALUE=DATE:20260526
DTEND;VALUE=DATE:20260530
DTSTAMP:20260423T152836
CREATED:20240307T231014Z
LAST-MODIFIED:20260401T202432Z
UID:4982-1779753600-1780099199@sacramentointerfaith.org
SUMMARY:Eid al Adha – Islam
DESCRIPTION:Eid al Adha – Islam \nIslamic festival of sacrifice. The day after Arafat\, the most important day in Hajj ritual. A three-day festival recalling Abraham’s willingness to sacrifice his son in obedience to Allah.
URL:https://sacramentointerfaith.org/event/eid-al-adha-islam/
CATEGORIES:Interfaith Calendar
END:VEVENT
BEGIN:VEVENT
DTSTART;VALUE=DATE:20260528
DTEND;VALUE=DATE:20260529
DTSTAMP:20260423T152836
CREATED:20240307T230641Z
LAST-MODIFIED:20260401T202503Z
UID:4976-1779926400-1780012799@sacramentointerfaith.org
SUMMARY:Ascension of Baha’u’llah – Baha’i
DESCRIPTION:Ascension of Baha’u’llah – Baha’i \nMarks the anniversary of the death of the founder of the Baha’i faith.
URL:https://sacramentointerfaith.org/event/ascension-of-bahaullah-bahai-3/
CATEGORIES:Interfaith Calendar
END:VEVENT
BEGIN:VEVENT
DTSTART;VALUE=DATE:20260531
DTEND;VALUE=DATE:20260601
DTSTAMP:20260423T152836
CREATED:20230104T171413Z
LAST-MODIFIED:20260401T203117Z
UID:4553-1780185600-1780271999@sacramentointerfaith.org
SUMMARY:Visakha Puja - Buddha Day ** - Buddhism
DESCRIPTION:Asalha Puja Day – Buddhist \nObservance of the day when Gautama Buddha made his first public proclamation to five ascetics at Deer Park\, Banares. He taught the noble eight-fold path and the four noble truths.
URL:https://sacramentointerfaith.org/event/visakha-puja-buddha-day-buddhism-2/
CATEGORIES:Interfaith Calendar
END:VEVENT
BEGIN:VEVENT
DTSTART;VALUE=DATE:20260607
DTEND;VALUE=DATE:20260608
DTSTAMP:20260423T152836
CREATED:20240307T230325Z
LAST-MODIFIED:20260412T170010Z
UID:4966-1780790400-1780876799@sacramentointerfaith.org
SUMMARY:Pentecost – Christian (Western Church)
DESCRIPTION:Pentecost – Christian (Western Church) \nCelebration of the descent of the Holy Spirit on Jesus’ disciples\, the birth of the church\, following His resurrection. Occurs seven weeks after Easter Sunday and is celebrated with baptism liturgies and joyous services. Note: The Eastern Church observes this holiday on June 12t
URL:https://sacramentointerfaith.org/event/pentecost-christian-western-church/
CATEGORIES:Interfaith Calendar
END:VEVENT
BEGIN:VEVENT
DTSTART;VALUE=DATE:20260607
DTEND;VALUE=DATE:20260608
DTSTAMP:20260423T152836
CREATED:20240307T230718Z
LAST-MODIFIED:20260412T170044Z
UID:4978-1780790400-1780876799@sacramentointerfaith.org
SUMMARY:Corpus Christi – Catholic Christian
DESCRIPTION:Corpus Christi – Catholic Christian \nCatholic celebration in recognition of the Eucharist – The Blessed Sacrament of the Body and Blood of Christ. The real presence of the body and blood of Jesus is honored.
URL:https://sacramentointerfaith.org/event/corpus-christi-catholic-christian-2/
CATEGORIES:Interfaith Calendar
END:VEVENT
BEGIN:VEVENT
DTSTART;VALUE=DATE:20260617
DTEND;VALUE=DATE:20260618
DTSTAMP:20260423T152836
CREATED:20230118T162152Z
LAST-MODIFIED:20260412T170131Z
UID:4589-1781654400-1781740799@sacramentointerfaith.org
SUMMARY:Hijri Calendar- Muharram 1445 - Islam
DESCRIPTION:** Dates are based on a lunar calendar and may not coincide with the Julian/solar calendar dates listed by +/- 1 day. \nReligious observances begin the evening prior and into the day listed.
URL:https://sacramentointerfaith.org/event/hijri-calendar-muharram-1445-islam/
CATEGORIES:Interfaith Calendar
END:VEVENT
BEGIN:VEVENT
DTSTART;VALUE=DATE:20260618
DTEND;VALUE=DATE:20260619
DTSTAMP:20260423T152836
CREATED:20240307T231054Z
LAST-MODIFIED:20260412T170154Z
UID:4984-1781740800-1781827199@sacramentointerfaith.org
SUMMARY:Guru Arjan Dev Martyrdom – Sikh
DESCRIPTION:Guru Arjan Dev Martyrdom – Sikh \nSikh time of remembering those who have suffered for the faith. Observed by reading the Guru Granth Sahib.
URL:https://sacramentointerfaith.org/event/guru-arjan-dev-martyrdom-sikh/
CATEGORIES:Interfaith Calendar
END:VEVENT
BEGIN:VEVENT
DTSTART;VALUE=DATE:20260621
DTEND;VALUE=DATE:20260622
DTSTAMP:20260423T152836
CREATED:20240307T231210Z
LAST-MODIFIED:20260412T170243Z
UID:4988-1782000000-1782086399@sacramentointerfaith.org
SUMMARY:Litha/Summer Solstice – Wiccan/Pagan
DESCRIPTION:Summer Solstice – Wiccan/Pagan \nOne of four solar holidays where the sun shines the longest time and reaches the highest height.
URL:https://sacramentointerfaith.org/event/summer-solstice-wiccan-pagan/
CATEGORIES:Interfaith Calendar
END:VEVENT
BEGIN:VEVENT
DTSTART;VALUE=DATE:20260625
DTEND;VALUE=DATE:20260626
DTSTAMP:20260423T152836
CREATED:20240307T232248Z
LAST-MODIFIED:20260412T170334Z
UID:5013-1782345600-1782431999@sacramentointerfaith.org
SUMMARY:Ashura – Islam
DESCRIPTION:Ashura – Islam \nThe Day of Ashura commemorates\, for Shi’a Muslims\, a day of mourning for the martyrdom of Husayn ibn Ali\, the grandson of the prophet Muhammad. \nDates are based on a lunar calendar and may not coincide with the Julian/solar calendar dates listed by +/- 1 day. Religious observances begin the evening prior and into the day listed.
URL:https://sacramentointerfaith.org/event/ashura-islam/
CATEGORIES:Interfaith Calendar
END:VEVENT
BEGIN:VEVENT
DTSTART;VALUE=DATE:20260629
DTEND;VALUE=DATE:20260704
DTSTAMP:20260423T152836
CREATED:20260412T170433Z
LAST-MODIFIED:20260412T170433Z
UID:5294-1782691200-1783123199@sacramentointerfaith.org
SUMMARY:Ghambar Maidyoshem
DESCRIPTION:Ghambar Maidyoshem – \n\n\n\nZoroastrianism
URL:https://sacramentointerfaith.org/event/ghambar-maidyoshem/
CATEGORIES:Interfaith Calendar
END:VEVENT
BEGIN:VEVENT
DTSTART;VALUE=DATE:20260702
DTEND;VALUE=DATE:20260703
DTSTAMP:20260423T152836
CREATED:20260412T170617Z
LAST-MODIFIED:20260412T170617Z
UID:5296-1782950400-1783036799@sacramentointerfaith.org
SUMMARY:Fast of 17 Tammuz - Judaism
DESCRIPTION:Fast of 17 Tammuz- Judaism
URL:https://sacramentointerfaith.org/event/fast-of-17-tammuz-judaism/
CATEGORIES:Interfaith Calendar
END:VEVENT
BEGIN:VEVENT
DTSTART;VALUE=DATE:20260709
DTEND;VALUE=DATE:20260710
DTSTAMP:20260423T152836
CREATED:20240307T231425Z
LAST-MODIFIED:20260412T170645Z
UID:4994-1783555200-1783641599@sacramentointerfaith.org
SUMMARY:Martyrdom of the Bab – Baha’i
DESCRIPTION:Martyrdom of the Bab – Baha’i \nAli Mohammed was executed in 1850 by Persian political and religious powers. Observed by abstaining from commerce and work.
URL:https://sacramentointerfaith.org/event/martyrdom-of-the-bab-bahai-3/
CATEGORIES:Interfaith Calendar
END:VEVENT
BEGIN:VEVENT
DTSTART;VALUE=DATE:20260723
DTEND;VALUE=DATE:20260725
DTSTAMP:20260423T152836
CREATED:20260412T170734Z
LAST-MODIFIED:20260412T170734Z
UID:5298-1784764800-1784937599@sacramentointerfaith.org
SUMMARY:Fast of Tisha B’Av - Judaism
DESCRIPTION:Fast of Tisha B’Av – Judaism
URL:https://sacramentointerfaith.org/event/fast-of-tisha-bav-judaism/
CATEGORIES:Interfaith Calendar
END:VEVENT
BEGIN:VEVENT
DTSTART;VALUE=DATE:20260729
DTEND;VALUE=DATE:20260730
DTSTAMP:20260423T152836
CREATED:20260412T170839Z
LAST-MODIFIED:20260412T170839Z
UID:5300-1785283200-1785369599@sacramentointerfaith.org
SUMMARY:Dharma Day - Buddhism
DESCRIPTION:Dharma Day – Buddhism \nSome Buddhist holidays are celebrated on different days or different times of the year in different Buddhist traditions. Buddhist holidays listed in this calendar followed the days they are celebrated in the Theravada tradition.
URL:https://sacramentointerfaith.org/event/dharma-day-buddhism/
CATEGORIES:Interfaith Calendar
END:VEVENT
BEGIN:VEVENT
DTSTART;VALUE=DATE:20260731
DTEND;VALUE=DATE:20260801
DTSTAMP:20260423T152836
CREATED:20260412T170925Z
LAST-MODIFIED:20260412T170925Z
UID:5302-1785456000-1785542399@sacramentointerfaith.org
SUMMARY:Feast of St. Ignatius Loyola - Roman Catholic
DESCRIPTION:Feast of St. Ignatius Loyola – Roman Catholic
URL:https://sacramentointerfaith.org/event/feast-of-st-ignatius-loyola-roman-catholic/
CATEGORIES:Interfaith Calendar
END:VEVENT
BEGIN:VEVENT
DTSTART;VALUE=DATE:20260801
DTEND;VALUE=DATE:20260802
DTSTAMP:20260423T152836
CREATED:20230118T162801Z
LAST-MODIFIED:20260412T171015Z
UID:4606-1785542400-1785628799@sacramentointerfaith.org
SUMMARY:Lughnassad (Lammas) * - Wicca/Neo Pagan
DESCRIPTION:
URL:https://sacramentointerfaith.org/event/lughnassad-lammas-wicca-neo-pagan-2/
CATEGORIES:Interfaith Calendar
END:VEVENT
BEGIN:VEVENT
DTSTART;VALUE=DATE:20260806
DTEND;VALUE=DATE:20260807
DTSTAMP:20260423T152836
CREATED:20240307T231745Z
LAST-MODIFIED:20260412T171044Z
UID:5005-1785974400-1786060799@sacramentointerfaith.org
SUMMARY:Transfiguration Sunday – Christian
DESCRIPTION:Transfiguration Sunday – Christian \nChristian commemoration of the experience on Mt. Tabor when Jesus’ physical appearance became brilliant as his connection with traditional Jewish holy figures became evident to the disciple
URL:https://sacramentointerfaith.org/event/transfiguration-sunday-christian-2/
CATEGORIES:Interfaith Calendar
END:VEVENT
BEGIN:VEVENT
DTSTART;VALUE=DATE:20260815
DTEND;VALUE=DATE:20260816
DTSTAMP:20260423T152836
CREATED:20260412T171130Z
LAST-MODIFIED:20260412T171130Z
UID:5304-1786752000-1786838399@sacramentointerfaith.org
SUMMARY:Feast of the Assumption of the Blessed Virgin Mary - Roman Catholic
DESCRIPTION:Feast of the Assumption of the Blessed Virgin Mary – Roman Catholic
URL:https://sacramentointerfaith.org/event/feast-of-the-assumption-of-the-blessed-virgin-mary-roman-catholic/
CATEGORIES:Interfaith Calendar
END:VEVENT
BEGIN:VEVENT
DTSTART;VALUE=DATE:20260815
DTEND;VALUE=DATE:20260816
DTSTAMP:20260423T152836
CREATED:20260412T171224Z
LAST-MODIFIED:20260412T171224Z
UID:5306-1786752000-1786838399@sacramentointerfaith.org
SUMMARY:Dormition of the Theotokos and Ever-Virgin Mary - Orthodox
DESCRIPTION:Dormition of the Theotokos and Ever-Virgin Mary – Orthodox
URL:https://sacramentointerfaith.org/event/dormition-of-the-theotokos-and-ever-virgin-mary-orthodox/
CATEGORIES:Interfaith Calendar
END:VEVENT
BEGIN:VEVENT
DTSTART;VALUE=DATE:20260909
DTEND;VALUE=DATE:20260910
DTSTAMP:20260423T152836
CREATED:20240307T232404Z
LAST-MODIFIED:20260412T171427Z
UID:5018-1788912000-1788998399@sacramentointerfaith.org
SUMMARY:Krishna Janmashtami – Hindu
DESCRIPTION:Krishna Janmashtami – Hindu \nHindu commemoration of the birth of Krishna – the 8th incarnation of the god Vishnu who took the form of Krishna to destroy the evil king Kansa.
URL:https://sacramentointerfaith.org/event/krishna-janmashtami-hindu-2/
CATEGORIES:Interfaith Calendar
END:VEVENT
BEGIN:VEVENT
DTSTART;VALUE=DATE:20260911
DTEND;VALUE=DATE:20260914
DTSTAMP:20260423T152836
CREATED:20240307T233001Z
LAST-MODIFIED:20260412T173127Z
UID:5036-1789084800-1789343999@sacramentointerfaith.org
SUMMARY:Rosh Hashanah – Judaism/Jewish
DESCRIPTION:Rosh Hashanah – Jewish \nRosh Hashanah marks the beginning of the Judaism/Jewish New Year. Rosh Hashana is the first of the High Holydays or Days of Awe; it is a time of prayer\, reflection\, and services.
URL:https://sacramentointerfaith.org/event/rosh-hashanah-jewish/
CATEGORIES:Interfaith Calendar
END:VEVENT
BEGIN:VEVENT
DTSTART;VALUE=DATE:20260914
DTEND;VALUE=DATE:20260915
DTSTAMP:20260423T152836
CREATED:20260412T173212Z
LAST-MODIFIED:20260412T173212Z
UID:5313-1789344000-1789430399@sacramentointerfaith.org
SUMMARY:Feast of the Exaltation of the Holy Cross - Roman Catholic\, Orthodox
DESCRIPTION:Feast of the Exaltation of the Holy Cross – Roman Catholic\, Orthodox
URL:https://sacramentointerfaith.org/event/feast-of-the-exaltation-of-the-holy-cross-roman-catholic-orthodox/
CATEGORIES:Interfaith Calendar
END:VEVENT
BEGIN:VEVENT
DTSTART;VALUE=DATE:20260914
DTEND;VALUE=DATE:20260915
DTSTAMP:20260423T152836
CREATED:20260412T173251Z
LAST-MODIFIED:20260412T173251Z
UID:5315-1789344000-1789430399@sacramentointerfaith.org
SUMMARY:Fast of Gedalya - Judaism
DESCRIPTION:Fast of Gedalya – Judaism
URL:https://sacramentointerfaith.org/event/fast-of-gedalya-judaism/
CATEGORIES:Interfaith Calendar
END:VEVENT
BEGIN:VEVENT
DTSTART;VALUE=DATE:20260920
DTEND;VALUE=DATE:20260922
DTSTAMP:20260423T152836
CREATED:20240307T233127Z
LAST-MODIFIED:20260412T173352Z
UID:5040-1789862400-1790035199@sacramentointerfaith.org
SUMMARY:Yom Kippur – Jewish/Judaism
DESCRIPTION:Yom Kippur – Jewish \nJewish/Judaism day of atonement. This holiest day of the Jewish year is observed with strict fasting and ceremonial repentance.
URL:https://sacramentointerfaith.org/event/yom-kippur-jewish/
CATEGORIES:Interfaith Calendar
END:VEVENT
BEGIN:VEVENT
DTSTART;VALUE=DATE:20260922
DTEND;VALUE=DATE:20260923
DTSTAMP:20260423T152837
CREATED:20240307T232841Z
LAST-MODIFIED:20260412T173419Z
UID:5032-1790035200-1790121599@sacramentointerfaith.org
SUMMARY:Fall Equinox (Mabon) – Wiccan/Pagan
DESCRIPTION:Fall Equinox (Mabon) – Wiccan/Pagan \nMabon\, falling in September in the Northern Hemisphere\, is a celebration of the second harvest during the autumn equinox. A time of gratitude and celebrating with others.
URL:https://sacramentointerfaith.org/event/fall-equinox-mabon-wiccan-pagan/
CATEGORIES:Interfaith Calendar
END:VEVENT
BEGIN:VEVENT
DTSTART;VALUE=DATE:20260925
DTEND;VALUE=DATE:20261003
DTSTAMP:20260423T152837
CREATED:20240307T233322Z
LAST-MODIFIED:20260412T173524Z
UID:5046-1790294400-1790985599@sacramentointerfaith.org
SUMMARY:Sukkot – Jewish/Judaism
DESCRIPTION:Sukkot – Jewish \nJewish/Judaism Feast of Tabernacles celebrates the harvest and the protection of the people of Israel as they wandered in the wilderness dwelling in tents. One of the three Pilgrimage Festivals for which Israelites were commanded to take a pilgrimage to the Temple at Jerusalem.
URL:https://sacramentointerfaith.org/event/sukkot-jewish/
CATEGORIES:Interfaith Calendar
END:VEVENT
BEGIN:VEVENT
DTSTART;VALUE=DATE:20260927
DTEND;VALUE=DATE:20260928
DTSTAMP:20260423T152837
CREATED:20230118T163211Z
LAST-MODIFIED:20260412T173553Z
UID:4622-1790467200-1790553599@sacramentointerfaith.org
SUMMARY:Elevation of the Life Giving Cross (Holy Cross) - Christian
DESCRIPTION:
URL:https://sacramentointerfaith.org/event/elevation-of-the-life-giving-cross-holy-cross-christian-2/
CATEGORIES:Interfaith Calendar
END:VEVENT
BEGIN:VEVENT
DTSTART;VALUE=DATE:20261003
DTEND;VALUE=DATE:20261004
DTSTAMP:20260423T152837
CREATED:20240307T233427Z
LAST-MODIFIED:20260412T173738Z
UID:5050-1790985600-1791071999@sacramentointerfaith.org
SUMMARY:Shemini Atzeret – Judaism/Jewish
DESCRIPTION:Shemini Atzeret – Jewish \nJudaism/Jewish completion of the annual cycle of the reading of the Torah. \nDates are based on a lunar calendar and may not coincide with the Julian/solar calendar dates listed by +/- 1 day. Religious observances begin the evening prior and into the day listed.
URL:https://sacramentointerfaith.org/event/shemini-atzeret-jewish/
CATEGORIES:Interfaith Calendar
END:VEVENT
BEGIN:VEVENT
DTSTART;VALUE=DATE:20261004
DTEND;VALUE=DATE:20261005
DTSTAMP:20260423T152837
CREATED:20240307T233515Z
LAST-MODIFIED:20260412T173857Z
UID:5052-1791072000-1791158399@sacramentointerfaith.org
SUMMARY:Simchat Tora – Jewish/Judaism
DESCRIPTION:Simchat Tora – Jewish \nJewish/Judaism day to celebrate the reading of the Law. Celebrates the conclusion of the annual cycle of Torah readings. \nDates are based on a lunar calendar and may not coincide with the Julian/solar calendar dates listed by +/- 1 day. Religious observances begin the evening prior and into the day listed.
URL:https://sacramentointerfaith.org/event/simchat-tora-jewish/
CATEGORIES:Interfaith Calendar
END:VEVENT
BEGIN:VEVENT
DTSTART;VALUE=DATE:20261007
DTEND;VALUE=DATE:20261008
DTSTAMP:20260423T152837
CREATED:20260412T173933Z
LAST-MODIFIED:20260412T173933Z
UID:5322-1791331200-1791417599@sacramentointerfaith.org
SUMMARY:Our Lady of the Rosary - Roman Catholic
DESCRIPTION:Our Lady of the Rosary – Roman Catholic
URL:https://sacramentointerfaith.org/event/our-lady-of-the-rosary-roman-catholic/
CATEGORIES:Interfaith Calendar
END:VEVENT
END:VCALENDAR