BEGIN:VCALENDAR
VERSION:2.0
PRODID:-//Interfaith Council of Greater Sacramento - ECPv6.15.20//NONSGML v1.0//EN
CALSCALE:GREGORIAN
METHOD:PUBLISH
X-ORIGINAL-URL:https://sacramentointerfaith.org
X-WR-CALDESC:Events for Interfaith Council of Greater Sacramento
REFRESH-INTERVAL;VALUE=DURATION:PT1H
X-Robots-Tag:noindex
X-PUBLISHED-TTL:PT1H
BEGIN:VTIMEZONE
TZID:America/Los_Angeles
BEGIN:DAYLIGHT
TZOFFSETFROM:-0800
TZOFFSETTO:-0700
TZNAME:PDT
DTSTART:20210314T100000
END:DAYLIGHT
BEGIN:STANDARD
TZOFFSETFROM:-0700
TZOFFSETTO:-0800
TZNAME:PST
DTSTART:20211107T090000
END:STANDARD
BEGIN:DAYLIGHT
TZOFFSETFROM:-0800
TZOFFSETTO:-0700
TZNAME:PDT
DTSTART:20220313T100000
END:DAYLIGHT
BEGIN:STANDARD
TZOFFSETFROM:-0700
TZOFFSETTO:-0800
TZNAME:PST
DTSTART:20221106T090000
END:STANDARD
BEGIN:DAYLIGHT
TZOFFSETFROM:-0800
TZOFFSETTO:-0700
TZNAME:PDT
DTSTART:20230312T100000
END:DAYLIGHT
BEGIN:STANDARD
TZOFFSETFROM:-0700
TZOFFSETTO:-0800
TZNAME:PST
DTSTART:20231105T090000
END:STANDARD
END:VTIMEZONE
BEGIN:VEVENT
DTSTART;VALUE=DATE:20221208
DTEND;VALUE=DATE:20221209
DTSTAMP:20260425T103755
CREATED:20211124T005613Z
LAST-MODIFIED:20211124T005613Z
UID:3885-1670457600-1670543999@sacramentointerfaith.org
SUMMARY:Immaculate Conception of Mary - Catholic Christian
DESCRIPTION:
URL:https://sacramentointerfaith.org/event/immaculate-conception-of-mary-catholic-christian/
CATEGORIES:Interfaith Calendar
END:VEVENT
BEGIN:VEVENT
DTSTART;VALUE=DATE:20221208
DTEND;VALUE=DATE:20221209
DTSTAMP:20260425T103755
CREATED:20211124T005559Z
LAST-MODIFIED:20211124T005559Z
UID:3884-1670457600-1670543999@sacramentointerfaith.org
SUMMARY:Bodhi Day  (Rohatsu) ** - Buddhism
DESCRIPTION:
URL:https://sacramentointerfaith.org/event/bodhi-day-rohatsu-buddhism/
CATEGORIES:Interfaith Calendar
END:VEVENT
BEGIN:VEVENT
DTSTART;VALUE=DATE:20221206
DTEND;VALUE=DATE:20221207
DTSTAMP:20260425T103755
CREATED:20211124T005558Z
LAST-MODIFIED:20211124T005558Z
UID:3883-1670284800-1670371199@sacramentointerfaith.org
SUMMARY:St. Nicholas Day - Christian
DESCRIPTION:
URL:https://sacramentointerfaith.org/event/st-nicholas-day-christian/
CATEGORIES:Interfaith Calendar
END:VEVENT
BEGIN:VEVENT
DTSTART;VALUE=DATE:20221130
DTEND;VALUE=DATE:20221201
DTSTAMP:20260425T103755
CREATED:20211124T005558Z
LAST-MODIFIED:20211124T005558Z
UID:3882-1669766400-1669852799@sacramentointerfaith.org
SUMMARY:St. Andrew's Day - Christian
DESCRIPTION:
URL:https://sacramentointerfaith.org/event/st-andrews-day-christian/
CATEGORIES:Interfaith Calendar
END:VEVENT
BEGIN:VEVENT
DTSTART;VALUE=DATE:20221128
DTEND;VALUE=DATE:20221129
DTSTAMP:20260425T103755
CREATED:20211124T005558Z
LAST-MODIFIED:20211124T005558Z
UID:3881-1669593600-1669679999@sacramentointerfaith.org
SUMMARY:Ascension of  'Abdu'l-Baha * - Baha'i
DESCRIPTION:
URL:https://sacramentointerfaith.org/event/ascension-of-abdul-baha-bahai/
CATEGORIES:Interfaith Calendar
END:VEVENT
BEGIN:VEVENT
DTSTART;VALUE=DATE:20221126
DTEND;VALUE=DATE:20221127
DTSTAMP:20260425T103755
CREATED:20211124T005558Z
LAST-MODIFIED:20211124T005558Z
UID:3880-1669420800-1669507199@sacramentointerfaith.org
SUMMARY:Day of the Covenant * - Baha'i
DESCRIPTION:
URL:https://sacramentointerfaith.org/event/day-of-the-covenant-bahai/
CATEGORIES:Interfaith Calendar
END:VEVENT
BEGIN:VEVENT
DTSTART;VALUE=DATE:20221124
DTEND;VALUE=DATE:20221125
DTSTAMP:20260425T103755
CREATED:20211124T005543Z
LAST-MODIFIED:20211124T005543Z
UID:3879-1669248000-1669334399@sacramentointerfaith.org
SUMMARY:Martyrdom of Guru Tegh Bahdur - Sikh
DESCRIPTION:
URL:https://sacramentointerfaith.org/event/martyrdom-of-guru-tegh-bahdur-sikh/
CATEGORIES:Interfaith Calendar
END:VEVENT
BEGIN:VEVENT
DTSTART;VALUE=DATE:20221121
DTEND;VALUE=DATE:20221122
DTSTAMP:20260425T103755
CREATED:20211124T005543Z
LAST-MODIFIED:20211124T005543Z
UID:3878-1668988800-1669075199@sacramentointerfaith.org
SUMMARY:Yule - Winter Solstice - Wicca/Neo Pagan
DESCRIPTION:
URL:https://sacramentointerfaith.org/event/yule-winter-solstice-wicca-neo-pagan/
CATEGORIES:Interfaith Calendar
END:VEVENT
BEGIN:VEVENT
DTSTART;VALUE=DATE:20221120
DTEND;VALUE=DATE:20221121
DTSTAMP:20260425T103755
CREATED:20211124T005543Z
LAST-MODIFIED:20211124T005543Z
UID:3877-1668902400-1668988799@sacramentointerfaith.org
SUMMARY:Christ the King - Christian
DESCRIPTION:
URL:https://sacramentointerfaith.org/event/christ-the-king-christian/
CATEGORIES:Interfaith Calendar
END:VEVENT
BEGIN:VEVENT
DTSTART;VALUE=DATE:20221115
DTEND;VALUE=DATE:20221116
DTSTAMP:20260425T103755
CREATED:20211124T005543Z
LAST-MODIFIED:20211124T005543Z
UID:3876-1668470400-1668556799@sacramentointerfaith.org
SUMMARY:Nativity Fast begins - ends Dec. 24 - Orthodox Christian
DESCRIPTION:
URL:https://sacramentointerfaith.org/event/nativity-fast-begins-ends-dec-24-orthodox-christian/
CATEGORIES:Interfaith Calendar
END:VEVENT
BEGIN:VEVENT
DTSTART;VALUE=DATE:20221112
DTEND;VALUE=DATE:20221113
DTSTAMP:20260425T103755
CREATED:20211124T005543Z
LAST-MODIFIED:20211124T005543Z
UID:3875-1668211200-1668297599@sacramentointerfaith.org
SUMMARY:Birth of Baha'u'llah * - Baha'i
DESCRIPTION:
URL:https://sacramentointerfaith.org/event/birth-of-bahaullah-bahai-2/
CATEGORIES:Interfaith Calendar
END:VEVENT
BEGIN:VEVENT
DTSTART;VALUE=DATE:20221102
DTEND;VALUE=DATE:20221103
DTSTAMP:20260425T103755
CREATED:20211124T005507Z
LAST-MODIFIED:20211124T005507Z
UID:3873-1667347200-1667433599@sacramentointerfaith.org
SUMMARY:All Souls Day - Catholic Christian
DESCRIPTION:
URL:https://sacramentointerfaith.org/event/all-souls-day-catholic-christian/
CATEGORIES:Interfaith Calendar
END:VEVENT
BEGIN:VEVENT
DTSTART;VALUE=DATE:20221102
DTEND;VALUE=DATE:20221103
DTSTAMP:20260425T103755
CREATED:20211124T005507Z
LAST-MODIFIED:20211124T005507Z
UID:3874-1667347200-1667433599@sacramentointerfaith.org
SUMMARY:Crowning of Emperor Haile Selassie - Rastafarian
DESCRIPTION:
URL:https://sacramentointerfaith.org/event/crowning-of-emperor-haile-selassie-rastafarian/
CATEGORIES:Interfaith Calendar
END:VEVENT
BEGIN:VEVENT
DTSTART;VALUE=DATE:20221101
DTEND;VALUE=DATE:20221102
DTSTAMP:20260425T103755
CREATED:20211124T005507Z
LAST-MODIFIED:20211124T005507Z
UID:3872-1667260800-1667347199@sacramentointerfaith.org
SUMMARY:All Saints Day - Christian
DESCRIPTION:
URL:https://sacramentointerfaith.org/event/all-saints-day-christian/
CATEGORIES:Interfaith Calendar
END:VEVENT
BEGIN:VEVENT
DTSTART;VALUE=DATE:20221031
DTEND;VALUE=DATE:20221101
DTSTAMP:20260425T103755
CREATED:20211124T005507Z
LAST-MODIFIED:20211124T005507Z
UID:3870-1667174400-1667260799@sacramentointerfaith.org
SUMMARY:Samhain - * Wicca/Neo Pagan
DESCRIPTION:
URL:https://sacramentointerfaith.org/event/samhain-wicca-neo-pagan/
CATEGORIES:Interfaith Calendar
END:VEVENT
BEGIN:VEVENT
DTSTART;VALUE=DATE:20221031
DTEND;VALUE=DATE:20221101
DTSTAMP:20260425T103755
CREATED:20211124T005507Z
LAST-MODIFIED:20211124T005507Z
UID:3871-1667174400-1667260799@sacramentointerfaith.org
SUMMARY:Deep Diwali - Jain
DESCRIPTION:
URL:https://sacramentointerfaith.org/event/deep-diwali-jain/
CATEGORIES:Interfaith Calendar
END:VEVENT
BEGIN:VEVENT
DTSTART;VALUE=DATE:20221031
DTEND;VALUE=DATE:20221101
DTSTAMP:20260425T103755
CREATED:20211124T005307Z
LAST-MODIFIED:20211124T005307Z
UID:3868-1667174400-1667260799@sacramentointerfaith.org
SUMMARY:All Hallows Eve - Christian
DESCRIPTION:
URL:https://sacramentointerfaith.org/event/all-hallows-eve-christian/
CATEGORIES:Interfaith Calendar
END:VEVENT
BEGIN:VEVENT
DTSTART;VALUE=DATE:20221031
DTEND;VALUE=DATE:20221101
DTSTAMP:20260425T103755
CREATED:20211124T005307Z
LAST-MODIFIED:20211124T005307Z
UID:3869-1667174400-1667260799@sacramentointerfaith.org
SUMMARY:Reformation Day - Protestant Christian
DESCRIPTION:
URL:https://sacramentointerfaith.org/event/reformation-day-protestant-christian/
CATEGORIES:Interfaith Calendar
END:VEVENT
BEGIN:VEVENT
DTSTART;VALUE=DATE:20221028
DTEND;VALUE=DATE:20221029
DTSTAMP:20260425T103755
CREATED:20211124T005306Z
LAST-MODIFIED:20211124T005306Z
UID:3867-1666915200-1667001599@sacramentointerfaith.org
SUMMARY:Milvian Bridge Day - Christian
DESCRIPTION:
URL:https://sacramentointerfaith.org/event/milvian-bridge-day-christian/
CATEGORIES:Interfaith Calendar
END:VEVENT
BEGIN:VEVENT
DTSTART;VALUE=DATE:20221027
DTEND;VALUE=DATE:20221028
DTSTAMP:20260425T103755
CREATED:20211124T005306Z
LAST-MODIFIED:20211124T005306Z
UID:3865-1666828800-1666915199@sacramentointerfaith.org
SUMMARY:Birth of Baha'u'llah * - Baha'i
DESCRIPTION:
URL:https://sacramentointerfaith.org/event/birth-of-bahaullah-bahai/
CATEGORIES:Interfaith Calendar
END:VEVENT
BEGIN:VEVENT
DTSTART;VALUE=DATE:20221027
DTEND;VALUE=DATE:20221028
DTSTAMP:20260425T103755
CREATED:20211124T005306Z
LAST-MODIFIED:20260412T173000Z
UID:3866-1666828800-1666915199@sacramentointerfaith.org
SUMMARY:Rosh Hashanah ends - Judaism
DESCRIPTION:
URL:https://sacramentointerfaith.org/event/rosh-hashanah-ends-judaism/
CATEGORIES:Interfaith Calendar
END:VEVENT
BEGIN:VEVENT
DTSTART;VALUE=DATE:20221026
DTEND;VALUE=DATE:20221027
DTSTAMP:20260425T103755
CREATED:20211124T005106Z
LAST-MODIFIED:20211124T005106Z
UID:3864-1666742400-1666828799@sacramentointerfaith.org
SUMMARY:Rosh Hashanah begins - Judaism
DESCRIPTION:
URL:https://sacramentointerfaith.org/event/rosh-hashanah-begins-judaism/
CATEGORIES:Interfaith Calendar
END:VEVENT
BEGIN:VEVENT
DTSTART;VALUE=DATE:20221026
DTEND;VALUE=DATE:20221027
DTSTAMP:20260425T103755
CREATED:20211124T005105Z
LAST-MODIFIED:20211124T005105Z
UID:3863-1666742400-1666828799@sacramentointerfaith.org
SUMMARY:Birth of the Bab * - Baha'i
DESCRIPTION:
URL:https://sacramentointerfaith.org/event/birth-of-the-bab-bahai/
CATEGORIES:Interfaith Calendar
END:VEVENT
BEGIN:VEVENT
DTSTART;VALUE=DATE:20221025
DTEND;VALUE=DATE:20221026
DTSTAMP:20260425T103755
CREATED:20211124T005105Z
LAST-MODIFIED:20211124T005105Z
UID:3862-1666656000-1666742399@sacramentointerfaith.org
SUMMARY:Vikram New Year - Hindu
DESCRIPTION:
URL:https://sacramentointerfaith.org/event/vikram-new-year-hindu/
CATEGORIES:Interfaith Calendar
END:VEVENT
BEGIN:VEVENT
DTSTART;VALUE=DATE:20221024
DTEND;VALUE=DATE:20221025
DTSTAMP:20260425T103755
CREATED:20211124T005105Z
LAST-MODIFIED:20211124T005105Z
UID:3861-1666569600-1666655999@sacramentointerfaith.org
SUMMARY:Diwali (Deepavali) - Hindu
DESCRIPTION:
URL:https://sacramentointerfaith.org/event/diwali-deepavali-hindu/
CATEGORIES:Interfaith Calendar
END:VEVENT
BEGIN:VEVENT
DTSTART;VALUE=DATE:20221020
DTEND;VALUE=DATE:20221021
DTSTAMP:20260425T103755
CREATED:20211124T005104Z
LAST-MODIFIED:20211124T005104Z
UID:3860-1666224000-1666310399@sacramentointerfaith.org
SUMMARY:Installation of Scriptures as Guru Granth - Sikh
DESCRIPTION:
URL:https://sacramentointerfaith.org/event/installation-of-scriptures-as-guru-granth-sikh/
CATEGORIES:Interfaith Calendar
END:VEVENT
BEGIN:VEVENT
DTSTART;VALUE=DATE:20221018
DTEND;VALUE=DATE:20221019
DTSTAMP:20260425T103755
CREATED:20211124T005050Z
LAST-MODIFIED:20211124T005050Z
UID:3858-1666051200-1666137599@sacramentointerfaith.org
SUMMARY:St. Luke\, Apostle & Evangelist - Christian
DESCRIPTION:
URL:https://sacramentointerfaith.org/event/st-luke-apostle-evangelist-christian/
CATEGORIES:Interfaith Calendar
END:VEVENT
BEGIN:VEVENT
DTSTART;VALUE=DATE:20221018
DTEND;VALUE=DATE:20221019
DTSTAMP:20260425T103755
CREATED:20211124T005050Z
LAST-MODIFIED:20211124T005050Z
UID:3859-1666051200-1666137599@sacramentointerfaith.org
SUMMARY:Simchat Torah - Judaism
DESCRIPTION:
URL:https://sacramentointerfaith.org/event/simchat-torah-judaism/
CATEGORIES:Interfaith Calendar
END:VEVENT
BEGIN:VEVENT
DTSTART;VALUE=DATE:20221017
DTEND;VALUE=DATE:20221018
DTSTAMP:20260425T103755
CREATED:20211124T005050Z
LAST-MODIFIED:20211124T005050Z
UID:3857-1665964800-1666051199@sacramentointerfaith.org
SUMMARY:Shemini Atzeret - Judaism
DESCRIPTION:
URL:https://sacramentointerfaith.org/event/shemini-atzeret-judaism/
CATEGORIES:Interfaith Calendar
END:VEVENT
BEGIN:VEVENT
DTSTART;VALUE=DATE:20221016
DTEND;VALUE=DATE:20221017
DTSTAMP:20260425T103755
CREATED:20211124T005050Z
LAST-MODIFIED:20211124T005050Z
UID:3856-1665878400-1665964799@sacramentointerfaith.org
SUMMARY:Sukkot ends - Judaism
DESCRIPTION:
URL:https://sacramentointerfaith.org/event/sukkot-ends-judaism/
CATEGORIES:Interfaith Calendar
END:VEVENT
END:VCALENDAR