BEGIN:VCALENDAR
VERSION:2.0
PRODID:-//Interfaith Council of Greater Sacramento - ECPv6.15.20//NONSGML v1.0//EN
CALSCALE:GREGORIAN
METHOD:PUBLISH
X-WR-CALNAME:Interfaith Council of Greater Sacramento
X-ORIGINAL-URL:https://sacramentointerfaith.org
X-WR-CALDESC:Events for Interfaith Council of Greater Sacramento
REFRESH-INTERVAL;VALUE=DURATION:PT1H
X-Robots-Tag:noindex
X-PUBLISHED-TTL:PT1H
BEGIN:VTIMEZONE
TZID:America/Los_Angeles
BEGIN:DAYLIGHT
TZOFFSETFROM:-0800
TZOFFSETTO:-0700
TZNAME:PDT
DTSTART:20210314T100000
END:DAYLIGHT
BEGIN:STANDARD
TZOFFSETFROM:-0700
TZOFFSETTO:-0800
TZNAME:PST
DTSTART:20211107T090000
END:STANDARD
BEGIN:DAYLIGHT
TZOFFSETFROM:-0800
TZOFFSETTO:-0700
TZNAME:PDT
DTSTART:20220313T100000
END:DAYLIGHT
BEGIN:STANDARD
TZOFFSETFROM:-0700
TZOFFSETTO:-0800
TZNAME:PST
DTSTART:20221106T090000
END:STANDARD
BEGIN:DAYLIGHT
TZOFFSETFROM:-0800
TZOFFSETTO:-0700
TZNAME:PDT
DTSTART:20230312T100000
END:DAYLIGHT
BEGIN:STANDARD
TZOFFSETFROM:-0700
TZOFFSETTO:-0800
TZNAME:PST
DTSTART:20231105T090000
END:STANDARD
BEGIN:DAYLIGHT
TZOFFSETFROM:-0800
TZOFFSETTO:-0700
TZNAME:PDT
DTSTART:20240310T100000
END:DAYLIGHT
BEGIN:STANDARD
TZOFFSETFROM:-0700
TZOFFSETTO:-0800
TZNAME:PST
DTSTART:20241103T090000
END:STANDARD
END:VTIMEZONE
BEGIN:VEVENT
DTSTART;VALUE=DATE:20230214
DTEND;VALUE=DATE:20230215
DTSTAMP:20260425T050841
CREATED:20230104T164123Z
LAST-MODIFIED:20230104T164123Z
UID:4495-1676332800-1676419199@sacramentointerfaith.org
SUMMARY:St. Valentine's Day - Christian
DESCRIPTION:
URL:https://sacramentointerfaith.org/event/st-valentines-day-christian-2/
CATEGORIES:Interfaith Calendar
END:VEVENT
BEGIN:VEVENT
DTSTART;VALUE=DATE:20230203
DTEND;VALUE=DATE:20230204
DTSTAMP:20260425T050841
CREATED:20230104T164100Z
LAST-MODIFIED:20230104T164100Z
UID:4493-1675382400-1675468799@sacramentointerfaith.org
SUMMARY:Setsebun (beginning of spring) - Shinto
DESCRIPTION:
URL:https://sacramentointerfaith.org/event/setsebun-beginning-of-spring-shinto-2/
CATEGORIES:Interfaith Calendar
END:VEVENT
BEGIN:VEVENT
DTSTART;VALUE=DATE:20230203
DTEND;VALUE=DATE:20230204
DTSTAMP:20260425T050841
CREATED:20230104T164034Z
LAST-MODIFIED:20230104T164034Z
UID:4491-1675382400-1675468799@sacramentointerfaith.org
SUMMARY:St. Blaze Day - Christian
DESCRIPTION:
URL:https://sacramentointerfaith.org/event/st-blaze-day-christian-2/
CATEGORIES:Interfaith Calendar
END:VEVENT
BEGIN:VEVENT
DTSTART;VALUE=DATE:20230202
DTEND;VALUE=DATE:20230203
DTSTAMP:20260425T050841
CREATED:20230104T164005Z
LAST-MODIFIED:20230104T164005Z
UID:4489-1675296000-1675382399@sacramentointerfaith.org
SUMMARY:Saint Brighid of Kildare - Christian
DESCRIPTION:
URL:https://sacramentointerfaith.org/event/saint-brighid-of-kildare-christian-2/
CATEGORIES:Interfaith Calendar
END:VEVENT
BEGIN:VEVENT
DTSTART;VALUE=DATE:20230202
DTEND;VALUE=DATE:20230203
DTSTAMP:20260425T050841
CREATED:20230104T163942Z
LAST-MODIFIED:20230104T163942Z
UID:4487-1675296000-1675382399@sacramentointerfaith.org
SUMMARY:Imbolc (Candlemas) * - Wicca/Neo Pagan
DESCRIPTION:
URL:https://sacramentointerfaith.org/event/imbolc-candlemas-wicca-neo-pagan-2/
CATEGORIES:Interfaith Calendar
END:VEVENT
BEGIN:VEVENT
DTSTART;VALUE=DATE:20230202
DTEND;VALUE=DATE:20230203
DTSTAMP:20260425T050841
CREATED:20230104T163922Z
LAST-MODIFIED:20230104T163922Z
UID:4485-1675296000-1675382399@sacramentointerfaith.org
SUMMARY:Candlemas - Presentation of Christ in the Temple - Christian
DESCRIPTION:
URL:https://sacramentointerfaith.org/event/candlemas-presentation-of-christ-in-the-temple-christian-2/
CATEGORIES:Interfaith Calendar
END:VEVENT
BEGIN:VEVENT
DTSTART;VALUE=DATE:20230130
DTEND;VALUE=DATE:20230131
DTSTAMP:20260425T050841
CREATED:20230104T162101Z
LAST-MODIFIED:20230104T162101Z
UID:4477-1675036800-1675123199@sacramentointerfaith.org
SUMMARY:Mahayana New Year 3 days** - Buddhism
DESCRIPTION:
URL:https://sacramentointerfaith.org/event/mahayana-new-year-3-days-buddhism-2/
CATEGORIES:Interfaith Calendar
END:VEVENT
BEGIN:VEVENT
DTSTART;VALUE=DATE:20230125
DTEND;VALUE=DATE:20230126
DTSTAMP:20260425T050841
CREATED:20230104T162028Z
LAST-MODIFIED:20230104T162028Z
UID:4475-1674604800-1674691199@sacramentointerfaith.org
SUMMARY:Conversion of St. Paul - Christian
DESCRIPTION:
URL:https://sacramentointerfaith.org/event/conversion-of-st-paul-christian-2/
CATEGORIES:Interfaith Calendar
END:VEVENT
BEGIN:VEVENT
DTSTART;VALUE=DATE:20230118
DTEND;VALUE=DATE:20230119
DTSTAMP:20260425T050841
CREATED:20230104T162003Z
LAST-MODIFIED:20230104T162003Z
UID:4472-1674000000-1674086399@sacramentointerfaith.org
SUMMARY:Week of Prayer for Christian Unity - Christian
DESCRIPTION:
URL:https://sacramentointerfaith.org/event/week-of-prayer-for-christian-unity-christian-2/
CATEGORIES:Interfaith Calendar
END:VEVENT
BEGIN:VEVENT
DTSTART;VALUE=DATE:20230117
DTEND;VALUE=DATE:20230118
DTSTAMP:20260425T050841
CREATED:20230104T161935Z
LAST-MODIFIED:20230104T161935Z
UID:4470-1673913600-1673999999@sacramentointerfaith.org
SUMMARY:Blessing of the Animals - Hispanic Catholic Christian
DESCRIPTION:
URL:https://sacramentointerfaith.org/event/blessing-of-the-animals-hispanic-catholic-christian-2/
CATEGORIES:Interfaith Calendar
END:VEVENT
BEGIN:VEVENT
DTSTART;VALUE=DATE:20230113
DTEND;VALUE=DATE:20230114
DTSTAMP:20260425T050841
CREATED:20230104T161910Z
LAST-MODIFIED:20230104T161910Z
UID:4468-1673568000-1673654399@sacramentointerfaith.org
SUMMARY:Maghi - Sikh
DESCRIPTION:
URL:https://sacramentointerfaith.org/event/maghi-sikh-2/
CATEGORIES:Interfaith Calendar
END:VEVENT
BEGIN:VEVENT
DTSTART;VALUE=DATE:20230108
DTEND;VALUE=DATE:20230109
DTSTAMP:20260425T050841
CREATED:20230104T161847Z
LAST-MODIFIED:20230104T161847Z
UID:4466-1673136000-1673222399@sacramentointerfaith.org
SUMMARY:Feast of the Holy Family - Catholic Christian
DESCRIPTION:
URL:https://sacramentointerfaith.org/event/feast-of-the-holy-family-catholic-christian-2/
CATEGORIES:Interfaith Calendar
END:VEVENT
BEGIN:VEVENT
DTSTART;VALUE=DATE:20230107
DTEND;VALUE=DATE:20230108
DTSTAMP:20260425T050841
CREATED:20230104T161747Z
LAST-MODIFIED:20230104T161747Z
UID:4464-1673049600-1673135999@sacramentointerfaith.org
SUMMARY:Feast of the Nativity - Orthodox Christian
DESCRIPTION:
URL:https://sacramentointerfaith.org/event/feast-of-the-nativity-orthodox-christian-3/
CATEGORIES:Interfaith Calendar
END:VEVENT
BEGIN:VEVENT
DTSTART;VALUE=DATE:20230106
DTEND;VALUE=DATE:20230107
DTSTAMP:20260425T050841
CREATED:20230104T161726Z
LAST-MODIFIED:20230104T161726Z
UID:4462-1672963200-1673049599@sacramentointerfaith.org
SUMMARY:Dia de los Reyes (Three Kings Day) - Christian
DESCRIPTION:
URL:https://sacramentointerfaith.org/event/dia-de-los-reyes-three-kings-day-christian-2/
CATEGORIES:Interfaith Calendar
END:VEVENT
BEGIN:VEVENT
DTSTART;VALUE=DATE:20230106
DTEND;VALUE=DATE:20230107
DTSTAMP:20260425T050841
CREATED:20230104T161707Z
LAST-MODIFIED:20230104T161707Z
UID:4460-1672963200-1673049599@sacramentointerfaith.org
SUMMARY:Feast of the Epiphany (Theophany) - Orthodox Christian
DESCRIPTION:
URL:https://sacramentointerfaith.org/event/feast-of-the-epiphany-theophany-orthodox-christian-2/
CATEGORIES:Interfaith Calendar
END:VEVENT
BEGIN:VEVENT
DTSTART;VALUE=DATE:20230106
DTEND;VALUE=DATE:20230107
DTSTAMP:20260425T050841
CREATED:20230104T161647Z
LAST-MODIFIED:20230104T161647Z
UID:4458-1672963200-1673049599@sacramentointerfaith.org
SUMMARY:Epiphany - Christian
DESCRIPTION:
URL:https://sacramentointerfaith.org/event/epiphany-christian-2/
CATEGORIES:Interfaith Calendar
END:VEVENT
BEGIN:VEVENT
DTSTART;VALUE=DATE:20230105
DTEND;VALUE=DATE:20230106
DTSTAMP:20260425T050841
CREATED:20230104T161622Z
LAST-MODIFIED:20230104T161622Z
UID:4456-1672876800-1672963199@sacramentointerfaith.org
SUMMARY:Guru Gobindh Singh birthday - Sikh
DESCRIPTION:
URL:https://sacramentointerfaith.org/event/guru-gobindh-singh-birthday-sikh-2/
CATEGORIES:Interfaith Calendar
END:VEVENT
BEGIN:VEVENT
DTSTART;VALUE=DATE:20230105
DTEND;VALUE=DATE:20230106
DTSTAMP:20260425T050841
CREATED:20230104T161601Z
LAST-MODIFIED:20230104T161601Z
UID:4453-1672876800-1672963199@sacramentointerfaith.org
SUMMARY:Twelfth Night - Christian
DESCRIPTION:
URL:https://sacramentointerfaith.org/event/twelfth-night-christian-2/
CATEGORIES:Interfaith Calendar
END:VEVENT
BEGIN:VEVENT
DTSTART;VALUE=DATE:20230101
DTEND;VALUE=DATE:20230102
DTSTAMP:20260425T050841
CREATED:20230104T161534Z
LAST-MODIFIED:20230104T161534Z
UID:4451-1672531200-1672617599@sacramentointerfaith.org
SUMMARY:Feast of the Holy Name of Jesus - Orthodox
DESCRIPTION:
URL:https://sacramentointerfaith.org/event/feast-of-the-holy-name-of-jesus-orthodox/
CATEGORIES:Interfaith Calendar
END:VEVENT
BEGIN:VEVENT
DTSTART;VALUE=DATE:20230101
DTEND;VALUE=DATE:20230102
DTSTAMP:20260425T050841
CREATED:20230104T161512Z
LAST-MODIFIED:20230104T161512Z
UID:4449-1672531200-1672617599@sacramentointerfaith.org
SUMMARY:Shogatsu/Gantan-sai (New Years) - Shinto
DESCRIPTION:
URL:https://sacramentointerfaith.org/event/shogatsu-gantan-sai-new-years-shinto-2/
CATEGORIES:Interfaith Calendar
END:VEVENT
BEGIN:VEVENT
DTSTART;VALUE=DATE:20230101
DTEND;VALUE=DATE:20230102
DTSTAMP:20260425T050841
CREATED:20230104T161433Z
LAST-MODIFIED:20230104T161433Z
UID:4447-1672531200-1672617599@sacramentointerfaith.org
SUMMARY:Feast Day of St Basil - Orthodox Christian
DESCRIPTION:
URL:https://sacramentointerfaith.org/event/feast-day-of-st-basil-orthodox-christian-2/
CATEGORIES:Interfaith Calendar
END:VEVENT
BEGIN:VEVENT
DTSTART;VALUE=DATE:20230101
DTEND;VALUE=DATE:20230102
DTSTAMP:20260425T050841
CREATED:20211124T010217Z
LAST-MODIFIED:20230104T161348Z
UID:3900-1672531200-1672617599@sacramentointerfaith.org
SUMMARY:Mary\, Mother of God - Catholic Christian
DESCRIPTION:
URL:https://sacramentointerfaith.org/event/mary-mother-of-god-catholic-christian-2/
CATEGORIES:Interfaith Calendar
END:VEVENT
BEGIN:VEVENT
DTSTART;VALUE=DATE:20221230
DTEND;VALUE=DATE:20221231
DTSTAMP:20260425T050841
CREATED:20211124T010017Z
LAST-MODIFIED:20211124T010017Z
UID:3899-1672358400-1672444799@sacramentointerfaith.org
SUMMARY:Holy Family - Catholic Christian
DESCRIPTION:
URL:https://sacramentointerfaith.org/event/holy-family-catholic-christian/
CATEGORIES:Interfaith Calendar
END:VEVENT
BEGIN:VEVENT
DTSTART;VALUE=DATE:20221228
DTEND;VALUE=DATE:20221229
DTSTAMP:20260425T050841
CREATED:20211124T010017Z
LAST-MODIFIED:20211124T010017Z
UID:3898-1672185600-1672271999@sacramentointerfaith.org
SUMMARY:Holy Innocents - Christian
DESCRIPTION:
URL:https://sacramentointerfaith.org/event/holy-innocents-christian/
CATEGORIES:Interfaith Calendar
END:VEVENT
BEGIN:VEVENT
DTSTART;VALUE=DATE:20221226
DTEND;VALUE=DATE:20221227
DTSTAMP:20260425T050841
CREATED:20211124T010016Z
LAST-MODIFIED:20211124T010016Z
UID:3895-1672012800-1672099199@sacramentointerfaith.org
SUMMARY:Zarathosht Diso (Death of Prophet Zarathushtra)  Zoroastrian
DESCRIPTION:
URL:https://sacramentointerfaith.org/event/zarathosht-diso-death-of-prophet-zarathushtra-zoroastrian/
CATEGORIES:Interfaith Calendar
END:VEVENT
BEGIN:VEVENT
DTSTART;VALUE=DATE:20221226
DTEND;VALUE=DATE:20221227
DTSTAMP:20260425T050841
CREATED:20211124T010016Z
LAST-MODIFIED:20211124T010016Z
UID:3896-1672012800-1672099199@sacramentointerfaith.org
SUMMARY:St Stephen's Day - Christian
DESCRIPTION:
URL:https://sacramentointerfaith.org/event/st-stephens-day-christian/
CATEGORIES:Interfaith Calendar
END:VEVENT
BEGIN:VEVENT
DTSTART;VALUE=DATE:20221226
DTEND;VALUE=DATE:20221227
DTSTAMP:20260425T050841
CREATED:20211124T010016Z
LAST-MODIFIED:20211124T010016Z
UID:3897-1672012800-1672099199@sacramentointerfaith.org
SUMMARY:Hanukkah Ends - Judaism
DESCRIPTION:
URL:https://sacramentointerfaith.org/event/hanukkah-ends-judaism/
CATEGORIES:Interfaith Calendar
END:VEVENT
BEGIN:VEVENT
DTSTART;VALUE=DATE:20221225
DTEND;VALUE=DATE:20221226
DTSTAMP:20260425T050841
CREATED:20211124T005816Z
LAST-MODIFIED:20211124T005816Z
UID:3893-1671926400-1672012799@sacramentointerfaith.org
SUMMARY:Christmas * - Christian
DESCRIPTION:
URL:https://sacramentointerfaith.org/event/christmas-christian/
CATEGORIES:Interfaith Calendar
END:VEVENT
BEGIN:VEVENT
DTSTART;VALUE=DATE:20221225
DTEND;VALUE=DATE:20221226
DTSTAMP:20260425T050841
CREATED:20211124T005816Z
LAST-MODIFIED:20211124T005816Z
UID:3894-1671926400-1672012799@sacramentointerfaith.org
SUMMARY:Feast of the Nativity ** - Orthodox Christian
DESCRIPTION:
URL:https://sacramentointerfaith.org/event/feast-of-the-nativity-orthodox-christian-2/
CATEGORIES:Interfaith Calendar
END:VEVENT
BEGIN:VEVENT
DTSTART;VALUE=DATE:20221224
DTEND;VALUE=DATE:20221225
DTSTAMP:20260425T050841
CREATED:20211124T005816Z
LAST-MODIFIED:20211124T005816Z
UID:3892-1671840000-1671926399@sacramentointerfaith.org
SUMMARY:Christmas Eve - Christian
DESCRIPTION:
URL:https://sacramentointerfaith.org/event/christmas-eve-christian/
CATEGORIES:Interfaith Calendar
END:VEVENT
END:VCALENDAR