BEGIN:VCALENDAR
VERSION:2.0
PRODID:-//Interfaith Council of Greater Sacramento - ECPv6.15.20//NONSGML v1.0//EN
CALSCALE:GREGORIAN
METHOD:PUBLISH
X-ORIGINAL-URL:https://sacramentointerfaith.org
X-WR-CALDESC:Events for Interfaith Council of Greater Sacramento
REFRESH-INTERVAL;VALUE=DURATION:PT1H
X-Robots-Tag:noindex
X-PUBLISHED-TTL:PT1H
BEGIN:VTIMEZONE
TZID:America/Los_Angeles
BEGIN:DAYLIGHT
TZOFFSETFROM:-0800
TZOFFSETTO:-0700
TZNAME:PDT
DTSTART:20220313T100000
END:DAYLIGHT
BEGIN:STANDARD
TZOFFSETFROM:-0700
TZOFFSETTO:-0800
TZNAME:PST
DTSTART:20221106T090000
END:STANDARD
BEGIN:DAYLIGHT
TZOFFSETFROM:-0800
TZOFFSETTO:-0700
TZNAME:PDT
DTSTART:20230312T100000
END:DAYLIGHT
BEGIN:STANDARD
TZOFFSETFROM:-0700
TZOFFSETTO:-0800
TZNAME:PST
DTSTART:20231105T090000
END:STANDARD
BEGIN:DAYLIGHT
TZOFFSETFROM:-0800
TZOFFSETTO:-0700
TZNAME:PDT
DTSTART:20240310T100000
END:DAYLIGHT
BEGIN:STANDARD
TZOFFSETFROM:-0700
TZOFFSETTO:-0800
TZNAME:PST
DTSTART:20241103T090000
END:STANDARD
END:VTIMEZONE
BEGIN:VEVENT
DTSTART;VALUE=DATE:20231031
DTEND;VALUE=DATE:20231101
DTSTAMP:20260424T184140
CREATED:20230118T163804Z
LAST-MODIFIED:20230118T163804Z
UID:4644-1698710400-1698796799@sacramentointerfaith.org
SUMMARY:All Hallows Eve - Christian
DESCRIPTION:
URL:https://sacramentointerfaith.org/event/all-hallows-eve-christian-2/
CATEGORIES:Interfaith Calendar
END:VEVENT
BEGIN:VEVENT
DTSTART;VALUE=DATE:20231028
DTEND;VALUE=DATE:20231029
DTSTAMP:20260424T184140
CREATED:20230118T163631Z
LAST-MODIFIED:20230118T163631Z
UID:4642-1698451200-1698537599@sacramentointerfaith.org
SUMMARY:Milvian Bridge Day - Christian
DESCRIPTION:
URL:https://sacramentointerfaith.org/event/milvian-bridge-day-christian-2/
CATEGORIES:Interfaith Calendar
END:VEVENT
BEGIN:VEVENT
DTSTART;VALUE=DATE:20231027
DTEND;VALUE=DATE:20231028
DTSTAMP:20260424T184140
CREATED:20230118T163601Z
LAST-MODIFIED:20230118T163717Z
UID:4640-1698364800-1698451199@sacramentointerfaith.org
SUMMARY:Birth of Baha'u'llah * - Baha'i
DESCRIPTION:
URL:https://sacramentointerfaith.org/event/birth-of-bahaullah-bahai-3/
CATEGORIES:Interfaith Calendar
END:VEVENT
BEGIN:VEVENT
DTSTART;VALUE=DATE:20231026
DTEND;VALUE=DATE:20231027
DTSTAMP:20260424T184140
CREATED:20230118T163535Z
LAST-MODIFIED:20230118T163535Z
UID:4638-1698278400-1698364799@sacramentointerfaith.org
SUMMARY:Birth of the Bab * - Baha'i
DESCRIPTION:
URL:https://sacramentointerfaith.org/event/birth-of-the-bab-bahai-2/
CATEGORIES:Interfaith Calendar
END:VEVENT
BEGIN:VEVENT
DTSTART;VALUE=DATE:20231020
DTEND;VALUE=DATE:20231021
DTSTAMP:20260424T184140
CREATED:20230118T163509Z
LAST-MODIFIED:20230118T163509Z
UID:4636-1697760000-1697846399@sacramentointerfaith.org
SUMMARY:Installation of Scriptures as Guru Granth - Sikh
DESCRIPTION:
URL:https://sacramentointerfaith.org/event/installation-of-scriptures-as-guru-granth-sikh-2/
CATEGORIES:Interfaith Calendar
END:VEVENT
BEGIN:VEVENT
DTSTART;VALUE=DATE:20231018
DTEND;VALUE=DATE:20231019
DTSTAMP:20260424T184140
CREATED:20230118T163436Z
LAST-MODIFIED:20230118T163436Z
UID:4634-1697587200-1697673599@sacramentointerfaith.org
SUMMARY:St. Luke\, Apostle & Evangelist - Christian
DESCRIPTION:
URL:https://sacramentointerfaith.org/event/st-luke-apostle-evangelist-christian-2/
CATEGORIES:Interfaith Calendar
END:VEVENT
BEGIN:VEVENT
DTSTART;VALUE=DATE:20231006
DTEND;VALUE=DATE:20231007
DTSTAMP:20260424T184140
CREATED:20230118T163409Z
LAST-MODIFIED:20230118T163409Z
UID:4632-1696550400-1696636799@sacramentointerfaith.org
SUMMARY:Saint Thomas Day - Christian
DESCRIPTION:
URL:https://sacramentointerfaith.org/event/saint-thomas-day-christian/
CATEGORIES:Interfaith Calendar
END:VEVENT
BEGIN:VEVENT
DTSTART;VALUE=DATE:20231004
DTEND;VALUE=DATE:20231005
DTSTAMP:20260424T184140
CREATED:20230118T163349Z
LAST-MODIFIED:20230118T163349Z
UID:4630-1696377600-1696463999@sacramentointerfaith.org
SUMMARY:Blessing of the Animals - Christian
DESCRIPTION:
URL:https://sacramentointerfaith.org/event/blessing-of-the-animals-christian-2/
CATEGORIES:Interfaith Calendar
END:VEVENT
BEGIN:VEVENT
DTSTART;VALUE=DATE:20231004
DTEND;VALUE=DATE:20231005
DTSTAMP:20260424T184140
CREATED:20230118T163329Z
LAST-MODIFIED:20230118T163329Z
UID:4628-1696377600-1696463999@sacramentointerfaith.org
SUMMARY:St Francis Day - Catholic Christian
DESCRIPTION:
URL:https://sacramentointerfaith.org/event/st-francis-day-catholic-christian-2/
CATEGORIES:Interfaith Calendar
END:VEVENT
BEGIN:VEVENT
DTSTART;VALUE=DATE:20230929
DTEND;VALUE=DATE:20230930
DTSTAMP:20260424T184140
CREATED:20230118T163304Z
LAST-MODIFIED:20230118T163304Z
UID:4626-1695945600-1696031999@sacramentointerfaith.org
SUMMARY:Michael and All Angels - Christian
DESCRIPTION:
URL:https://sacramentointerfaith.org/event/michael-and-all-angels-christian-2/
CATEGORIES:Interfaith Calendar
END:VEVENT
BEGIN:VEVENT
DTSTART;VALUE=DATE:20230921
DTEND;VALUE=DATE:20230922
DTSTAMP:20260424T184140
CREATED:20230118T163236Z
LAST-MODIFIED:20230118T163236Z
UID:4624-1695254400-1695340799@sacramentointerfaith.org
SUMMARY:Fall Equinox * - Wicca/Neo Pagan
DESCRIPTION:
URL:https://sacramentointerfaith.org/event/fall-equinox-wicca-neo-pagan-2/
CATEGORIES:Interfaith Calendar
END:VEVENT
BEGIN:VEVENT
DTSTART;VALUE=DATE:20230908
DTEND;VALUE=DATE:20230909
DTSTAMP:20260424T184140
CREATED:20230118T163147Z
LAST-MODIFIED:20230118T163147Z
UID:4620-1694131200-1694217599@sacramentointerfaith.org
SUMMARY:Nativity of Virgin Mary - Christian
DESCRIPTION:
URL:https://sacramentointerfaith.org/event/nativity-of-virgin-mary-christian-2/
CATEGORIES:Interfaith Calendar
END:VEVENT
BEGIN:VEVENT
DTSTART;VALUE=DATE:20230901
DTEND;VALUE=DATE:20230902
DTSTAMP:20260424T184140
CREATED:20230118T163123Z
LAST-MODIFIED:20230118T163123Z
UID:4618-1693526400-1693612799@sacramentointerfaith.org
SUMMARY:Religious year begins - Orthodox Christian
DESCRIPTION:
URL:https://sacramentointerfaith.org/event/religious-year-begins-orthodox-christian-2/
CATEGORIES:Interfaith Calendar
END:VEVENT
BEGIN:VEVENT
DTSTART;VALUE=DATE:20230829
DTEND;VALUE=DATE:20230830
DTSTAMP:20260424T184140
CREATED:20230118T163056Z
LAST-MODIFIED:20230118T163056Z
UID:4616-1693267200-1693353599@sacramentointerfaith.org
SUMMARY:Beheading of St. John the Baptist - Christian
DESCRIPTION:
URL:https://sacramentointerfaith.org/event/beheading-of-st-john-the-baptist-christian-2/
CATEGORIES:Interfaith Calendar
END:VEVENT
BEGIN:VEVENT
DTSTART;VALUE=DATE:20230815
DTEND;VALUE=DATE:20230816
DTSTAMP:20260424T184140
CREATED:20230118T163030Z
LAST-MODIFIED:20230118T163030Z
UID:4614-1692057600-1692143999@sacramentointerfaith.org
SUMMARY:Dormition of the Theotokos - Orthodox Christian
DESCRIPTION:
URL:https://sacramentointerfaith.org/event/dormition-of-the-theotokos-orthodox-christian-2/
CATEGORIES:Interfaith Calendar
END:VEVENT
BEGIN:VEVENT
DTSTART;VALUE=DATE:20230815
DTEND;VALUE=DATE:20230816
DTSTAMP:20260424T184140
CREATED:20230118T162952Z
LAST-MODIFIED:20230118T162952Z
UID:4612-1692057600-1692143999@sacramentointerfaith.org
SUMMARY:Assumption of Blessed Virgin Mary - Catholic Christian
DESCRIPTION:
URL:https://sacramentointerfaith.org/event/assumption-of-blessed-virgin-mary-catholic-christian-2/
CATEGORIES:Interfaith Calendar
END:VEVENT
BEGIN:VEVENT
DTSTART;VALUE=DATE:20230806
DTEND;VALUE=DATE:20230807
DTSTAMP:20260424T184140
CREATED:20230118T162906Z
LAST-MODIFIED:20230118T162906Z
UID:4610-1691280000-1691366399@sacramentointerfaith.org
SUMMARY:Transfiguration of the Lord - Orthodox Christian
DESCRIPTION:
URL:https://sacramentointerfaith.org/event/transfiguration-of-the-lord-orthodox-christian-2/
CATEGORIES:Interfaith Calendar
END:VEVENT
BEGIN:VEVENT
DTSTART;VALUE=DATE:20230801
DTEND;VALUE=DATE:20230802
DTSTAMP:20260424T184140
CREATED:20230118T162830Z
LAST-MODIFIED:20230118T162830Z
UID:4608-1690848000-1690934399@sacramentointerfaith.org
SUMMARY:Fast in honor of Holy Mother of Jesus - Orthodox
DESCRIPTION:
URL:https://sacramentointerfaith.org/event/fast-in-honor-of-holy-mother-of-jesus-orthodox/
CATEGORIES:Interfaith Calendar
END:VEVENT
BEGIN:VEVENT
DTSTART;VALUE=DATE:20230801
DTEND;VALUE=DATE:20230802
DTSTAMP:20260424T184140
CREATED:20230118T162739Z
LAST-MODIFIED:20230118T162739Z
UID:4604-1690848000-1690934399@sacramentointerfaith.org
SUMMARY:Lammas - Christian
DESCRIPTION:
URL:https://sacramentointerfaith.org/event/lammas-christian-2/
CATEGORIES:Interfaith Calendar
END:VEVENT
BEGIN:VEVENT
DTSTART;VALUE=DATE:20230726
DTEND;VALUE=DATE:20230727
DTSTAMP:20260424T184140
CREATED:20230118T162535Z
LAST-MODIFIED:20230118T162535Z
UID:4602-1690329600-1690415999@sacramentointerfaith.org
SUMMARY:Asalha Puja Day (Dhamma Day) ** - Buddhism
DESCRIPTION:
URL:https://sacramentointerfaith.org/event/asalha-puja-day-dhamma-day-buddhism-2/
CATEGORIES:Interfaith Calendar
END:VEVENT
BEGIN:VEVENT
DTSTART;VALUE=DATE:20230725
DTEND;VALUE=DATE:20230726
DTSTAMP:20260424T184140
CREATED:20230118T162512Z
LAST-MODIFIED:20230118T162512Z
UID:4599-1690243200-1690329599@sacramentointerfaith.org
SUMMARY:St. James the Great Day - Christian
DESCRIPTION:
URL:https://sacramentointerfaith.org/event/st-james-the-great-day-christian-2/
CATEGORIES:Interfaith Calendar
END:VEVENT
BEGIN:VEVENT
DTSTART;VALUE=DATE:20230724
DTEND;VALUE=DATE:20230725
DTSTAMP:20260424T184140
CREATED:20230118T162450Z
LAST-MODIFIED:20230118T162450Z
UID:4597-1690156800-1690243199@sacramentointerfaith.org
SUMMARY:Pioneer Day- Mormon Christian
DESCRIPTION:
URL:https://sacramentointerfaith.org/event/pioneer-day-mormon-christian-2/
CATEGORIES:Interfaith Calendar
END:VEVENT
BEGIN:VEVENT
DTSTART;VALUE=DATE:20230715
DTEND;VALUE=DATE:20230716
DTSTAMP:20260424T184140
CREATED:20230118T162427Z
LAST-MODIFIED:20230118T162427Z
UID:4595-1689379200-1689465599@sacramentointerfaith.org
SUMMARY:Saint Vladimir - Christian
DESCRIPTION:
URL:https://sacramentointerfaith.org/event/saint-vladimir-christian/
CATEGORIES:Interfaith Calendar
END:VEVENT
BEGIN:VEVENT
DTSTART;VALUE=DATE:20230715
DTEND;VALUE=DATE:20230716
DTSTAMP:20260424T184140
CREATED:20230118T162400Z
LAST-MODIFIED:20230118T162400Z
UID:4593-1689379200-1689465599@sacramentointerfaith.org
SUMMARY:St. Vladimir the Great Day - Orthodox Christian
DESCRIPTION:
URL:https://sacramentointerfaith.org/event/st-vladimir-the-great-day-orthodox-christian-2/
CATEGORIES:Interfaith Calendar
END:VEVENT
BEGIN:VEVENT
DTSTART;VALUE=DATE:20230713
DTEND;VALUE=DATE:20230714
DTSTAMP:20260424T184140
CREATED:20230118T162220Z
LAST-MODIFIED:20230118T162220Z
UID:4591-1689206400-1689292799@sacramentointerfaith.org
SUMMARY:Obon (Ulambana) ** - Buddhist/Shinto
DESCRIPTION:
URL:https://sacramentointerfaith.org/event/obon-ulambana-buddhist-shinto-2/
CATEGORIES:Interfaith Calendar
END:VEVENT
BEGIN:VEVENT
DTSTART;VALUE=DATE:20230711
DTEND;VALUE=DATE:20230712
DTSTAMP:20260424T184140
CREATED:20230118T162041Z
LAST-MODIFIED:20230118T162041Z
UID:4587-1689033600-1689119999@sacramentointerfaith.org
SUMMARY:St Benedict Day - Catholic Christian
DESCRIPTION:
URL:https://sacramentointerfaith.org/event/st-benedict-day-catholic-christian-2/
CATEGORIES:Interfaith Calendar
END:VEVENT
BEGIN:VEVENT
DTSTART;VALUE=DATE:20230710
DTEND;VALUE=DATE:20230711
DTSTAMP:20260424T184140
CREATED:20230118T162016Z
LAST-MODIFIED:20230118T162016Z
UID:4585-1688947200-1689033599@sacramentointerfaith.org
SUMMARY:Martyrdom of the Bab * - Baha'i
DESCRIPTION:
URL:https://sacramentointerfaith.org/event/martyrdom-of-the-bab-bahai-2/
CATEGORIES:Interfaith Calendar
END:VEVENT
BEGIN:VEVENT
DTSTART;VALUE=DATE:20230629
DTEND;VALUE=DATE:20230630
DTSTAMP:20260424T184140
CREATED:20230118T161916Z
LAST-MODIFIED:20230118T161916Z
UID:4583-1687996800-1688083199@sacramentointerfaith.org
SUMMARY:Feast Day of Saints Peter and Paul - Christian
DESCRIPTION:
URL:https://sacramentointerfaith.org/event/feast-day-of-saints-peter-and-paul-christian-2/
CATEGORIES:Interfaith Calendar
END:VEVENT
BEGIN:VEVENT
DTSTART;VALUE=DATE:20230628
DTEND;VALUE=DATE:20230629
DTSTAMP:20260424T184140
CREATED:20230104T164901Z
LAST-MODIFIED:20230104T164901Z
UID:4523-1687910400-1687996799@sacramentointerfaith.org
SUMMARY:Eid-ul-Adha 1444 AH - Islam
DESCRIPTION:
URL:https://sacramentointerfaith.org/event/eid-ul-adha-1444-ah-islam/
CATEGORIES:Interfaith Calendar
END:VEVENT
BEGIN:VEVENT
DTSTART;VALUE=DATE:20230624
DTEND;VALUE=DATE:20230625
DTSTAMP:20260424T184140
CREATED:20230118T161850Z
LAST-MODIFIED:20230118T161850Z
UID:4581-1687564800-1687651199@sacramentointerfaith.org
SUMMARY:Saint John the Baptist - Christian
DESCRIPTION:
URL:https://sacramentointerfaith.org/event/saint-john-the-baptist-christian-2/
CATEGORIES:Interfaith Calendar
END:VEVENT
END:VCALENDAR