BEGIN:VCALENDAR
VERSION:2.0
PRODID:-//Interfaith Council of Greater Sacramento - ECPv6.15.20//NONSGML v1.0//EN
CALSCALE:GREGORIAN
METHOD:PUBLISH
X-ORIGINAL-URL:https://sacramentointerfaith.org
X-WR-CALDESC:Events for Interfaith Council of Greater Sacramento
REFRESH-INTERVAL;VALUE=DURATION:PT1H
X-Robots-Tag:noindex
X-PUBLISHED-TTL:PT1H
BEGIN:VTIMEZONE
TZID:America/Los_Angeles
BEGIN:DAYLIGHT
TZOFFSETFROM:-0800
TZOFFSETTO:-0700
TZNAME:PDT
DTSTART:20250309T100000
END:DAYLIGHT
BEGIN:STANDARD
TZOFFSETFROM:-0700
TZOFFSETTO:-0800
TZNAME:PST
DTSTART:20251102T090000
END:STANDARD
BEGIN:DAYLIGHT
TZOFFSETFROM:-0800
TZOFFSETTO:-0700
TZNAME:PDT
DTSTART:20260308T100000
END:DAYLIGHT
BEGIN:STANDARD
TZOFFSETFROM:-0700
TZOFFSETTO:-0800
TZNAME:PST
DTSTART:20261101T090000
END:STANDARD
BEGIN:DAYLIGHT
TZOFFSETFROM:-0800
TZOFFSETTO:-0700
TZNAME:PDT
DTSTART:20270314T100000
END:DAYLIGHT
BEGIN:STANDARD
TZOFFSETFROM:-0700
TZOFFSETTO:-0800
TZNAME:PST
DTSTART:20271107T090000
END:STANDARD
END:VTIMEZONE
BEGIN:VEVENT
DTSTART;VALUE=DATE:20260422
DTEND;VALUE=DATE:20260423
DTSTAMP:20260423T100927
CREATED:20260322T154818Z
LAST-MODIFIED:20260322T154818Z
UID:5223-1776816000-1776902399@sacramentointerfaith.org
SUMMARY:Yom HaAtzmaut - Judaism
DESCRIPTION:Yom HaAtzmaut – Judaism
URL:https://sacramentointerfaith.org/event/yom-haatzmaut-judaism-2/
CATEGORIES:Interfaith Calendar
END:VEVENT
BEGIN:VEVENT
DTSTART;VALUE=DATE:20260421
DTEND;VALUE=DATE:20260422
DTSTAMP:20260423T100927
CREATED:20260322T154740Z
LAST-MODIFIED:20260322T154740Z
UID:5221-1776729600-1776815999@sacramentointerfaith.org
SUMMARY:Yom HaZikaron - Judaism
DESCRIPTION:Yom HaZikaron – Judaism
URL:https://sacramentointerfaith.org/event/yom-hazikaron-judaism/
CATEGORIES:Interfaith Calendar
END:VEVENT
BEGIN:VEVENT
DTSTART;VALUE=DATE:20260414
DTEND;VALUE=DATE:20260415
DTSTAMP:20260423T100927
CREATED:20240307T225358Z
LAST-MODIFIED:20260322T154431Z
UID:4937-1776124800-1776211199@sacramentointerfaith.org
SUMMARY:Vaisakhi – Sikh
DESCRIPTION:Vaisakhi – Sikh \nThe anniversary of the birth of the Khalsa and is important for Sikhs because on this day in 1699\, the clerical system was removed from Sikhism.
URL:https://sacramentointerfaith.org/event/vaisakhi-sikh/
CATEGORIES:Interfaith Calendar
END:VEVENT
BEGIN:VEVENT
DTSTART;VALUE=DATE:20260414
DTEND;VALUE=DATE:20260415
DTSTAMP:20260423T100927
CREATED:20211122T212403Z
LAST-MODIFIED:20260322T154505Z
UID:3787-1776124800-1776211199@sacramentointerfaith.org
SUMMARY:Yom HaShoah - Judaism
DESCRIPTION:
URL:https://sacramentointerfaith.org/event/yom-hashoah-judaism/
CATEGORIES:Interfaith Calendar
END:VEVENT
BEGIN:VEVENT
DTSTART;TZID=America/Los_Angeles:20260412T080000
DTEND;TZID=America/Los_Angeles:20260412T170000
DTSTAMP:20260423T100927
CREATED:20260412T171303Z
LAST-MODIFIED:20260412T171303Z
UID:5308-1775980800-1776013200@sacramentointerfaith.org
SUMMARY:The Queenship of the Blessed Virgin Mary - Roman Catholic
DESCRIPTION:The Queenship of the Blessed Virgin Mary – Roman Catholic
URL:https://sacramentointerfaith.org/event/the-queenship-of-the-blessed-virgin-mary-roman-catholic/
CATEGORIES:Interfaith Calendar
END:VEVENT
BEGIN:VEVENT
DTSTART;VALUE=DATE:20260410
DTEND;VALUE=DATE:20260411
DTSTAMP:20260423T100927
CREATED:20211122T212348Z
LAST-MODIFIED:20260322T154313Z
UID:3782-1775779200-1775865599@sacramentointerfaith.org
SUMMARY:Holy Friday - Orthodox Christian
DESCRIPTION:
URL:https://sacramentointerfaith.org/event/holy-friday-orthodox-christian/
CATEGORIES:Interfaith Calendar
END:VEVENT
BEGIN:VEVENT
DTSTART;VALUE=DATE:20260405
DTEND;VALUE=DATE:20260406
DTSTAMP:20260423T100927
CREATED:20240307T224749Z
LAST-MODIFIED:20260322T154248Z
UID:4921-1775347200-1775433599@sacramentointerfaith.org
SUMMARY:Palm Sunday – Christian (Western Church)
DESCRIPTION:Palm Sunday – Christian (Western Church) \nCelebrates the entry of Jesus into Jerusalem. Note: The Eastern Church observes this holiday on April 17th.
URL:https://sacramentointerfaith.org/event/palm-sunday-christian-western-church/
CATEGORIES:Interfaith Calendar
END:VEVENT
BEGIN:VEVENT
DTSTART;TZID=America/Los_Angeles:20260404T080000
DTEND;TZID=America/Los_Angeles:20260404T170000
DTSTAMP:20260423T100927
CREATED:20260322T154101Z
LAST-MODIFIED:20260322T154101Z
UID:5216-1775289600-1775322000@sacramentointerfaith.org
SUMMARY:Holy Saturday - Roman Catholic\, Protestant
DESCRIPTION:Holy Saturday – Roman Catholic\, Protestant
URL:https://sacramentointerfaith.org/event/holy-saturday-roman-catholic-protestant/
CATEGORIES:Interfaith Calendar
END:VEVENT
BEGIN:VEVENT
DTSTART;VALUE=DATE:20260403
DTEND;VALUE=DATE:20260404
DTSTAMP:20260423T100927
CREATED:20211122T212332Z
LAST-MODIFIED:20260322T153924Z
UID:3774-1775174400-1775260799@sacramentointerfaith.org
SUMMARY:Good Friday - Christian
DESCRIPTION:
URL:https://sacramentointerfaith.org/event/good-friday-christian/
CATEGORIES:Interfaith Calendar
END:VEVENT
BEGIN:VEVENT
DTSTART;VALUE=DATE:20260402
DTEND;VALUE=DATE:20260403
DTSTAMP:20260423T100927
CREATED:20240307T225837Z
LAST-MODIFIED:20260322T153752Z
UID:4950-1775088000-1775174399@sacramentointerfaith.org
SUMMARY:Theravadin New Year – Buddhist
DESCRIPTION:Theravadin New Year – Buddhist \nBuddhists of the Theravada tradition celebrate the New Year with symbolic elements often found at the beach: sand and water.
URL:https://sacramentointerfaith.org/event/theravadin-new-year-buddhist/
CATEGORIES:Interfaith Calendar
END:VEVENT
BEGIN:VEVENT
DTSTART;VALUE=DATE:20260402
DTEND;VALUE=DATE:20260403
DTSTAMP:20260423T100927
CREATED:20240307T225044Z
LAST-MODIFIED:20260322T153856Z
UID:4929-1775088000-1775174399@sacramentointerfaith.org
SUMMARY:Holy (Maundy) Thursday –Christian (Western Church)
DESCRIPTION:Holy (Maundy) Thursday –Christian (Western Church) \nThe Thursday before Easter commemorates the Last Supper of Jesus Christ with the Apostles as described in the gospels. Mass or services may include the symbolic washing of the feet. Note: The Eastern Church observe this holiday on April 21st.
URL:https://sacramentointerfaith.org/event/holy-maundy-thursday-christian-western-church/
CATEGORIES:Interfaith Calendar
END:VEVENT
BEGIN:VEVENT
DTSTART;VALUE=DATE:20260402
DTEND;VALUE=DATE:20260403
DTSTAMP:20260423T100927
CREATED:20211122T212332Z
LAST-MODIFIED:20260322T153834Z
UID:3773-1775088000-1775174399@sacramentointerfaith.org
SUMMARY:Maundy Thursday - Christian
DESCRIPTION:
URL:https://sacramentointerfaith.org/event/maundy-thursday-christian/
CATEGORIES:Interfaith Calendar
END:VEVENT
BEGIN:VEVENT
DTSTART;VALUE=DATE:20260401
DTEND;VALUE=DATE:20260410
DTSTAMP:20260423T100927
CREATED:20240307T225725Z
LAST-MODIFIED:20260322T153712Z
UID:4945-1775001600-1775779199@sacramentointerfaith.org
SUMMARY:Pesach  (Passover) – Jewish
DESCRIPTION:Pesach  (Passover) – Jewish \nPesach\, which means to pass through\, commemorates the Exodus from Egypt and the Holy One passing over the Jewish homes when the first-born Egyptians were slain.
URL:https://sacramentointerfaith.org/event/pesach-passover-jewish/
CATEGORIES:Interfaith Calendar
END:VEVENT
BEGIN:VEVENT
DTSTART;VALUE=DATE:20260331
DTEND;VALUE=DATE:20260401
DTSTAMP:20260423T100927
CREATED:20240307T225647Z
LAST-MODIFIED:20260322T155019Z
UID:4943-1774915200-1775001599@sacramentointerfaith.org
SUMMARY:Mahavir Jayanti – Jain
DESCRIPTION:Mahavir Jayanti – Jain \nFestival honoring Lord Mahavira on the founder’s birthday. Shrines are visited and teachings are reviewed and reflected upon.
URL:https://sacramentointerfaith.org/event/mahavir-jayanti-jain/
CATEGORIES:Interfaith Calendar
END:VEVENT
BEGIN:VEVENT
DTSTART;VALUE=DATE:20260329
DTEND;VALUE=DATE:20260330
DTSTAMP:20260423T100927
CREATED:20211122T212318Z
LAST-MODIFIED:20260322T155207Z
UID:3770-1774742400-1774828799@sacramentointerfaith.org
SUMMARY:Palm Sunday - Christian
DESCRIPTION:
URL:https://sacramentointerfaith.org/event/palm-sunday-christian/
CATEGORIES:Interfaith Calendar
END:VEVENT
BEGIN:VEVENT
DTSTART;TZID=America/Los_Angeles:20260326T080000
DTEND;TZID=America/Los_Angeles:20260326T170000
DTSTAMP:20260423T100927
CREATED:20260322T155328Z
LAST-MODIFIED:20260322T155328Z
UID:5231-1774512000-1774544400@sacramentointerfaith.org
SUMMARY:Birth of Prophet Zarathustra - Zoroastrianism
DESCRIPTION:Birth of Prophet Zarathustra – Zoroastrianism
URL:https://sacramentointerfaith.org/event/birth-of-prophet-zarathustra-zoroastrianism/
CATEGORIES:Interfaith Calendar
END:VEVENT
BEGIN:VEVENT
DTSTART;VALUE=DATE:20260326
DTEND;VALUE=DATE:20260327
DTSTAMP:20260423T100927
CREATED:20211122T212317Z
LAST-MODIFIED:20260322T155240Z
UID:3769-1774483200-1774569599@sacramentointerfaith.org
SUMMARY:Ramanavami - Hindu
DESCRIPTION:
URL:https://sacramentointerfaith.org/event/ramanavami-hindu/
CATEGORIES:Interfaith Calendar
END:VEVENT
BEGIN:VEVENT
DTSTART;TZID=America/Los_Angeles:20260322T080000
DTEND;TZID=America/Los_Angeles:20260322T170000
DTSTAMP:20260423T100927
CREATED:20260322T155106Z
LAST-MODIFIED:20260322T155106Z
UID:5227-1774166400-1774198800@sacramentointerfaith.org
SUMMARY:Hydesville Day - Spiritualism
DESCRIPTION:Hydesville Day – Spiritualism
URL:https://sacramentointerfaith.org/event/hydesville-day-spiritualism/
CATEGORIES:Interfaith Calendar
END:VEVENT
BEGIN:VEVENT
DTSTART;TZID=America/Los_Angeles:20260322T080000
DTEND;TZID=America/Los_Angeles:20260322T170000
DTSTAMP:20260423T100927
CREATED:20260322T154857Z
LAST-MODIFIED:20260322T154857Z
UID:5225-1774166400-1774198800@sacramentointerfaith.org
SUMMARY:Ghambar Maidyozarem - Zoroastrianism
DESCRIPTION:Ghambar Maidyozarem – Zoroastrianism
URL:https://sacramentointerfaith.org/event/ghambar-maidyozarem-zoroastrianism/
CATEGORIES:Interfaith Calendar
END:VEVENT
BEGIN:VEVENT
DTSTART;VALUE=DATE:20260321
DTEND;VALUE=DATE:20260322
DTSTAMP:20260423T100927
CREATED:20230104T164514Z
LAST-MODIFIED:20260322T155400Z
UID:4509-1774051200-1774137599@sacramentointerfaith.org
SUMMARY:Naw-Rúz (New Year) * - Baha'i
DESCRIPTION:
URL:https://sacramentointerfaith.org/event/naw-ruz-new-year-bahai-2/
CATEGORIES:Interfaith Calendar
END:VEVENT
BEGIN:VEVENT
DTSTART;VALUE=DATE:20260320
DTEND;VALUE=DATE:20260323
DTSTAMP:20260423T100927
CREATED:20240307T225322Z
LAST-MODIFIED:20260322T155433Z
UID:4935-1773964800-1774223999@sacramentointerfaith.org
SUMMARY:Eid al Fitr – Islam
DESCRIPTION:Eid al Fitr – Islam \nIslamic event marking the close of Ramadan. It is a festival of thanksgiving to Allah for enjoying the month of Ramadan. It involves wearing the finest clothing\, saying prayers\, and fostering understanding with other religions.
URL:https://sacramentointerfaith.org/event/eid-al-fitr-islam-2/
CATEGORIES:Interfaith Calendar
END:VEVENT
BEGIN:VEVENT
DTSTART;VALUE=DATE:20260320
DTEND;VALUE=DATE:20260321
DTSTAMP:20260423T100927
CREATED:20211122T212246Z
LAST-MODIFIED:20260322T155525Z
UID:3760-1773964800-1774051199@sacramentointerfaith.org
SUMMARY:Ostara - Vernal Equinox - Wicca/Neo Pagan
DESCRIPTION:
URL:https://sacramentointerfaith.org/event/ostara-vernal-equinox-wicca-neo-pagan/
CATEGORIES:Interfaith Calendar
END:VEVENT
BEGIN:VEVENT
DTSTART;VALUE=DATE:20260319
DTEND;VALUE=DATE:20260320
DTSTAMP:20260423T100927
CREATED:20260322T155648Z
LAST-MODIFIED:20260322T155648Z
UID:5234-1773878400-1773964799@sacramentointerfaith.org
SUMMARY:Solemnity of St. Joseph - Roman Catholic
DESCRIPTION:Solemnity of St. Joseph – Roman Catholic
URL:https://sacramentointerfaith.org/event/solemnity-of-st-joseph-roman-catholic/
CATEGORIES:Interfaith Calendar
END:VEVENT
BEGIN:VEVENT
DTSTART;VALUE=DATE:20260319
DTEND;VALUE=DATE:20260320
DTSTAMP:20260423T100927
CREATED:20240307T225248Z
LAST-MODIFIED:20260322T155830Z
UID:4933-1773878400-1773964799@sacramentointerfaith.org
SUMMARY:Lalat ul Qadr – Islam
DESCRIPTION:Lalat ul Qadr – Islam \nIslamic Night of Destiny. First revelation of the Qur’an to Prophet Mohammed. Observed during the last ten days of Ramadan. Prayers to Allah for a good destiny.
URL:https://sacramentointerfaith.org/event/lalat-ul-qadr-islam/
CATEGORIES:Interfaith Calendar
END:VEVENT
BEGIN:VEVENT
DTSTART;VALUE=DATE:20260317
DTEND;VALUE=DATE:20260318
DTSTAMP:20260423T100927
CREATED:20240307T224503Z
LAST-MODIFIED:20260322T155727Z
UID:4915-1773705600-1773791999@sacramentointerfaith.org
SUMMARY:St. Patrick’s Day – Christian
DESCRIPTION:St. Patrick’s Day – Christian \nA day to celebrate the life of Saint Patrick (cultural and religious Holy Day).
URL:https://sacramentointerfaith.org/event/st-patricks-day-christian-3/
CATEGORIES:Interfaith Calendar
END:VEVENT
BEGIN:VEVENT
DTSTART;VALUE=DATE:20260316
DTEND;VALUE=DATE:20260321
DTSTAMP:20260423T100927
CREATED:20260322T155808Z
LAST-MODIFIED:20260322T155808Z
UID:5236-1773619200-1774051199@sacramentointerfaith.org
SUMMARY:Ghambar Hamaspathmaedem - Zoroastrianism
DESCRIPTION:Ghambar Hamaspathmaedem – Zoroastrianism
URL:https://sacramentointerfaith.org/event/ghambar-hamaspathmaedem-zoroastrianism/
CATEGORIES:Interfaith Calendar
END:VEVENT
BEGIN:VEVENT
DTSTART;VALUE=DATE:20260303
DTEND;VALUE=DATE:20260304
DTSTAMP:20260423T100927
CREATED:20230104T164658Z
LAST-MODIFIED:20260311T150859Z
UID:4517-1772496000-1772582399@sacramentointerfaith.org
SUMMARY:Magha Puja Day ** - Buddhism
DESCRIPTION:
URL:https://sacramentointerfaith.org/event/magha-puja-day-buddhism-2/
CATEGORIES:Interfaith Calendar
END:VEVENT
BEGIN:VEVENT
DTSTART;VALUE=DATE:20260302
DTEND;VALUE=DATE:20260304
DTSTAMP:20260423T100927
CREATED:20211122T212231Z
LAST-MODIFIED:20260311T150634Z
UID:3757-1772409600-1772582399@sacramentointerfaith.org
SUMMARY:Purim - Judaism
DESCRIPTION:
URL:https://sacramentointerfaith.org/event/purim-judaism/
CATEGORIES:Interfaith Calendar
END:VEVENT
BEGIN:VEVENT
DTSTART;VALUE=DATE:20260302
DTEND;VALUE=DATE:20260303
DTSTAMP:20260423T100927
CREATED:20260311T150326Z
LAST-MODIFIED:20260311T150513Z
UID:5209-1772409600-1772495999@sacramentointerfaith.org
SUMMARY:Fast of Esther
DESCRIPTION:The Fast of Esther (Hebrew: תַּעֲנִית אֶסְתֵּר\, romanized: Ta’anit Ester) is a fast in Judaismobserved on the eve of Purim. According to most scholars\, it commemorates the communal fast held by the Jewish people throughout the Achaemenid Empire on the 13th day of Adar.[1] According to the Book of Esther\, this was the date scheduled for the battle between the Jews and their antagonists\, and the fast followed a tradition where Jewish communities would fast during wartime to arouse “mercy from God”.[2][3] \nUnlike other fasts\, the Fast of Esther is a Jewish custom. It is not mentioned in the Talmud\, but it is mentioned in the Midrash and other later sources from the days of the Geonim. Therefore\, it is considered less severe than the other fasts.[4] – Wiki
URL:https://sacramentointerfaith.org/event/fast-of-esther/
CATEGORIES:Interfaith Calendar
END:VEVENT
BEGIN:VEVENT
DTSTART;VALUE=DATE:20260301
DTEND;VALUE=DATE:20260321
DTSTAMP:20260423T100927
CREATED:20240307T192548Z
LAST-MODIFIED:20260311T150005Z
UID:4906-1772323200-1774051199@sacramentointerfaith.org
SUMMARY:Nineteen Day Fast – Baha’i
DESCRIPTION:Nineteen Day Fast – Baha’i \nBaha’i Fast to be observed by adult Baha’is in good health from sunrise to sundown (along with mandatory prayer).
URL:https://sacramentointerfaith.org/event/nineteen-day-fast-bahai/
CATEGORIES:Interfaith Calendar
END:VEVENT
END:VCALENDAR