BEGIN:VCALENDAR
VERSION:2.0
PRODID:-//Interfaith Council of Greater Sacramento - ECPv6.15.20//NONSGML v1.0//EN
CALSCALE:GREGORIAN
METHOD:PUBLISH
X-ORIGINAL-URL:https://sacramentointerfaith.org
X-WR-CALDESC:Events for Interfaith Council of Greater Sacramento
REFRESH-INTERVAL;VALUE=DURATION:PT1H
X-Robots-Tag:noindex
X-PUBLISHED-TTL:PT1H
BEGIN:VTIMEZONE
TZID:America/Los_Angeles
BEGIN:DAYLIGHT
TZOFFSETFROM:-0800
TZOFFSETTO:-0700
TZNAME:PDT
DTSTART:20250309T100000
END:DAYLIGHT
BEGIN:STANDARD
TZOFFSETFROM:-0700
TZOFFSETTO:-0800
TZNAME:PST
DTSTART:20251102T090000
END:STANDARD
BEGIN:DAYLIGHT
TZOFFSETFROM:-0800
TZOFFSETTO:-0700
TZNAME:PDT
DTSTART:20260308T100000
END:DAYLIGHT
BEGIN:STANDARD
TZOFFSETFROM:-0700
TZOFFSETTO:-0800
TZNAME:PST
DTSTART:20261101T090000
END:STANDARD
BEGIN:DAYLIGHT
TZOFFSETFROM:-0800
TZOFFSETTO:-0700
TZNAME:PDT
DTSTART:20270314T100000
END:DAYLIGHT
BEGIN:STANDARD
TZOFFSETFROM:-0700
TZOFFSETTO:-0800
TZNAME:PST
DTSTART:20271107T090000
END:STANDARD
END:VTIMEZONE
BEGIN:VEVENT
DTSTART;VALUE=DATE:20261114
DTEND;VALUE=DATE:20261225
DTSTAMP:20260424T021650
CREATED:20230118T164227Z
LAST-MODIFIED:20260412T174617Z
UID:4658-1794614400-1798156799@sacramentointerfaith.org
SUMMARY:Nativity Fast begins - ends Dec. 24 - Orthodox Christian
DESCRIPTION:
URL:https://sacramentointerfaith.org/event/nativity-fast-begins-ends-dec-24-orthodox-christian-2/
CATEGORIES:Interfaith Calendar
END:VEVENT
BEGIN:VEVENT
DTSTART;VALUE=DATE:20261204
DTEND;VALUE=DATE:20261213
DTSTAMP:20260424T021650
CREATED:20260412T175336Z
LAST-MODIFIED:20260412T175336Z
UID:5348-1796342400-1797119999@sacramentointerfaith.org
SUMMARY:Chanukah - Judaism
DESCRIPTION:Chanukah – Judaism
URL:https://sacramentointerfaith.org/event/chanukah-judaism/
CATEGORIES:Interfaith Calendar
END:VEVENT
BEGIN:VEVENT
DTSTART;VALUE=DATE:20261212
DTEND;VALUE=DATE:20261213
DTSTAMP:20260424T021650
CREATED:20240307T234733Z
LAST-MODIFIED:20260412T175441Z
UID:5089-1797033600-1797119999@sacramentointerfaith.org
SUMMARY:Feast Day of Our Lady of Guadalupe – Catholic Christian
DESCRIPTION:Feast Day of Our Lady of Guadalupe – Catholic Christian \nCatholic Christian honoring of the legendary appearance of the Virgin Mary near Mexico City in 1531 c.e.
URL:https://sacramentointerfaith.org/event/feast-day-of-our-lady-of-guadalupe-catholic-christian/
CATEGORIES:Interfaith Calendar
END:VEVENT
END:VCALENDAR