BEGIN:VCALENDAR
VERSION:2.0
PRODID:-//Interfaith Council of Greater Sacramento - ECPv6.15.20//NONSGML v1.0//EN
CALSCALE:GREGORIAN
METHOD:PUBLISH
X-WR-CALNAME:Interfaith Council of Greater Sacramento
X-ORIGINAL-URL:https://sacramentointerfaith.org
X-WR-CALDESC:Events for Interfaith Council of Greater Sacramento
REFRESH-INTERVAL;VALUE=DURATION:PT1H
X-Robots-Tag:noindex
X-PUBLISHED-TTL:PT1H
BEGIN:VTIMEZONE
TZID:America/Los_Angeles
BEGIN:DAYLIGHT
TZOFFSETFROM:-0800
TZOFFSETTO:-0700
TZNAME:PDT
DTSTART:20250309T100000
END:DAYLIGHT
BEGIN:STANDARD
TZOFFSETFROM:-0700
TZOFFSETTO:-0800
TZNAME:PST
DTSTART:20251102T090000
END:STANDARD
BEGIN:DAYLIGHT
TZOFFSETFROM:-0800
TZOFFSETTO:-0700
TZNAME:PDT
DTSTART:20260308T100000
END:DAYLIGHT
BEGIN:STANDARD
TZOFFSETFROM:-0700
TZOFFSETTO:-0800
TZNAME:PST
DTSTART:20261101T090000
END:STANDARD
BEGIN:DAYLIGHT
TZOFFSETFROM:-0800
TZOFFSETTO:-0700
TZNAME:PDT
DTSTART:20270314T100000
END:DAYLIGHT
BEGIN:STANDARD
TZOFFSETFROM:-0700
TZOFFSETTO:-0800
TZNAME:PST
DTSTART:20271107T090000
END:STANDARD
END:VTIMEZONE
BEGIN:VEVENT
DTSTART;VALUE=DATE:20260815
DTEND;VALUE=DATE:20260816
DTSTAMP:20260423T192421
CREATED:20260412T171130Z
LAST-MODIFIED:20260412T171130Z
UID:5304-1786752000-1786838399@sacramentointerfaith.org
SUMMARY:Feast of the Assumption of the Blessed Virgin Mary - Roman Catholic
DESCRIPTION:Feast of the Assumption of the Blessed Virgin Mary – Roman Catholic
URL:https://sacramentointerfaith.org/event/feast-of-the-assumption-of-the-blessed-virgin-mary-roman-catholic/
CATEGORIES:Interfaith Calendar
END:VEVENT
BEGIN:VEVENT
DTSTART;VALUE=DATE:20260815
DTEND;VALUE=DATE:20260816
DTSTAMP:20260423T192421
CREATED:20260412T171224Z
LAST-MODIFIED:20260412T171224Z
UID:5306-1786752000-1786838399@sacramentointerfaith.org
SUMMARY:Dormition of the Theotokos and Ever-Virgin Mary - Orthodox
DESCRIPTION:Dormition of the Theotokos and Ever-Virgin Mary – Orthodox
URL:https://sacramentointerfaith.org/event/dormition-of-the-theotokos-and-ever-virgin-mary-orthodox/
CATEGORIES:Interfaith Calendar
END:VEVENT
END:VCALENDAR