BEGIN:VCALENDAR
VERSION:2.0
PRODID:-//Interfaith Council of Greater Sacramento - ECPv6.15.20//NONSGML v1.0//EN
CALSCALE:GREGORIAN
METHOD:PUBLISH
X-ORIGINAL-URL:https://sacramentointerfaith.org
X-WR-CALDESC:Events for Interfaith Council of Greater Sacramento
REFRESH-INTERVAL;VALUE=DURATION:PT1H
X-Robots-Tag:noindex
X-PUBLISHED-TTL:PT1H
BEGIN:VTIMEZONE
TZID:America/Los_Angeles
BEGIN:DAYLIGHT
TZOFFSETFROM:-0800
TZOFFSETTO:-0700
TZNAME:PDT
DTSTART:20250309T100000
END:DAYLIGHT
BEGIN:STANDARD
TZOFFSETFROM:-0700
TZOFFSETTO:-0800
TZNAME:PST
DTSTART:20251102T090000
END:STANDARD
BEGIN:DAYLIGHT
TZOFFSETFROM:-0800
TZOFFSETTO:-0700
TZNAME:PDT
DTSTART:20260308T100000
END:DAYLIGHT
BEGIN:STANDARD
TZOFFSETFROM:-0700
TZOFFSETTO:-0800
TZNAME:PST
DTSTART:20261101T090000
END:STANDARD
BEGIN:DAYLIGHT
TZOFFSETFROM:-0800
TZOFFSETTO:-0700
TZNAME:PDT
DTSTART:20270314T100000
END:DAYLIGHT
BEGIN:STANDARD
TZOFFSETFROM:-0700
TZOFFSETTO:-0800
TZNAME:PST
DTSTART:20271107T090000
END:STANDARD
END:VTIMEZONE
BEGIN:VEVENT
DTSTART;VALUE=DATE:20260607
DTEND;VALUE=DATE:20260608
DTSTAMP:20260423T153909
CREATED:20240307T230325Z
LAST-MODIFIED:20260412T170010Z
UID:4966-1780790400-1780876799@sacramentointerfaith.org
SUMMARY:Pentecost – Christian (Western Church)
DESCRIPTION:Pentecost – Christian (Western Church) \nCelebration of the descent of the Holy Spirit on Jesus’ disciples\, the birth of the church\, following His resurrection. Occurs seven weeks after Easter Sunday and is celebrated with baptism liturgies and joyous services. Note: The Eastern Church observes this holiday on June 12t
URL:https://sacramentointerfaith.org/event/pentecost-christian-western-church/
CATEGORIES:Interfaith Calendar
END:VEVENT
BEGIN:VEVENT
DTSTART;VALUE=DATE:20260607
DTEND;VALUE=DATE:20260608
DTSTAMP:20260423T153909
CREATED:20240307T230718Z
LAST-MODIFIED:20260412T170044Z
UID:4978-1780790400-1780876799@sacramentointerfaith.org
SUMMARY:Corpus Christi – Catholic Christian
DESCRIPTION:Corpus Christi – Catholic Christian \nCatholic celebration in recognition of the Eucharist – The Blessed Sacrament of the Body and Blood of Christ. The real presence of the body and blood of Jesus is honored.
URL:https://sacramentointerfaith.org/event/corpus-christi-catholic-christian-2/
CATEGORIES:Interfaith Calendar
END:VEVENT
END:VCALENDAR