BEGIN:VCALENDAR
VERSION:2.0
PRODID:-//Interfaith Council of Greater Sacramento - ECPv6.15.20//NONSGML v1.0//EN
CALSCALE:GREGORIAN
METHOD:PUBLISH
X-WR-CALNAME:Interfaith Council of Greater Sacramento
X-ORIGINAL-URL:https://sacramentointerfaith.org
X-WR-CALDESC:Events for Interfaith Council of Greater Sacramento
REFRESH-INTERVAL;VALUE=DURATION:PT1H
X-Robots-Tag:noindex
X-PUBLISHED-TTL:PT1H
BEGIN:VTIMEZONE
TZID:America/Los_Angeles
BEGIN:DAYLIGHT
TZOFFSETFROM:-0800
TZOFFSETTO:-0700
TZNAME:PDT
DTSTART:20250309T100000
END:DAYLIGHT
BEGIN:STANDARD
TZOFFSETFROM:-0700
TZOFFSETTO:-0800
TZNAME:PST
DTSTART:20251102T090000
END:STANDARD
BEGIN:DAYLIGHT
TZOFFSETFROM:-0800
TZOFFSETTO:-0700
TZNAME:PDT
DTSTART:20260308T100000
END:DAYLIGHT
BEGIN:STANDARD
TZOFFSETFROM:-0700
TZOFFSETTO:-0800
TZNAME:PST
DTSTART:20261101T090000
END:STANDARD
BEGIN:DAYLIGHT
TZOFFSETFROM:-0800
TZOFFSETTO:-0700
TZNAME:PDT
DTSTART:20270314T100000
END:DAYLIGHT
BEGIN:STANDARD
TZOFFSETFROM:-0700
TZOFFSETTO:-0800
TZNAME:PST
DTSTART:20271107T090000
END:STANDARD
END:VTIMEZONE
BEGIN:VEVENT
DTSTART;VALUE=DATE:20260401
DTEND;VALUE=DATE:20260410
DTSTAMP:20260423T114418
CREATED:20240307T225725Z
LAST-MODIFIED:20260322T153712Z
UID:4945-1775001600-1775779199@sacramentointerfaith.org
SUMMARY:Pesach  (Passover) – Jewish
DESCRIPTION:Pesach  (Passover) – Jewish \nPesach\, which means to pass through\, commemorates the Exodus from Egypt and the Holy One passing over the Jewish homes when the first-born Egyptians were slain.
URL:https://sacramentointerfaith.org/event/pesach-passover-jewish/
CATEGORIES:Interfaith Calendar
END:VEVENT
BEGIN:VEVENT
DTSTART;VALUE=DATE:20260402
DTEND;VALUE=DATE:20260403
DTSTAMP:20260423T114418
CREATED:20211122T212332Z
LAST-MODIFIED:20260322T153834Z
UID:3773-1775088000-1775174399@sacramentointerfaith.org
SUMMARY:Maundy Thursday - Christian
DESCRIPTION:
URL:https://sacramentointerfaith.org/event/maundy-thursday-christian/
CATEGORIES:Interfaith Calendar
END:VEVENT
BEGIN:VEVENT
DTSTART;VALUE=DATE:20260402
DTEND;VALUE=DATE:20260403
DTSTAMP:20260423T114418
CREATED:20240307T225044Z
LAST-MODIFIED:20260322T153856Z
UID:4929-1775088000-1775174399@sacramentointerfaith.org
SUMMARY:Holy (Maundy) Thursday –Christian (Western Church)
DESCRIPTION:Holy (Maundy) Thursday –Christian (Western Church) \nThe Thursday before Easter commemorates the Last Supper of Jesus Christ with the Apostles as described in the gospels. Mass or services may include the symbolic washing of the feet. Note: The Eastern Church observe this holiday on April 21st.
URL:https://sacramentointerfaith.org/event/holy-maundy-thursday-christian-western-church/
CATEGORIES:Interfaith Calendar
END:VEVENT
BEGIN:VEVENT
DTSTART;VALUE=DATE:20260402
DTEND;VALUE=DATE:20260403
DTSTAMP:20260423T114418
CREATED:20240307T225837Z
LAST-MODIFIED:20260322T153752Z
UID:4950-1775088000-1775174399@sacramentointerfaith.org
SUMMARY:Theravadin New Year – Buddhist
DESCRIPTION:Theravadin New Year – Buddhist \nBuddhists of the Theravada tradition celebrate the New Year with symbolic elements often found at the beach: sand and water.
URL:https://sacramentointerfaith.org/event/theravadin-new-year-buddhist/
CATEGORIES:Interfaith Calendar
END:VEVENT
END:VCALENDAR