BEGIN:VCALENDAR
VERSION:2.0
PRODID:-//Interfaith Council of Greater Sacramento - ECPv6.15.20//NONSGML v1.0//EN
CALSCALE:GREGORIAN
METHOD:PUBLISH
X-WR-CALNAME:Interfaith Council of Greater Sacramento
X-ORIGINAL-URL:https://sacramentointerfaith.org
X-WR-CALDESC:Events for Interfaith Council of Greater Sacramento
REFRESH-INTERVAL;VALUE=DURATION:PT1H
X-Robots-Tag:noindex
X-PUBLISHED-TTL:PT1H
BEGIN:VTIMEZONE
TZID:America/Los_Angeles
BEGIN:DAYLIGHT
TZOFFSETFROM:-0800
TZOFFSETTO:-0700
TZNAME:PDT
DTSTART:20220313T100000
END:DAYLIGHT
BEGIN:STANDARD
TZOFFSETFROM:-0700
TZOFFSETTO:-0800
TZNAME:PST
DTSTART:20221106T090000
END:STANDARD
BEGIN:DAYLIGHT
TZOFFSETFROM:-0800
TZOFFSETTO:-0700
TZNAME:PDT
DTSTART:20230312T100000
END:DAYLIGHT
BEGIN:STANDARD
TZOFFSETFROM:-0700
TZOFFSETTO:-0800
TZNAME:PST
DTSTART:20231105T090000
END:STANDARD
BEGIN:DAYLIGHT
TZOFFSETFROM:-0800
TZOFFSETTO:-0700
TZNAME:PDT
DTSTART:20240310T100000
END:DAYLIGHT
BEGIN:STANDARD
TZOFFSETFROM:-0700
TZOFFSETTO:-0800
TZNAME:PST
DTSTART:20241103T090000
END:STANDARD
END:VTIMEZONE
BEGIN:VEVENT
DTSTART;VALUE=DATE:20231216
DTEND;VALUE=DATE:20231226
DTSTAMP:20260425T192212
CREATED:20230118T164651Z
LAST-MODIFIED:20230118T164651Z
UID:4677-1702684800-1703548799@sacramentointerfaith.org
SUMMARY:Posadas Navidenas - Hispanic Christian
DESCRIPTION:
URL:https://sacramentointerfaith.org/event/posadas-navidenas-hispanic-christian-2/
CATEGORIES:Interfaith Calendar
END:VEVENT
BEGIN:VEVENT
DTSTART;VALUE=DATE:20231221
DTEND;VALUE=DATE:20231222
DTSTAMP:20260425T192212
CREATED:20230118T164721Z
LAST-MODIFIED:20230118T164721Z
UID:4679-1703116800-1703203199@sacramentointerfaith.org
SUMMARY:Yule - Christian
DESCRIPTION:
URL:https://sacramentointerfaith.org/event/yule-christian-2/
CATEGORIES:Interfaith Calendar
END:VEVENT
BEGIN:VEVENT
DTSTART;VALUE=DATE:20231221
DTEND;VALUE=DATE:20231222
DTSTAMP:20260425T192212
CREATED:20230118T164747Z
LAST-MODIFIED:20230118T164747Z
UID:4681-1703116800-1703203199@sacramentointerfaith.org
SUMMARY:Saint Thomas the Apostle - Christian
DESCRIPTION:
URL:https://sacramentointerfaith.org/event/saint-thomas-the-apostle-christian/
CATEGORIES:Interfaith Calendar
END:VEVENT
END:VCALENDAR