BEGIN:VCALENDAR
VERSION:2.0
PRODID:-//Interfaith Council of Greater Sacramento - ECPv6.15.20//NONSGML v1.0//EN
CALSCALE:GREGORIAN
METHOD:PUBLISH
X-ORIGINAL-URL:https://sacramentointerfaith.org
X-WR-CALDESC:Events for Interfaith Council of Greater Sacramento
REFRESH-INTERVAL;VALUE=DURATION:PT1H
X-Robots-Tag:noindex
X-PUBLISHED-TTL:PT1H
BEGIN:VTIMEZONE
TZID:America/Los_Angeles
BEGIN:DAYLIGHT
TZOFFSETFROM:-0800
TZOFFSETTO:-0700
TZNAME:PDT
DTSTART:20190310T100000
END:DAYLIGHT
BEGIN:STANDARD
TZOFFSETFROM:-0700
TZOFFSETTO:-0800
TZNAME:PST
DTSTART:20191103T090000
END:STANDARD
BEGIN:DAYLIGHT
TZOFFSETFROM:-0800
TZOFFSETTO:-0700
TZNAME:PDT
DTSTART:20200308T100000
END:DAYLIGHT
BEGIN:STANDARD
TZOFFSETFROM:-0700
TZOFFSETTO:-0800
TZNAME:PST
DTSTART:20201101T090000
END:STANDARD
BEGIN:DAYLIGHT
TZOFFSETFROM:-0800
TZOFFSETTO:-0700
TZNAME:PDT
DTSTART:20210314T100000
END:DAYLIGHT
BEGIN:STANDARD
TZOFFSETFROM:-0700
TZOFFSETTO:-0800
TZNAME:PST
DTSTART:20211107T090000
END:STANDARD
END:VTIMEZONE
BEGIN:VEVENT
DTSTART;TZID=America/Los_Angeles:20201130T120000
DTEND;TZID=America/Los_Angeles:20201130T130000
DTSTAMP:20260424T033308
CREATED:20201125T152241Z
LAST-MODIFIED:20201126T005822Z
UID:3180-1606737600-1606741200@sacramentointerfaith.org
SUMMARY:How can we Help Uyghur Muslims?
DESCRIPTION:The Chinese government has oppressed Uyghur Muslims for generations: they cannot fast in Ramadan\, they are force-fed alcohol\, put in re-education camps\, the women are sterilized – and they face even more hardships. \nAll the apparatus of the Chinese state are being used to destroy the Islamic identity of the Muslims of East Turkestan (called Xinjiang – ‘new province’ – by China). It is our duty as Muslims to be aware of what is happening\, and what we can do to help them. \nPanelists include: \n\nArsalan Hidayat\, of Uyghur Revival Association\nDilnaz Kerim & Maira Aisa\, of UK Uyghur Community\nImam Shakeel Begg\, of Lewisham Islamic Centre\nShaykh Suliman Gani\, of Purley Masjid\n\nRegister
URL:https://sacramentointerfaith.org/event/how-can-we-help-uyghur-muslims/
CATEGORIES:Event,Fundraiser
END:VEVENT
BEGIN:VEVENT
DTSTART;TZID=America/Los_Angeles:20200328T110000
DTEND;TZID=America/Los_Angeles:20200328T150000
DTSTAMP:20260424T033308
CREATED:20200224T135338Z
LAST-MODIFIED:20200225T175421Z
UID:2598-1585393200-1585407600@sacramentointerfaith.org
SUMMARY:Women Working It Out Fundraiser
DESCRIPTION:
URL:https://sacramentointerfaith.org/event/women-working-it-out-fundraiser/
LOCATION:Mission Oaks Community Center\, 4701 Gibbons Dr\, Carmichael\, CA\, 95608\, United States
CATEGORIES:Fundraiser
END:VEVENT
BEGIN:VEVENT
DTSTART;TZID=America/Los_Angeles:20200327T160000
DTEND;TZID=America/Los_Angeles:20200327T210000
DTSTAMP:20260424T033308
CREATED:20200225T183053Z
LAST-MODIFIED:20200225T183053Z
UID:2652-1585324800-1585342800@sacramentointerfaith.org
SUMMARY:Tour of Italy Fundraiser
DESCRIPTION:Get Your Tickets
URL:https://sacramentointerfaith.org/event/tour-of-italy-fundraiser/
LOCATION:Veterans of Foreign Wars\, 2784 Stockton Blvd\, Sacramento\, CA\, 95817\, United States
CATEGORIES:Fundraiser
END:VEVENT
END:VCALENDAR