BEGIN:VCALENDAR
VERSION:2.0
PRODID:-//Interfaith Council of Greater Sacramento - ECPv6.15.20//NONSGML v1.0//EN
CALSCALE:GREGORIAN
METHOD:PUBLISH
X-WR-CALNAME:Interfaith Council of Greater Sacramento
X-ORIGINAL-URL:https://sacramentointerfaith.org
X-WR-CALDESC:Events for Interfaith Council of Greater Sacramento
REFRESH-INTERVAL;VALUE=DURATION:PT1H
X-Robots-Tag:noindex
X-PUBLISHED-TTL:PT1H
BEGIN:VTIMEZONE
TZID:America/Los_Angeles
BEGIN:DAYLIGHT
TZOFFSETFROM:-0800
TZOFFSETTO:-0700
TZNAME:PDT
DTSTART:20190310T100000
END:DAYLIGHT
BEGIN:STANDARD
TZOFFSETFROM:-0700
TZOFFSETTO:-0800
TZNAME:PST
DTSTART:20191103T090000
END:STANDARD
BEGIN:DAYLIGHT
TZOFFSETFROM:-0800
TZOFFSETTO:-0700
TZNAME:PDT
DTSTART:20200308T100000
END:DAYLIGHT
BEGIN:STANDARD
TZOFFSETFROM:-0700
TZOFFSETTO:-0800
TZNAME:PST
DTSTART:20201101T090000
END:STANDARD
BEGIN:DAYLIGHT
TZOFFSETFROM:-0800
TZOFFSETTO:-0700
TZNAME:PDT
DTSTART:20210314T100000
END:DAYLIGHT
BEGIN:STANDARD
TZOFFSETFROM:-0700
TZOFFSETTO:-0800
TZNAME:PST
DTSTART:20211107T090000
END:STANDARD
BEGIN:DAYLIGHT
TZOFFSETFROM:-0800
TZOFFSETTO:-0700
TZNAME:PDT
DTSTART:20220313T100000
END:DAYLIGHT
BEGIN:STANDARD
TZOFFSETFROM:-0700
TZOFFSETTO:-0800
TZNAME:PST
DTSTART:20221106T090000
END:STANDARD
END:VTIMEZONE
BEGIN:VEVENT
DTSTART;TZID=America/Los_Angeles:20210325T190000
DTEND;TZID=America/Los_Angeles:20210325T210000
DTSTAMP:20260424T113707
CREATED:20210319T155039Z
LAST-MODIFIED:20210319T155128Z
UID:3359-1616698800-1616706000@sacramentointerfaith.org
SUMMARY:Special Event Hosted by ICGS and SALAM
DESCRIPTION:The Interfaith Council of Greater Sacramento and the Sharif Family Community Library are pleased to sponsor a screening of the movie Stranger/Sister about the formation of Salaam-Shalom’s Sisterhood.\nPlease join us to hear from a panel of local women in our community who are members of the Sisterhood on March 25\, 2021\, at 7:00 p.m. on zoom.\nTo view the movie\, register for the panel here or use the QR code in the flyer. Once you register\, you will receive a link to the movie which we request that you view before the panel on the 25th.
URL:https://sacramentointerfaith.org/event/special-event-hosted-by-icgs-and-salam/
CATEGORIES:Event,Film
END:VEVENT
BEGIN:VEVENT
DTSTART;TZID=America/Los_Angeles:20200228T180000
DTEND;TZID=America/Los_Angeles:20200228T193000
DTSTAMP:20260424T113707
CREATED:20200226T135106Z
LAST-MODIFIED:20200226T135707Z
UID:2660-1582912800-1582918200@sacramentointerfaith.org
SUMMARY:Screenagers: Growing Up in the Digital World
DESCRIPTION:Get your Ticket
URL:https://sacramentointerfaith.org/event/screenagers-growing-up-in-the-digital-world/
LOCATION:Al Misbaah\, 10277 Iron Rock Way\, Elk Grove\, CA\, 95624\, United States
CATEGORIES:Film
END:VEVENT
END:VCALENDAR