BEGIN:VCALENDAR
VERSION:2.0
PRODID:-//Interfaith Council of Greater Sacramento - ECPv6.15.20//NONSGML v1.0//EN
CALSCALE:GREGORIAN
METHOD:PUBLISH
X-WR-CALNAME:Interfaith Council of Greater Sacramento
X-ORIGINAL-URL:https://sacramentointerfaith.org
X-WR-CALDESC:Events for Interfaith Council of Greater Sacramento
REFRESH-INTERVAL;VALUE=DURATION:PT1H
X-Robots-Tag:noindex
X-PUBLISHED-TTL:PT1H
BEGIN:VTIMEZONE
TZID:America/Los_Angeles
BEGIN:DAYLIGHT
TZOFFSETFROM:-0800
TZOFFSETTO:-0700
TZNAME:PDT
DTSTART:20190310T100000
END:DAYLIGHT
BEGIN:STANDARD
TZOFFSETFROM:-0700
TZOFFSETTO:-0800
TZNAME:PST
DTSTART:20191103T090000
END:STANDARD
BEGIN:DAYLIGHT
TZOFFSETFROM:-0800
TZOFFSETTO:-0700
TZNAME:PDT
DTSTART:20200308T100000
END:DAYLIGHT
BEGIN:STANDARD
TZOFFSETFROM:-0700
TZOFFSETTO:-0800
TZNAME:PST
DTSTART:20201101T090000
END:STANDARD
BEGIN:DAYLIGHT
TZOFFSETFROM:-0800
TZOFFSETTO:-0700
TZNAME:PDT
DTSTART:20210314T100000
END:DAYLIGHT
BEGIN:STANDARD
TZOFFSETFROM:-0700
TZOFFSETTO:-0800
TZNAME:PST
DTSTART:20211107T090000
END:STANDARD
BEGIN:DAYLIGHT
TZOFFSETFROM:-0800
TZOFFSETTO:-0700
TZNAME:PDT
DTSTART:20220313T100000
END:DAYLIGHT
BEGIN:STANDARD
TZOFFSETFROM:-0700
TZOFFSETTO:-0800
TZNAME:PST
DTSTART:20221106T090000
END:STANDARD
END:VTIMEZONE
BEGIN:VEVENT
DTSTART;TZID=America/Los_Angeles:20210121T171500
DTEND;TZID=America/Los_Angeles:20210121T181500
DTSTAMP:20260424T093426
CREATED:20210120T162456Z
LAST-MODIFIED:20210120T162456Z
UID:3330-1611249300-1611252900@sacramentointerfaith.org
SUMMARY:Interfaith Evensong Remembering The Rev. Dr. Martin Luther King Jr.
DESCRIPTION:Hosted in partnership with the Northern California Dr. Martin Luther King\, Jr. Community Foundation\, this annual service gathers local and national interfaith leaders around a theme in Dr. King’s life and work. Fatih Ates of Pacifica Institute will give a speech at this event. This year’s theme is “Justice and Hope.” \nClick here for the Live Stream info.
URL:https://sacramentointerfaith.org/event/interfaith-evensong-remembering-the-rev-dr-martin-luther-king-jr/
CATEGORIES:Event
END:VEVENT
BEGIN:VEVENT
DTSTART;TZID=America/Los_Angeles:20210117T150000
DTEND;TZID=America/Los_Angeles:20210117T160000
DTSTAMP:20260424T093426
CREATED:20210106T150719Z
LAST-MODIFIED:20210106T150719Z
UID:3315-1610895600-1610899200@sacramentointerfaith.org
SUMMARY:Furthering MLK's Dream
DESCRIPTION:29th Annual South Coast Interfaith Council (SCIC) Rev. Dr. Martin Luther King Jr. Interfaith & Intercultural Celebration on ZOOM! \nKeynote Address: Supervisor Holly J. Mitchell\, Newly elected Los Angeles County Supervisor for the Second District. \nRSVP here.
URL:https://sacramentointerfaith.org/event/furthering-mlks-dream/
CATEGORIES:Event
END:VEVENT
BEGIN:VEVENT
DTSTART;TZID=America/Los_Angeles:20210116T140000
DTEND;TZID=America/Los_Angeles:20210116T160000
DTSTAMP:20260424T093426
CREATED:20210106T145456Z
LAST-MODIFIED:20210106T145456Z
UID:3313-1610805600-1610812800@sacramentointerfaith.org
SUMMARY:Fire Side Conversation
DESCRIPTION:Please join us on Saturday\, January 16\, 2021\,  2 – 4 pm for a Fireside/Discussion about the Bahá’í Faith and what the Bahá’í Writings offer in regards to life after death\, presented by Dr. Duane Troxel\, Ed.D. A question and answer portion will follow the presentation. Seekers and friends are most welcome. \nJoin Zoom Meeting Here.
URL:https://sacramentointerfaith.org/event/fire-side-conversation/
CATEGORIES:Event
END:VEVENT
BEGIN:VEVENT
DTSTART;VALUE=DATE:20210107
DTEND;VALUE=DATE:20210108
DTSTAMP:20260424T093426
CREATED:20210106T145419Z
LAST-MODIFIED:20210106T145419Z
UID:3311-1609977600-1610063999@sacramentointerfaith.org
SUMMARY:Forced To Flee
DESCRIPTION:This powerful and timely exhibition illustrates the global challenges arising from the current refugee crisis impacting countries across the globe – Learn More.
URL:https://sacramentointerfaith.org/event/forced-to-flee/
CATEGORIES:Event
END:VEVENT
BEGIN:VEVENT
DTSTART;VALUE=DATE:20201231
DTEND;VALUE=DATE:20210101
DTSTAMP:20260424T093426
CREATED:20201209T134041Z
LAST-MODIFIED:20201209T134041Z
UID:3233-1609372800-1609459199@sacramentointerfaith.org
SUMMARY:Christian: Watch Night
DESCRIPTION:
URL:https://sacramentointerfaith.org/event/christian-watch-night/
CATEGORIES:Event
END:VEVENT
BEGIN:VEVENT
DTSTART;TZID=America/Los_Angeles:20201228T180000
DTEND;TZID=America/Los_Angeles:20201228T193000
DTSTAMP:20260424T093426
CREATED:20201223T164238Z
LAST-MODIFIED:20201223T164238Z
UID:3279-1609178400-1609183800@sacramentointerfaith.org
SUMMARY:Holistic Wellness
DESCRIPTION:
URL:https://sacramentointerfaith.org/event/holistic-wellness/
CATEGORIES:Event
END:VEVENT
BEGIN:VEVENT
DTSTART;VALUE=DATE:20201228
DTEND;VALUE=DATE:20201229
DTSTAMP:20260424T093426
CREATED:20201209T134016Z
LAST-MODIFIED:20201209T134016Z
UID:3231-1609113600-1609199999@sacramentointerfaith.org
SUMMARY:Christian: Holy Innocents
DESCRIPTION:
URL:https://sacramentointerfaith.org/event/christian-holy-innocents/
CATEGORIES:Event
END:VEVENT
BEGIN:VEVENT
DTSTART;VALUE=DATE:20201227
DTEND;VALUE=DATE:20201228
DTSTAMP:20260424T093426
CREATED:20201209T133954Z
LAST-MODIFIED:20201209T133954Z
UID:3229-1609027200-1609113599@sacramentointerfaith.org
SUMMARY:Catholic Christian: Holy Family
DESCRIPTION:
URL:https://sacramentointerfaith.org/event/catholic-christian-holy-family/
CATEGORIES:Event
END:VEVENT
BEGIN:VEVENT
DTSTART;VALUE=DATE:20201227
DTEND;VALUE=DATE:20201228
DTSTAMP:20260424T093426
CREATED:20201209T133929Z
LAST-MODIFIED:20201209T133929Z
UID:3227-1609027200-1609113599@sacramentointerfaith.org
SUMMARY:Christian: Saint John - Apostle and Evangelist
DESCRIPTION:
URL:https://sacramentointerfaith.org/event/christian-saint-john-apostle-and-evangelist/
CATEGORIES:Event
END:VEVENT
BEGIN:VEVENT
DTSTART;TZID=America/Los_Angeles:20201226T183000
DTEND;TZID=America/Los_Angeles:20210106T190000
DTSTAMP:20260424T093426
CREATED:20201223T164333Z
LAST-MODIFIED:20201223T164333Z
UID:3283-1609007400-1609959600@sacramentointerfaith.org
SUMMARY:Twelve Days of Christmas
DESCRIPTION:
URL:https://sacramentointerfaith.org/event/twelve-days-of-christmas/
CATEGORIES:Event
END:VEVENT
BEGIN:VEVENT
DTSTART;VALUE=DATE:20201226
DTEND;VALUE=DATE:20201227
DTSTAMP:20260424T093426
CREATED:20201209T133905Z
LAST-MODIFIED:20201209T133905Z
UID:3225-1608940800-1609027199@sacramentointerfaith.org
SUMMARY:Christian: St Stephen's Day
DESCRIPTION:
URL:https://sacramentointerfaith.org/event/christian-st-stephens-day/
CATEGORIES:Event
END:VEVENT
BEGIN:VEVENT
DTSTART;VALUE=DATE:20201226
DTEND;VALUE=DATE:20201227
DTSTAMP:20260424T093426
CREATED:20201209T133803Z
LAST-MODIFIED:20201209T133803Z
UID:3223-1608940800-1609027199@sacramentointerfaith.org
SUMMARY:Zoroastrian: Zarathosht Diso (Death of Prophet Zarathushtra)
DESCRIPTION:*Zartosht no-diso\, or Zarthost no deeso\, is an important day of remembrance in the Zoroastrian religion. It is a commemoration of the death anniversary of the prophet Zoroaster\, the creator of the Zorastrian faith. It is observed on the 11th day (Khorshed) of the 10th month (Dae). In the seasonal calendar\, Zarthost No-Diso falls on December 26.
URL:https://sacramentointerfaith.org/event/zoroastrian-zarathosht-diso-death-of-prophet-zarathushtra/
CATEGORIES:Event
END:VEVENT
BEGIN:VEVENT
DTSTART;VALUE=DATE:20201225
DTEND;VALUE=DATE:20201226
DTSTAMP:20260424T093426
CREATED:20201209T133712Z
LAST-MODIFIED:20201209T133712Z
UID:3221-1608854400-1608940799@sacramentointerfaith.org
SUMMARY:Orthodox Christian: Feast of the Nativity
DESCRIPTION:
URL:https://sacramentointerfaith.org/event/orthodox-christian-feast-of-the-nativity/
CATEGORIES:Event
END:VEVENT
BEGIN:VEVENT
DTSTART;VALUE=DATE:20201225
DTEND;VALUE=DATE:20201226
DTSTAMP:20260424T093426
CREATED:20201209T133647Z
LAST-MODIFIED:20201209T133647Z
UID:3219-1608854400-1608940799@sacramentointerfaith.org
SUMMARY:Christian: Christmas
DESCRIPTION:*Christmas (or Feast of the Nativity) is an annual festival commemorating the birth of Jesus Christ\, observed primarily on December 25 as a religious and cultural celebration among billions of people around the world.
URL:https://sacramentointerfaith.org/event/christian-christmas/
CATEGORIES:Event
END:VEVENT
BEGIN:VEVENT
DTSTART;VALUE=DATE:20201224
DTEND;VALUE=DATE:20201225
DTSTAMP:20260424T093426
CREATED:20201209T133603Z
LAST-MODIFIED:20201209T133603Z
UID:3217-1608768000-1608854399@sacramentointerfaith.org
SUMMARY:Christian: Christmas Eve
DESCRIPTION:
URL:https://sacramentointerfaith.org/event/christian-christmas-eve/
CATEGORIES:Event
END:VEVENT
BEGIN:VEVENT
DTSTART;VALUE=DATE:20201221
DTEND;VALUE=DATE:20201222
DTSTAMP:20260424T093426
CREATED:20201209T133533Z
LAST-MODIFIED:20201209T133533Z
UID:3215-1608508800-1608595199@sacramentointerfaith.org
SUMMARY:Wicca/Pagan: Yule – Litha – Northern/Southern hemispheres
DESCRIPTION:*Yule or Yuletide (“Yule time”) is a festival observed by the historical Germanic peoples. Scholars have connected the celebration to the Wild Hunt\, the god Odin\, and the pagan Anglo-Saxon Mōdraniht. It later underwent Christianized reformulation resulting in the term Christmastide. Terms with an etymological equivalent to Yule are used in the Nordic countries for Christmas with its religious rites\, but also for the holidays of this season. Today\, Yule is also used to a lesser extent in the English-speaking world as a synonym for Christmas. Present-day Christmas customs such as the Yule log\, Yule goat\, Yule boar\, Yule singing\, and others stem from pagan Yule. Today the event is celebrated in Heathenry and some other forms of Modern Paganism.
URL:https://sacramentointerfaith.org/event/wicca-pagan-yule-litha-northern-southern-hemispheres/
CATEGORIES:Event
END:VEVENT
BEGIN:VEVENT
DTSTART;VALUE=DATE:20201221
DTEND;VALUE=DATE:20201222
DTSTAMP:20260424T093426
CREATED:20201209T133416Z
LAST-MODIFIED:20201209T133416Z
UID:3213-1608508800-1608595199@sacramentointerfaith.org
SUMMARY:Christian: Solstice
DESCRIPTION:
URL:https://sacramentointerfaith.org/event/christian-solstice/
CATEGORIES:Event
END:VEVENT
BEGIN:VEVENT
DTSTART;VALUE=DATE:20201216
DTEND;VALUE=DATE:20201226
DTSTAMP:20260424T093426
CREATED:20201209T133342Z
LAST-MODIFIED:20201209T133342Z
UID:3211-1608076800-1608940799@sacramentointerfaith.org
SUMMARY:Hispanic Christian: Posadas Navidenas
DESCRIPTION:
URL:https://sacramentointerfaith.org/event/hispanic-christian-posadas-navidenas/
CATEGORIES:Event
END:VEVENT
BEGIN:VEVENT
DTSTART;VALUE=DATE:20201214
DTEND;VALUE=DATE:20201217
DTSTAMP:20260424T093426
CREATED:20201209T152823Z
LAST-MODIFIED:20201209T152823Z
UID:3259-1607904000-1608163199@sacramentointerfaith.org
SUMMARY:Raja Yoga Meditation for Total Well-Being
DESCRIPTION:
URL:https://sacramentointerfaith.org/event/raja-yoga-meditation-for-total-well-being/
CATEGORIES:Event
END:VEVENT
BEGIN:VEVENT
DTSTART;TZID=America/Los_Angeles:20201212T100000
DTEND;TZID=America/Los_Angeles:20201212T130000
DTSTAMP:20260424T093426
CREATED:20201209T145609Z
LAST-MODIFIED:20201209T145609Z
UID:3250-1607767200-1607778000@sacramentointerfaith.org
SUMMARY:Human Rights Day 2020
DESCRIPTION:This special event—hosted by the United Nations Association-SF in honor of Human Rights Day 2020—will bring together leading researchers\, activists\, and advocates to discuss how digital technologies are affecting racial justice-related issues in the Bay Area and beyond. The second half of the event will be a workshop led by the Human Rights Center’s Investigations Lab at Berkeley Law\, designed to share practical skills for navigating social media and staying resilient in the face of large quantities of misinformation and racialized violence online. Register here.
URL:https://sacramentointerfaith.org/event/human-rights-day-2020/
CATEGORIES:Event
END:VEVENT
BEGIN:VEVENT
DTSTART;VALUE=DATE:20201212
DTEND;VALUE=DATE:20201213
DTSTAMP:20260424T093426
CREATED:20201209T133311Z
LAST-MODIFIED:20201209T133311Z
UID:3209-1607731200-1607817599@sacramentointerfaith.org
SUMMARY:Catholic Christian: Feast day - Our Lady of Guadalupe
DESCRIPTION:
URL:https://sacramentointerfaith.org/event/catholic-christian-feast-day-our-lady-of-guadalupe/
CATEGORIES:Event
END:VEVENT
BEGIN:VEVENT
DTSTART;TZID=America/Los_Angeles:20201211T123000
DTEND;TZID=America/Los_Angeles:20201211T130000
DTSTAMP:20260424T093426
CREATED:20201209T151348Z
LAST-MODIFIED:20201209T163846Z
UID:3255-1607689800-1607691600@sacramentointerfaith.org
SUMMARY:Interfaith Council of Elk Grove: Monthly Prayer Devotional
DESCRIPTION:  \nThe Interfaith Council of Elk Grove is pleased to announce the sponsorship and the continuation of a monthly Prayer Devotional\, which debuts this Friday\, December 11th\, beginning at 12:30\, lasting until 1:00. \nWe encourage you to join with us and also to volunteer to participate in an upcoming broadcast. Prayers and short spiritual thoughts\, expressions are welcome! \nAll are invited to join Zoom.
URL:https://sacramentointerfaith.org/event/interfaith-council-of-elk-grove-monthly-prayer-devotional/
CATEGORIES:Event
END:VEVENT
BEGIN:VEVENT
DTSTART;VALUE=DATE:20201210
DTEND;VALUE=DATE:20201219
DTSTAMP:20260424T093426
CREATED:20201209T133243Z
LAST-MODIFIED:20201209T133243Z
UID:3207-1607558400-1608335999@sacramentointerfaith.org
SUMMARY:Jewish: Hanukkah
DESCRIPTION:*Hanukkah is an eight-day festival commemorating the rededication of the Temple in 165 BC by the Maccabees after its desecration by the Syrians. It is marked by the successive kindling of eight lights.
URL:https://sacramentointerfaith.org/event/jewish-hanukkah/
CATEGORIES:Event
END:VEVENT
BEGIN:VEVENT
DTSTART;VALUE=DATE:20201208
DTEND;VALUE=DATE:20201209
DTSTAMP:20260424T093426
CREATED:20201209T133137Z
LAST-MODIFIED:20201209T133137Z
UID:3205-1607385600-1607471999@sacramentointerfaith.org
SUMMARY:Catholic Christian: Immaculate Conception of Mary
DESCRIPTION:
URL:https://sacramentointerfaith.org/event/catholic-christian-immaculate-conception-of-mary/
CATEGORIES:Event
END:VEVENT
BEGIN:VEVENT
DTSTART;VALUE=DATE:20201208
DTEND;VALUE=DATE:20201209
DTSTAMP:20260424T093426
CREATED:20201209T133111Z
LAST-MODIFIED:20201209T133111Z
UID:3203-1607385600-1607471999@sacramentointerfaith.org
SUMMARY:Buddhism: Bodhi Day
DESCRIPTION:*Bodhi Day is the Buddhist holiday that commemorates the day that the historical Buddha\, Siddhartha Gautama\, experienced enlightenment.
URL:https://sacramentointerfaith.org/event/buddhism-bodhi-day/
CATEGORIES:Event
END:VEVENT
BEGIN:VEVENT
DTSTART;VALUE=DATE:20201206
DTEND;VALUE=DATE:20201207
DTSTAMP:20260424T093426
CREATED:20201209T133027Z
LAST-MODIFIED:20201209T133027Z
UID:3201-1607212800-1607299199@sacramentointerfaith.org
SUMMARY:Christian: Saint Nicholas Day
DESCRIPTION:
URL:https://sacramentointerfaith.org/event/christian-saint-nicholas-day/
CATEGORIES:Event
END:VEVENT
BEGIN:VEVENT
DTSTART;TZID=America/Los_Angeles:20201130T120000
DTEND;TZID=America/Los_Angeles:20201130T130000
DTSTAMP:20260424T093426
CREATED:20201125T152241Z
LAST-MODIFIED:20201126T005822Z
UID:3180-1606737600-1606741200@sacramentointerfaith.org
SUMMARY:How can we Help Uyghur Muslims?
DESCRIPTION:The Chinese government has oppressed Uyghur Muslims for generations: they cannot fast in Ramadan\, they are force-fed alcohol\, put in re-education camps\, the women are sterilized – and they face even more hardships. \nAll the apparatus of the Chinese state are being used to destroy the Islamic identity of the Muslims of East Turkestan (called Xinjiang – ‘new province’ – by China). It is our duty as Muslims to be aware of what is happening\, and what we can do to help them. \nPanelists include: \n\nArsalan Hidayat\, of Uyghur Revival Association\nDilnaz Kerim & Maira Aisa\, of UK Uyghur Community\nImam Shakeel Begg\, of Lewisham Islamic Centre\nShaykh Suliman Gani\, of Purley Masjid\n\nRegister
URL:https://sacramentointerfaith.org/event/how-can-we-help-uyghur-muslims/
CATEGORIES:Event,Fundraiser
END:VEVENT
BEGIN:VEVENT
DTSTART;TZID=America/Los_Angeles:20201124T180000
DTEND;TZID=America/Los_Angeles:20201124T190000
DTSTAMP:20260424T093426
CREATED:20201125T151029Z
LAST-MODIFIED:20201125T151029Z
UID:3176-1606240800-1606244400@sacramentointerfaith.org
SUMMARY:Interfaith Thanksgiving Service
DESCRIPTION:Join The Zoom
URL:https://sacramentointerfaith.org/event/interfaith-thanksgiving-service/
CATEGORIES:Event,Holiday
END:VEVENT
BEGIN:VEVENT
DTSTART;VALUE=DATE:20201116
DTEND;VALUE=DATE:20201122
DTSTAMP:20260424T093426
CREATED:20201111T133335Z
LAST-MODIFIED:20201111T133335Z
UID:3162-1605484800-1606003199@sacramentointerfaith.org
SUMMARY:BK Meditation Center Events
DESCRIPTION:
URL:https://sacramentointerfaith.org/event/bk-meditation-center-events/
CATEGORIES:Event,Zoom
END:VEVENT
BEGIN:VEVENT
DTSTART;TZID=America/Los_Angeles:20200829T150000
DTEND;TZID=America/Los_Angeles:20200829T170000
DTSTAMP:20260424T093426
CREATED:20200819T153401Z
LAST-MODIFIED:20200819T153401Z
UID:3066-1598713200-1598720400@sacramentointerfaith.org
SUMMARY:Let Your Vision Be World Embracing
DESCRIPTION:Throughout the month of August\, the Elk Grove Diversity and Inclusion Commission and the City of Elk Grove will offer virtual opportunities to explore the many cultures and faith groups that make up our community. \nThe Baha’is of Elk Grove will be participating in the celebration of the city of Elk Grove’s Diversity Month on Saturday\, August 29th at 3:00 pm via Zoom. \nIn the attachment\, you will find the Baha’i community of Elk Grove’s flyer on the presentation of the Baha’i Faith. \nWe encourage you to invite the wider community\, your faith group\, your family\, and friends to attend. \nWe have included the Zoom link and the city Elk Grove’s website for Diversity Month in August. \nTopic: “Let your vision be world embracing…” The Baha’i Faith and Its World View\nTime: Aug 29\, 2020\, 03:00 PM Pacific Time (US and Canada) \nJoin Zoom Meeting\nhttps://us02web.zoom.us/j/81754475727\nMeeting ID: 817 5447 5727 \nDiversity Month – City Of Elk Grove Website \n \nhttps://www.elkgrovecity.org/visitors/things_to_do/special_events/elk_grove_multicultural_festival\n\n \nIf you have any questions or concerns\, please don’t hesitate to contact the Elk Grove Local Spiritual Assembly of Elk Grove.\nSPIRITUAL ASSEMBLY OF THE BAHÁ’ÍS OF ELK GROVE\,\nKedi Eshetu-Davidson\, Corresponding Secretary\nlsaelkgrove@gmail.com\n(916) 790-6263
URL:https://sacramentointerfaith.org/event/let-your-vision-be-world-embracing/
CATEGORIES:Event,Virtual,Zoom
END:VEVENT
END:VCALENDAR