BEGIN:VCALENDAR
VERSION:2.0
PRODID:-//Interfaith Council of Greater Sacramento - ECPv6.15.20//NONSGML v1.0//EN
CALSCALE:GREGORIAN
METHOD:PUBLISH
X-WR-CALNAME:Interfaith Council of Greater Sacramento
X-ORIGINAL-URL:https://sacramentointerfaith.org
X-WR-CALDESC:Events for Interfaith Council of Greater Sacramento
REFRESH-INTERVAL;VALUE=DURATION:PT1H
X-Robots-Tag:noindex
X-PUBLISHED-TTL:PT1H
BEGIN:VTIMEZONE
TZID:America/Los_Angeles
BEGIN:DAYLIGHT
TZOFFSETFROM:-0800
TZOFFSETTO:-0700
TZNAME:PDT
DTSTART:20190310T100000
END:DAYLIGHT
BEGIN:STANDARD
TZOFFSETFROM:-0700
TZOFFSETTO:-0800
TZNAME:PST
DTSTART:20191103T090000
END:STANDARD
BEGIN:DAYLIGHT
TZOFFSETFROM:-0800
TZOFFSETTO:-0700
TZNAME:PDT
DTSTART:20200308T100000
END:DAYLIGHT
BEGIN:STANDARD
TZOFFSETFROM:-0700
TZOFFSETTO:-0800
TZNAME:PST
DTSTART:20201101T090000
END:STANDARD
BEGIN:DAYLIGHT
TZOFFSETFROM:-0800
TZOFFSETTO:-0700
TZNAME:PDT
DTSTART:20210314T100000
END:DAYLIGHT
BEGIN:STANDARD
TZOFFSETFROM:-0700
TZOFFSETTO:-0800
TZNAME:PST
DTSTART:20211107T090000
END:STANDARD
BEGIN:DAYLIGHT
TZOFFSETFROM:-0800
TZOFFSETTO:-0700
TZNAME:PDT
DTSTART:20220313T100000
END:DAYLIGHT
BEGIN:STANDARD
TZOFFSETFROM:-0700
TZOFFSETTO:-0800
TZNAME:PST
DTSTART:20221106T090000
END:STANDARD
BEGIN:DAYLIGHT
TZOFFSETFROM:-0800
TZOFFSETTO:-0700
TZNAME:PDT
DTSTART:20230312T100000
END:DAYLIGHT
BEGIN:STANDARD
TZOFFSETFROM:-0700
TZOFFSETTO:-0800
TZNAME:PST
DTSTART:20231105T090000
END:STANDARD
END:VTIMEZONE
BEGIN:VEVENT
DTSTART;TZID=America/Los_Angeles:20220924T100000
DTEND;TZID=America/Los_Angeles:20220924T130000
DTSTAMP:20260424T093406
CREATED:20220803T145508Z
LAST-MODIFIED:20220803T145508Z
UID:4238-1664013600-1664024400@sacramentointerfaith.org
SUMMARY:Loaves and Fishes Service Project
DESCRIPTION:The Interfaith Council Board members will be doing a service project at Loaves and Fishes on September 24th\, 10 am – 1 pm. \nPlease contact the Secretary at Secretary@sacramentointerfaith.org if you would like to help us serve lunch.
URL:https://sacramentointerfaith.org/event/loaves-and-fishes-service-project/
CATEGORIES:Drive
END:VEVENT
BEGIN:VEVENT
DTSTART;TZID=America/Los_Angeles:20201214T100000
DTEND;TZID=America/Los_Angeles:20201214T120000
DTSTAMP:20260424T093406
CREATED:20201028T140926Z
LAST-MODIFIED:20201209T134539Z
UID:3114-1607940000-1607947200@sacramentointerfaith.org
SUMMARY:Sacramento Self-Help Housing Navigator
DESCRIPTION:
URL:https://sacramentointerfaith.org/event/sacramento-self-help-housing-navigator/
LOCATION:Lutheran Church of Our Redeemer\, 4641 Marconi Ave\, Sacramento\, CA\, 95821\, United States
CATEGORIES:Drive
END:VEVENT
BEGIN:VEVENT
DTSTART;VALUE=DATE:20200901
DTEND;VALUE=DATE:20201001
DTSTAMP:20260424T093406
CREATED:20200902T055832Z
LAST-MODIFIED:20200902T055832Z
UID:3087-1598918400-1601510399@sacramentointerfaith.org
SUMMARY:Donation Drive
DESCRIPTION:
URL:https://sacramentointerfaith.org/event/donation-drive/
LOCATION:Lutheran Church of Our Redeemer\, 4641 Marconi Ave\, Sacramento\, CA\, 95821\, United States
CATEGORIES:Drive
END:VEVENT
BEGIN:VEVENT
DTSTART;VALUE=DATE:20200901
DTEND;VALUE=DATE:20201001
DTSTAMP:20260424T093406
CREATED:20200902T055630Z
LAST-MODIFIED:20200902T055630Z
UID:3080-1598918400-1601510399@sacramentointerfaith.org
SUMMARY:School Supply Drive
DESCRIPTION:
URL:https://sacramentointerfaith.org/event/school-supply-drive/
LOCATION:2230 Arden Way suite HSacramento\, CA 95825\, 2230 Arden Way\, Suite H\, Sacramento\, CA\, 95825\, United States
CATEGORIES:Drive
END:VEVENT
END:VCALENDAR